- Раздел: Друзья, встречи
- Дата съёмки: 11.09.2008 17:04
- Дата загрузки фото: 12.09.2008 19:58
- Оригинальная фотография: 2592 x 2000 (1,5 Мб)
- Технические характеристики:
- Фотоаппарат: Nikon D200
- Выдержка: 1/640
- Гиперфокальное расстояние: 21,63 m
- Диафрагма: 2,8
- Светочувствительность: 125
- Фокусное расстояние: 35,0mm (35mm эквивалент: 52,0mm)
- Полный EXIF
- Adobe
- ColorTransform: YCbCr
- Composite
- Aperture: 2,8
- CircleOfConfusion: 0,020 mm
- FocalLength35efl: 35,0mm (35mm equivalent: 52,0mm)
- HyperfocalDistance: 21,63 m
- LightValue: 12,0
- ScaleFactor35efl: 1,5
- ShutterSpeed: 1/640
- ExifIFD
- ApertureValue: 2,8
- CFAPattern: [Green,Red][Blue,Green]
- Contrast: High
- CreateDate: 2008:09:11 17:04:26
- CustomRendered: Normal
- DateTimeOriginal: 2008:09:11 17:04:26
- DigitalZoomRatio: 1
- ExposureCompensation: 0
- ExposureMode: Auto
- ExposureProgram: Aperture-priority AE
- ExposureTime: 1/640
- FNumber: 2,8
- Flash: No Flash
- FocalLength: 35,0mm
- FocalLengthIn35mmFormat: 52mm
- GainControl: None
- ISO: 125
- LightSource: Unknown (0)
- MaxApertureValue: 1,0
- MeteringMode: Spot
- Saturation: High
- SceneCaptureType: Standard
- SceneType: Directly photographed
- SensingMethod: One-chip color area
- Sharpness: Hard
- ShutterSpeedValue: 1/640
- UserComment: ILYA_MGP@MAIL.RU;ICQ:86080981 (C)TiN
- WhiteBalance: Auto
- ICC-header
- ICC-meas
- ICC-view
- IFD0
- Make: NIKON CORPORATION
- Model: NIKON D200
- ModifyDate: 2008:09:11 20:28:32
- Software: Ver.2.00
- XMP-aux
- ImageNumber: 16038
- Lens: 0.0 mm f/0.0
- LensInfo: 0/10 0/10 0/10 0/10
- XMP-crs
- AlreadyApplied: True
- BlueHue: 0
- BlueSaturation: 0
- Brightness: +56
- CameraProfile: ACR 4.4
- ChromaticAberrationB: 0
- ChromaticAberrationR: 0
- Clarity: 0
- ColorNoiseReduction: 25
- Contrast: +50
- ConvertToGrayscale: False
- CropAngle: 0
- CropBottom: 1
- CropHeight: 2592
- CropLeft: 0.168703
- CropRight: 0.685297
- CropTop: 0
- CropUnit: 0
- CropWidth: 2000
- Defringe: 0
- Exposure: +1.52
- FillLight: 0
- GreenHue: 0
- GreenSaturation: 0
- HasCrop: True
- HasSettings: True
- HighlightRecovery: 36
- HueAdjustmentAqua: 0
- HueAdjustmentBlue: 0
- HueAdjustmentGreen: 0
- HueAdjustmentMagenta: 0
- HueAdjustmentOrange: 0
- HueAdjustmentPurple: 0
- HueAdjustmentRed: 0
- HueAdjustmentYellow: 0
- LuminanceAdjustmentAqua: 0
- LuminanceAdjustmentBlue: 0
- LuminanceAdjustmentGreen: 0
- LuminanceAdjustmentMagenta: 0
- LuminanceAdjustmentOrange: 0
- LuminanceAdjustmentPurple: 0
- LuminanceAdjustmentRed: 0
- LuminanceAdjustmentYellow: 0
- LuminanceSmoothing: 0
- ParametricDarks: 0
- ParametricHighlightSplit: 75
- ParametricHighlights: 0
- ParametricLights: 0
- ParametricMidtoneSplit: 50
- ParametricShadowSplit: 25
- ParametricShadows: 0
- PostCropVignetteAmount: 0
- RedHue: 0
- RedSaturation: 0
- Saturation: 0
- SaturationAdjustmentAqua: 0
- SaturationAdjustmentBlue: 0
- SaturationAdjustmentGreen: 0
- SaturationAdjustmentMagenta: 0
- SaturationAdjustmentOrange: 0
- SaturationAdjustmentPurple: 0
- SaturationAdjustmentRed: 0
- SaturationAdjustmentYellow: 0
- ShadowTint: 0
- Shadows: 0
- SharpenDetail: 25
- SharpenEdgeMasking: 0
- SharpenRadius: +1.0
- Sharpness: 25
- SplitToningBalance: 0
- SplitToningHighlightHue: 0
- SplitToningHighlightSaturation: 0
- SplitToningShadowHue: 0
- SplitToningShadowSaturation: 0
- Temperature: 4200
- Tint: 0
- ToneCurve: 0, 0, 32, 22, 64, 56, 128, 128, 192, 196, 255, 255
- ToneCurveName: Medium Contrast
- Version: 4.5
- Vibrance: 0
- VignetteAmount: 0
- XMP-exif
- DateTimeDigitized: 2008:09:11 17:04:26.55+03:00
- DateTimeOriginal: 2008:09:11 17:04:26.55+03:00
- ExifImageLength: 2000
- ExifImageWidth: 2592
- FlashFired: False
- FlashFunction: False
- FlashMode: Unknown
- FlashRedEyeMode: False
- FlashReturn: No return detection
- FocalLengthIn35mmFormat: 52
- SubjectDistanceRange: Unknown
- XMP-tiff
- ImageHeight: 2000
- ImageWidth: 2592
- XMP-xmp
- CreateDate: 2008:09:11 17:04:26.55+03:00
- ModifyDate: 2008:09:11 20:28:32+03:00
- Просмотров: 154
- Рейтинг: голосов еще нет
- Отзывов: 0