- Раздел: Друзья, встречи
- Дата съёмки: 11.09.2008 17:03
- Дата загрузки фото: 12.09.2008 19:58
- Оригинальная фотография: 3474 x 2304 (1,5 Мб)
- Технические характеристики:
- Фотоаппарат: Nikon D200
- Выдержка: 1/320
- Гиперфокальное расстояние: 54,36 m
- Диафрагма: 4,5
- Светочувствительность: 125
- Фокусное расстояние: 70,0mm (35mm эквивалент: 105,0mm)
- Полный EXIF
- Adobe
- ColorTransform: YCbCr
- Composite
- Aperture: 4,5
- CircleOfConfusion: 0,020 mm
- FocalLength35efl: 70,0mm (35mm equivalent: 105,0mm)
- HyperfocalDistance: 54,36 m
- LightValue: 12,3
- ScaleFactor35efl: 1,5
- ShutterSpeed: 1/320
- ExifIFD
- ApertureValue: 4,5
- CFAPattern: [Green,Red][Blue,Green]
- Contrast: High
- CreateDate: 2008:09:11 17:03:23
- CustomRendered: Normal
- DateTimeOriginal: 2008:09:11 17:03:23
- DigitalZoomRatio: 1
- ExposureCompensation: 0
- ExposureMode: Auto
- ExposureProgram: Aperture-priority AE
- ExposureTime: 1/320
- FNumber: 4,5
- Flash: No Flash
- FocalLength: 70,0mm
- FocalLengthIn35mmFormat: 105mm
- GainControl: None
- ISO: 125
- LightSource: Unknown (0)
- MaxApertureValue: 4,0
- MeteringMode: Spot
- Saturation: High
- SceneCaptureType: Standard
- SceneType: Directly photographed
- SensingMethod: One-chip color area
- Sharpness: Hard
- ShutterSpeedValue: 1/320
- UserComment: ILYA_MGP@MAIL.RU;ICQ:86080981 (C)TiN
- WhiteBalance: Auto
- ICC-header
- ICC-meas
- ICC-view
- IFD0
- Make: NIKON CORPORATION
- Model: NIKON D200
- ModifyDate: 2008:09:11 20:28:11
- Software: Ver.2.00
- XMP-aux
- ImageNumber: 16037
- Lens: 70.0-210.0 mm f/4.0-5.6
- LensInfo: 700/10 2100/10 40/10 56/10
- XMP-crs
- AlreadyApplied: True
- BlueHue: 0
- BlueSaturation: 0
- Brightness: +54
- CameraProfile: ACR 4.4
- ChromaticAberrationB: 0
- ChromaticAberrationR: 0
- Clarity: 0
- ColorNoiseReduction: 25
- Contrast: +38
- ConvertToGrayscale: False
- CropAngle: 0
- CropBottom: 0.88902
- CropHeight: 2304
- CropLeft: 0.102767
- CropRight: 1
- CropTop: 0
- CropUnit: 0
- CropWidth: 3474
- Defringe: 0
- Exposure: 0.00
- FillLight: 0
- GreenHue: 0
- GreenSaturation: 0
- HasCrop: True
- HasSettings: True
- HighlightRecovery: 19
- HueAdjustmentAqua: 0
- HueAdjustmentBlue: 0
- HueAdjustmentGreen: 0
- HueAdjustmentMagenta: 0
- HueAdjustmentOrange: 0
- HueAdjustmentPurple: 0
- HueAdjustmentRed: 0
- HueAdjustmentYellow: 0
- LuminanceAdjustmentAqua: 0
- LuminanceAdjustmentBlue: 0
- LuminanceAdjustmentGreen: 0
- LuminanceAdjustmentMagenta: 0
- LuminanceAdjustmentOrange: 0
- LuminanceAdjustmentPurple: 0
- LuminanceAdjustmentRed: 0
- LuminanceAdjustmentYellow: 0
- LuminanceSmoothing: 0
- ParametricDarks: 0
- ParametricHighlightSplit: 75
- ParametricHighlights: 0
- ParametricLights: 0
- ParametricMidtoneSplit: 50
- ParametricShadowSplit: 25
- ParametricShadows: 0
- PostCropVignetteAmount: 0
- RedHue: 0
- RedSaturation: 0
- Saturation: 0
- SaturationAdjustmentAqua: 0
- SaturationAdjustmentBlue: 0
- SaturationAdjustmentGreen: 0
- SaturationAdjustmentMagenta: 0
- SaturationAdjustmentOrange: 0
- SaturationAdjustmentPurple: 0
- SaturationAdjustmentRed: 0
- SaturationAdjustmentYellow: 0
- ShadowTint: 0
- Shadows: 5
- SharpenDetail: 25
- SharpenEdgeMasking: 0
- SharpenRadius: +1.0
- Sharpness: 25
- SplitToningBalance: 0
- SplitToningHighlightHue: 0
- SplitToningHighlightSaturation: 0
- SplitToningShadowHue: 0
- SplitToningShadowSaturation: 0
- Temperature: 4600
- Tint: 0
- ToneCurve: 0, 0, 32, 22, 64, 56, 128, 128, 192, 196, 255, 255
- ToneCurveName: Medium Contrast
- Version: 4.5
- Vibrance: 0
- VignetteAmount: 0
- XMP-exif
- DateTimeDigitized: 2008:09:11 17:03:23.08+03:00
- DateTimeOriginal: 2008:09:11 17:03:23.08+03:00
- ExifImageLength: 2304
- ExifImageWidth: 3474
- FlashFired: False
- FlashFunction: False
- FlashMode: Unknown
- FlashRedEyeMode: False
- FlashReturn: No return detection
- FocalLengthIn35mmFormat: 105
- SubjectDistanceRange: Unknown
- XMP-tiff
- ImageHeight: 2304
- ImageWidth: 3474
- XMP-xmp
- CreateDate: 2008:09:11 17:03:23.08+03:00
- ModifyDate: 2008:09:11 20:28:11+03:00
- Просмотров: 140
- Рейтинг: голосов еще нет
- Отзывов: 0