- Раздел: Друзья, встречи
- Дата съёмки: 11.09.2008 16:12
- Дата загрузки фото: 12.09.2008 20:01
- Оригинальная фотография: 3872 x 2592 (2,1 Мб)
- Технические характеристики:
- Фотоаппарат: Nikon D200
- Выдержка: 1/400
- Гиперфокальное расстояние: 3,17 m
- Диафрагма: 6,3
- Светочувствительность: 125
- Фокусное расстояние: 20,0mm (35mm эквивалент: 30,0mm)
- Полный EXIF
- Adobe
- ColorTransform: YCbCr
- Composite
- Aperture: 6,3
- CircleOfConfusion: 0,020 mm
- FocalLength35efl: 20,0mm (35mm equivalent: 30,0mm)
- HyperfocalDistance: 3,17 m
- LightValue: 13,6
- ScaleFactor35efl: 1,5
- ShutterSpeed: 1/400
- ExifIFD
- ApertureValue: 6,3
- CFAPattern: [Green,Red][Blue,Green]
- Contrast: High
- CreateDate: 2008:09:11 16:12:12
- CustomRendered: Normal
- DateTimeOriginal: 2008:09:11 16:12:12
- DigitalZoomRatio: 1
- ExposureCompensation: 0
- ExposureMode: Auto
- ExposureProgram: Aperture-priority AE
- ExposureTime: 1/400
- FNumber: 6,3
- Flash: No Flash
- FocalLength: 20,0mm
- FocalLengthIn35mmFormat: 30mm
- GainControl: None
- ISO: 125
- LightSource: Unknown (0)
- MaxApertureValue: 2,8
- MeteringMode: Spot
- Saturation: High
- SceneCaptureType: Standard
- SceneType: Directly photographed
- SensingMethod: One-chip color area
- Sharpness: Hard
- ShutterSpeedValue: 1/400
- UserComment: ILYA_MGP@MAIL.RU;ICQ:86080981 (C)TiN
- WhiteBalance: Auto
- ICC-header
- ICC-meas
- ICC-view
- IFD0
- Make: NIKON CORPORATION
- Model: NIKON D200
- ModifyDate: 2008:09:11 20:21:20
- Software: Ver.2.00
- XMP-aux
- ImageNumber: 15979
- Lens: 20.0 mm f/2.8
- LensInfo: 200/10 200/10 28/10 28/10
- XMP-crs
- AlreadyApplied: True
- BlueHue: 0
- BlueSaturation: 0
- Brightness: 0
- CameraProfile: ACR 4.4
- ChromaticAberrationB: 0
- ChromaticAberrationR: 0
- Clarity: 0
- ColorNoiseReduction: 25
- Contrast: +23
- ConvertToGrayscale: False
- Defringe: 0
- Exposure: -0.15
- FillLight: 0
- GreenHue: 0
- GreenSaturation: 0
- HasCrop: False
- HasSettings: True
- HighlightRecovery: 19
- HueAdjustmentAqua: 0
- HueAdjustmentBlue: 0
- HueAdjustmentGreen: 0
- HueAdjustmentMagenta: 0
- HueAdjustmentOrange: 0
- HueAdjustmentPurple: 0
- HueAdjustmentRed: 0
- HueAdjustmentYellow: 0
- LuminanceAdjustmentAqua: 0
- LuminanceAdjustmentBlue: 0
- LuminanceAdjustmentGreen: 0
- LuminanceAdjustmentMagenta: 0
- LuminanceAdjustmentOrange: 0
- LuminanceAdjustmentPurple: 0
- LuminanceAdjustmentRed: 0
- LuminanceAdjustmentYellow: 0
- LuminanceSmoothing: 0
- ParametricDarks: 0
- ParametricHighlightSplit: 75
- ParametricHighlights: 0
- ParametricLights: 0
- ParametricMidtoneSplit: 50
- ParametricShadowSplit: 25
- ParametricShadows: 0
- PostCropVignetteAmount: 0
- RedHue: 0
- RedSaturation: 0
- Saturation: 0
- SaturationAdjustmentAqua: 0
- SaturationAdjustmentBlue: 0
- SaturationAdjustmentGreen: 0
- SaturationAdjustmentMagenta: 0
- SaturationAdjustmentOrange: 0
- SaturationAdjustmentPurple: 0
- SaturationAdjustmentRed: 0
- SaturationAdjustmentYellow: 0
- ShadowTint: 0
- Shadows: 26
- SharpenDetail: 25
- SharpenEdgeMasking: 0
- SharpenRadius: +1.0
- Sharpness: 25
- SplitToningBalance: 0
- SplitToningHighlightHue: 0
- SplitToningHighlightSaturation: 0
- SplitToningShadowHue: 0
- SplitToningShadowSaturation: 0
- Temperature: 5500
- Tint: +10
- ToneCurve: 0, 0, 32, 22, 64, 56, 128, 128, 192, 196, 255, 255
- ToneCurveName: Medium Contrast
- Version: 4.5
- Vibrance: 0
- VignetteAmount: 0
- WhiteBalance: Daylight
- XMP-exif
- DateTimeDigitized: 2008:09:11 16:12:12.32+03:00
- DateTimeOriginal: 2008:09:11 16:12:12.32+03:00
- ExifImageLength: 2592
- ExifImageWidth: 3872
- FlashFired: False
- FlashFunction: False
- FlashMode: Unknown
- FlashRedEyeMode: False
- FlashReturn: No return detection
- FocalLengthIn35mmFormat: 30
- SubjectDistanceRange: Unknown
- XMP-tiff
- ImageHeight: 2592
- ImageWidth: 3872
- XMP-xmp
- CreateDate: 2008:09:11 16:12:12.32+03:00
- ModifyDate: 2008:09:11 20:21:20+03:00
- Просмотров: 171
- Рейтинг: голосов еще нет
- Отзывов: 0