- Раздел: Друзья, встречи
- Дата съёмки: 11.09.2008 16:08
- Дата загрузки фото: 12.09.2008 20:04
- Оригинальная фотография: 3131 x 2137 (2,0 Мб)
- Технические характеристики:
- Фотоаппарат: Nikon D200
- Выдержка: 1/250
- Гиперфокальное расстояние: 349,46 m
- Диафрагма: 6,3
- Светочувствительность: 125
- Фокусное расстояние: 210,0mm (35mm эквивалент: 315,0mm)
- Полный EXIF
- Adobe
- ColorTransform: YCbCr
- Composite
- Aperture: 6,3
- CircleOfConfusion: 0,020 mm
- FocalLength35efl: 210,0mm (35mm equivalent: 315,0mm)
- HyperfocalDistance: 349,46 m
- LightValue: 13,0
- ScaleFactor35efl: 1,5
- ShutterSpeed: 1/250
- ExifIFD
- ApertureValue: 6,3
- CFAPattern: [Green,Red][Blue,Green]
- Contrast: High
- CreateDate: 2008:09:11 16:08:25
- CustomRendered: Normal
- DateTimeOriginal: 2008:09:11 16:08:25
- DigitalZoomRatio: 1
- ExposureCompensation: 0
- ExposureMode: Auto
- ExposureProgram: Aperture-priority AE
- ExposureTime: 1/250
- FNumber: 6,3
- Flash: No Flash
- FocalLength: 210,0mm
- FocalLengthIn35mmFormat: 315mm
- GainControl: None
- ISO: 125
- LightSource: Unknown (0)
- MaxApertureValue: 5,7
- MeteringMode: Spot
- Saturation: High
- SceneCaptureType: Standard
- SceneType: Directly photographed
- SensingMethod: One-chip color area
- Sharpness: Hard
- ShutterSpeedValue: 1/250
- UserComment: ILYA_MGP@MAIL.RU;ICQ:86080981 (C)TiN
- WhiteBalance: Auto
- ICC-header
- ICC-meas
- ICC-view
- IFD0
- Make: NIKON CORPORATION
- Model: NIKON D200
- ModifyDate: 2008:09:11 20:18:03
- Software: Ver.2.00
- XMP-aux
- ImageNumber: 15954
- Lens: 70.0-210.0 mm f/4.0-5.6
- LensInfo: 700/10 2100/10 40/10 56/10
- XMP-crs
- AlreadyApplied: True
- BlueHue: 0
- BlueSaturation: 0
- Brightness: +55
- CameraProfile: ACR 4.4
- ChromaticAberrationB: 0
- ChromaticAberrationR: 0
- Clarity: 0
- ColorNoiseReduction: 25
- Contrast: +52
- ConvertToGrayscale: False
- CropAngle: -0.677357
- CropBottom: 0.930896
- CropHeight: 2137
- CropLeft: 0.168465
- CropRight: 0.983733
- CropTop: 0.12073
- CropUnit: 0
- CropWidth: 3131
- Defringe: 0
- Exposure: 0.00
- FillLight: 0
- GreenHue: 0
- GreenSaturation: 0
- HasCrop: True
- HasSettings: True
- HighlightRecovery: 9
- HueAdjustmentAqua: 0
- HueAdjustmentBlue: 0
- HueAdjustmentGreen: 0
- HueAdjustmentMagenta: 0
- HueAdjustmentOrange: 0
- HueAdjustmentPurple: 0
- HueAdjustmentRed: 0
- HueAdjustmentYellow: 0
- LuminanceAdjustmentAqua: 0
- LuminanceAdjustmentBlue: 0
- LuminanceAdjustmentGreen: 0
- LuminanceAdjustmentMagenta: 0
- LuminanceAdjustmentOrange: 0
- LuminanceAdjustmentPurple: 0
- LuminanceAdjustmentRed: 0
- LuminanceAdjustmentYellow: 0
- LuminanceSmoothing: 0
- ParametricDarks: 0
- ParametricHighlightSplit: 75
- ParametricHighlights: 0
- ParametricLights: 0
- ParametricMidtoneSplit: 50
- ParametricShadowSplit: 25
- ParametricShadows: 0
- PostCropVignetteAmount: 0
- RedHue: 0
- RedSaturation: 0
- Saturation: 0
- SaturationAdjustmentAqua: 0
- SaturationAdjustmentBlue: 0
- SaturationAdjustmentGreen: 0
- SaturationAdjustmentMagenta: 0
- SaturationAdjustmentOrange: 0
- SaturationAdjustmentPurple: 0
- SaturationAdjustmentRed: 0
- SaturationAdjustmentYellow: 0
- ShadowTint: 0
- Shadows: 11
- SharpenDetail: 25
- SharpenEdgeMasking: 0
- SharpenRadius: +1.0
- Sharpness: 25
- SplitToningBalance: 0
- SplitToningHighlightHue: 0
- SplitToningHighlightSaturation: 0
- SplitToningShadowHue: 0
- SplitToningShadowSaturation: 0
- Temperature: 5550
- Tint: 0
- ToneCurve: 0, 0, 32, 22, 64, 56, 128, 128, 192, 196, 255, 255
- ToneCurveName: Medium Contrast
- Version: 4.5
- Vibrance: 0
- VignetteAmount: 0
- XMP-exif
- DateTimeDigitized: 2008:09:11 16:08:25.00+03:00
- DateTimeOriginal: 2008:09:11 16:08:25.00+03:00
- ExifImageLength: 2137
- ExifImageWidth: 3131
- FlashFired: False
- FlashFunction: False
- FlashMode: Unknown
- FlashRedEyeMode: False
- FlashReturn: No return detection
- FocalLengthIn35mmFormat: 315
- SubjectDistanceRange: Unknown
- XMP-tiff
- ImageHeight: 2137
- ImageWidth: 3131
- XMP-xmp
- CreateDate: 2008:09:11 16:08:25.00+03:00
- ModifyDate: 2008:09:11 20:18:03+03:00
- Просмотров: 144
- Рейтинг: голосов еще нет
- Отзывов: 0