- Раздел: Друзья, встречи
- Дата съёмки: 11.09.2008 12:09
- Дата загрузки фото: 12.09.2008 20:17
- Оригинальная фотография: 3872 x 2592 (2,6 Мб)
- Технические характеристики:
- Фотоаппарат: Nikon D200
- Выдержка: 1/90
- Гиперфокальное расстояние: 34,45 m
- Диафрагма: 7,1
- Светочувствительность: 400
- Фокусное расстояние: 70,0mm (35mm эквивалент: 105,0mm)
- Полный EXIF
- Adobe
- ColorTransform: YCbCr
- Composite
- Aperture: 7,1
- CircleOfConfusion: 0,020 mm
- FocalLength35efl: 70,0mm (35mm equivalent: 105,0mm)
- HyperfocalDistance: 34,45 m
- LightValue: 10,1
- ScaleFactor35efl: 1,5
- ShutterSpeed: 1/90
- ExifIFD
- ApertureValue: 7,1
- CFAPattern: [Green,Red][Blue,Green]
- Contrast: High
- CreateDate: 2008:09:11 12:09:05
- CustomRendered: Normal
- DateTimeOriginal: 2008:09:11 12:09:05
- DigitalZoomRatio: 1
- ExposureCompensation: 0
- ExposureMode: Auto
- ExposureProgram: Aperture-priority AE
- ExposureTime: 1/90
- FNumber: 7,1
- Flash: No Flash
- FocalLength: 70,0mm
- FocalLengthIn35mmFormat: 105mm
- GainControl: Low gain up
- ISO: 400
- LightSource: Unknown (0)
- MaxApertureValue: 4,0
- MeteringMode: Multi-segment
- Saturation: High
- SceneCaptureType: Standard
- SceneType: Directly photographed
- SensingMethod: One-chip color area
- Sharpness: Hard
- ShutterSpeedValue: 1/90
- UserComment: ILYA_MGP@MAIL.RU;ICQ:86080981 (C)TiN
- WhiteBalance: Auto
- ICC-header
- ICC-meas
- ICC-view
- IFD0
- Make: NIKON CORPORATION
- Model: NIKON D200
- ModifyDate: 2008:09:11 19:50:54
- Software: Ver.2.00
- XMP-aux
- ImageNumber: 15794
- Lens: 70.0-210.0 mm f/4.0-5.6
- LensInfo: 700/10 2100/10 40/10 56/10
- XMP-crs
- AlreadyApplied: True
- BlueHue: 0
- BlueSaturation: 0
- Brightness: +38
- CameraProfile: ACR 4.4
- ChromaticAberrationB: 0
- ChromaticAberrationR: 0
- Clarity: 0
- ColorNoiseReduction: 25
- Contrast: +31
- ConvertToGrayscale: False
- Defringe: 0
- Exposure: +1.43
- FillLight: 0
- GreenHue: 0
- GreenSaturation: 0
- HasCrop: False
- HasSettings: True
- HighlightRecovery: 33
- HueAdjustmentAqua: 0
- HueAdjustmentBlue: 0
- HueAdjustmentGreen: 0
- HueAdjustmentMagenta: 0
- HueAdjustmentOrange: 0
- HueAdjustmentPurple: 0
- HueAdjustmentRed: 0
- HueAdjustmentYellow: 0
- LuminanceAdjustmentAqua: 0
- LuminanceAdjustmentBlue: 0
- LuminanceAdjustmentGreen: 0
- LuminanceAdjustmentMagenta: 0
- LuminanceAdjustmentOrange: 0
- LuminanceAdjustmentPurple: 0
- LuminanceAdjustmentRed: 0
- LuminanceAdjustmentYellow: 0
- LuminanceSmoothing: 0
- ParametricDarks: 0
- ParametricHighlightSplit: 75
- ParametricHighlights: 0
- ParametricLights: 0
- ParametricMidtoneSplit: 50
- ParametricShadowSplit: 25
- ParametricShadows: 0
- PostCropVignetteAmount: 0
- RedHue: 0
- RedSaturation: 0
- Saturation: 0
- SaturationAdjustmentAqua: 0
- SaturationAdjustmentBlue: 0
- SaturationAdjustmentGreen: 0
- SaturationAdjustmentMagenta: 0
- SaturationAdjustmentOrange: 0
- SaturationAdjustmentPurple: 0
- SaturationAdjustmentRed: 0
- SaturationAdjustmentYellow: 0
- ShadowTint: 0
- Shadows: 6
- SharpenDetail: 25
- SharpenEdgeMasking: 0
- SharpenRadius: +1.0
- Sharpness: 25
- SplitToningBalance: 0
- SplitToningHighlightHue: 0
- SplitToningHighlightSaturation: 0
- SplitToningShadowHue: 0
- SplitToningShadowSaturation: 0
- Temperature: 4300
- Tint: 0
- ToneCurve: 0, 0, 32, 22, 64, 56, 128, 128, 192, 196, 255, 255
- ToneCurveName: Medium Contrast
- Version: 4.5
- Vibrance: -19
- VignetteAmount: 0
- XMP-exif
- DateTimeDigitized: 2008:09:11 12:09:05.32+03:00
- DateTimeOriginal: 2008:09:11 12:09:05.32+03:00
- ExifImageLength: 2592
- ExifImageWidth: 3872
- FlashFired: False
- FlashFunction: False
- FlashMode: Unknown
- FlashRedEyeMode: False
- FlashReturn: No return detection
- FocalLengthIn35mmFormat: 105
- SubjectDistanceRange: Unknown
- XMP-tiff
- ImageHeight: 2592
- ImageWidth: 3872
- XMP-xmp
- CreateDate: 2008:09:11 12:09:05.32+03:00
- ModifyDate: 2008:09:11 19:50:54+03:00
- Просмотров: 369
- Рейтинг: голосов еще нет
- Отзывов: 0