234IMGP0916_.jpg |
![](img/title-line.gif) |
![](img/title-shadow.gif) | |
234IMGP0916_.jpg
- Раздел: Город
- Дата съёмки: 25.09.2008 13:16
- Дата загрузки фото: 25.09.2008 22:15
- Оригинальная фотография: 1334 x 992 (695 Кб)
- Технические характеристики:
- Фотоаппарат: Pentax K200D
- Выдержка: 1/1000
- Светочувствительность: 100
- Фокусное расстояние: 55,0 mm (35 mm equivalent: 82,0 mm)
- Экспокоррекция: +2
- Полный EXIF
- Adobe
- ColorTransform: YCbCr
- Composite
- CircleOfConfusion: 0,020 mm
- FOV: 24,0 deg
- FocalLength35efl: 55,0 mm (35 mm equivalent: 82,0 mm)
- ScaleFactor35efl: 1,5
- ShutterSpeed: 1/1000
- ExifIFD
- Contrast: Normal
- CreateDate: 2008:09:25 13:16:33
- CustomRendered: Normal
- DateTimeOriginal: 2008:09:25 13:16:33
- ExposureCompensation: +2
- ExposureMode: Manual
- ExposureProgram: Aperture-priority AE
- ExposureTime: 1/1000
- Flash: Off
- FocalLength: 55,0 mm
- FocalLengthIn35mmFormat: 82 mm
- ISO: 100
- MeteringMode: Center-weighted average
- Saturation: Normal
- SceneCaptureType: Standard
- SensingMethod: One-chip color area
- Sharpness: Normal
- ShutterSpeedValue: 1/1000
- SubjectDistanceRange: Unknown
- WhiteBalance: Auto
- ICC-header
- ICC-meas
- ICC-view
- IFD0
- Make: PENTAX
- Model: PENTAX K200D
- ModifyDate: 2008:09:24 20:04:03
- Software: K200D Ver 1.00
- XMP-aux
- XMP-crs
- AlreadyApplied: True
- BlueHue: 0
- BlueSaturation: 0
- Brightness: +56
- CameraProfile: ACR 4.4
- ChromaticAberrationB: 0
- ChromaticAberrationR: 0
- Clarity: +30
- ColorNoiseReduction: 0
- Contrast: +35
- ConvertToGrayscale: False
- CropAngle: 0
- CropBottom: 0.699846
- CropLeft: 0.330062
- CropRight: 0.674587
- CropTop: 0.31713
- Defringe: 0
- Exposure: +0.90
- FillLight: 10
- GreenHue: 0
- GreenSaturation: 0
- HasCrop: True
- HasSettings: True
- HighlightRecovery: 0
- HueAdjustmentAqua: 0
- HueAdjustmentBlue: 0
- HueAdjustmentGreen: 0
- HueAdjustmentMagenta: 0
- HueAdjustmentOrange: 0
- HueAdjustmentPurple: 0
- HueAdjustmentRed: 0
- HueAdjustmentYellow: 0
- LuminanceAdjustmentAqua: 0
- LuminanceAdjustmentBlue: 0
- LuminanceAdjustmentGreen: 0
- LuminanceAdjustmentMagenta: 0
- LuminanceAdjustmentOrange: 0
- LuminanceAdjustmentPurple: 0
- LuminanceAdjustmentRed: 0
- LuminanceAdjustmentYellow: 0
- LuminanceSmoothing: 0
- ParametricDarks: 0
- ParametricHighlightSplit: 75
- ParametricHighlights: 0
- ParametricLights: 0
- ParametricMidtoneSplit: 50
- ParametricShadowSplit: 25
- ParametricShadows: 0
- PostCropVignetteAmount: 0
- RawFileName: IMGP0916.DNG
- RedHue: 0
- RedSaturation: 0
- Saturation: +15
- SaturationAdjustmentAqua: 0
- SaturationAdjustmentBlue: 0
- SaturationAdjustmentGreen: 0
- SaturationAdjustmentMagenta: 0
- SaturationAdjustmentOrange: 0
- SaturationAdjustmentPurple: 0
- SaturationAdjustmentRed: 0
- SaturationAdjustmentYellow: 0
- ShadowTint: 0
- Shadows: 13
- SharpenDetail: 40
- SharpenEdgeMasking: 0
- SharpenRadius: +1.0
- Sharpness: 40
- SplitToningBalance: 0
- SplitToningHighlightHue: 0
- SplitToningHighlightSaturation: 0
- SplitToningShadowHue: 0
- SplitToningShadowSaturation: 0
- Temperature: 4800
- Tint: -5
- ToneCurve: 0, 0, 32, 22, 64, 56, 128, 128, 192, 196, 255, 255
- ToneCurveName: Medium Contrast
- Version: 4.5
- Vibrance: 0
- VignetteAmount: 0
- WhiteBalance: As Shot
- XMP-exif
- DateTimeDigitized: 2008:09:25 13:16:33+03:00
- DateTimeOriginal: 2008:09:25 13:16:33+03:00
- ExifImageHeight: 992
- ExifImageWidth: 1334
- FlashFired: False
- FlashFunction: False
- FlashMode: Off
- FlashRedEyeMode: False
- FlashReturn: No return detection
- XMP-tiff
- ImageHeight: 992
- ImageWidth: 1334
- XMP-xmp
- CreateDate: 2008:09:25 13:16:33+03:00
- CreatorTool: K200D Ver 1.00
- ModifyDate: 2008:09:24 20:04:03+01:00
- Просмотров: 327
- Рейтинг: голосов еще нет
- Отзывов: 0
Получить код для блога
Вставка фотографии в текущем разрешении |
Вставка миниатюры |
HTML (для вставки в блог):
BBCode (для вставки в форум):
Ссылка на фото:
Ссылка на миниатюру:
- Послать ссылку другу
Комментарии к фотографии |