- Раздел: Другое, разное
- Дата съёмки: 26.09.2008 00:57
- Дата загрузки фото: 26.09.2008 01:18
- Оригинальная фотография: 1087 x 1280 (329 Кб)
- Технические характеристики:
- Фотоаппарат: Canon EOS 5D
- Выдержка: 1/100
- Гиперфокальное расстояние: 2,13 m
- Диафрагма: 8,0
- Светочувствительность: 1000
- Фокусное расстояние: 15,0 mm (35 mm equivalent: 34,1 mm)
- Полный EXIF
- Adobe
- ColorTransform: YCbCr
- Composite
- Aperture: 8,0
- CircleOfConfusion: 0,013 mm
- FOV: 55,0 deg
- FocalLength35efl: 15,0 mm (35 mm equivalent: 34,1 mm)
- HyperfocalDistance: 2,13 m
- ScaleFactor35efl: 2,3
- ShutterSpeed: 1/100
- ExifIFD
- ApertureValue: 8,0
- ColorSpace: sRGB
- CreateDate: 2008:07:03 22:23:52
- CustomRendered: Normal
- DateTimeOriginal: 2008:07:03 22:23:52
- ExifImageHeight: 1280
- ExifImageWidth: 1087
- ExposureCompensation: 0
- ExposureMode: Auto
- ExposureProgram: Aperture-priority AE
- ExposureTime: 1/100
- FNumber: 8,0
- Flash: Off
- FocalLength: 15,0 mm
- ISO: 1000
- MaxApertureValue: 2,8
- MeteringMode: Multi-segment
- SceneCaptureType: Standard
- ShutterSpeedValue: 1/100
- WhiteBalance: Manual
- ICC-header
- ICC-meas
- ICC-view
- IFD0
- BitsPerSample: 16 16 16
- ImageHeight: 3168
- ImageWidth: 2112
- Make: Canon
- Model: Canon EOS 5D
- ModifyDate: 2008:09:26 00:57:55
- Orientation: Horizontal (normal)
- PhotometricInterpretation: RGB
- PlanarConfiguration: Chunky
- SamplesPerPixel: 3
- IFD1
- IPTC
- XMP-aux
- Firmware: 1.1.1
- FlashCompensation: 0
- ImageNumber: 12
- Lens: EF15mm f/2.8 Fisheye
- LensInfo: 15/1 15/1 0/0 0/0
- SerialNumber: 3131307142
- XMP-crs
- AlreadyApplied: True
- BlueHue: 0
- BlueSaturation: 0
- Brightness: +10
- CameraProfile: Embedded
- ChromaticAberrationB: 0
- ChromaticAberrationR: +2
- Clarity: +100
- ColorNoiseReduction: 0
- Contrast: +47
- ConvertToGrayscale: False
- Defringe: 0
- Exposure: -0.27
- FillLight: 16
- GreenHue: 0
- GreenSaturation: 0
- HasCrop: False
- HasSettings: True
- HighlightRecovery: 4
- HueAdjustmentAqua: +59
- HueAdjustmentBlue: 0
- HueAdjustmentGreen: +38
- HueAdjustmentMagenta: +9
- HueAdjustmentOrange: +21
- HueAdjustmentPurple: 0
- HueAdjustmentRed: -18
- HueAdjustmentYellow: +12
- IncrementalTemperature: -29
- IncrementalTint: -20
- LuminanceAdjustmentAqua: 0
- LuminanceAdjustmentBlue: 0
- LuminanceAdjustmentGreen: 0
- LuminanceAdjustmentMagenta: 0
- LuminanceAdjustmentOrange: 0
- LuminanceAdjustmentPurple: 0
- LuminanceAdjustmentRed: -3
- LuminanceAdjustmentYellow: 0
- LuminanceSmoothing: 4
- ParametricDarks: -16
- ParametricHighlightSplit: 75
- ParametricHighlights: +29
- ParametricLights: +2
- ParametricMidtoneSplit: 50
- ParametricShadowSplit: 25
- ParametricShadows: -60
- PostCropVignetteAmount: 0
- RedHue: 0
- RedSaturation: 0
- Saturation: +16
- SaturationAdjustmentAqua: 0
- SaturationAdjustmentBlue: -6
- SaturationAdjustmentGreen: -35
- SaturationAdjustmentMagenta: -2
- SaturationAdjustmentOrange: +15
- SaturationAdjustmentPurple: +21
- SaturationAdjustmentRed: +35
- SaturationAdjustmentYellow: -35
- ShadowTint: 0
- Shadows: 0
- SharpenDetail: 62
- SharpenEdgeMasking: 0
- SharpenRadius: +3.0
- Sharpness: 107
- SplitToningBalance: +19
- SplitToningHighlightHue: 0
- SplitToningHighlightSaturation: 0
- SplitToningShadowHue: 0
- SplitToningShadowSaturation: 0
- ToneCurve: 0, 0, 255, 255
- ToneCurveName: Linear
- Version: 4.5
- Vibrance: +100
- VignetteAmount: 0
- WhiteBalance: Custom
- XMP-dc
- XMP-exif
- DateTimeDigitized: 2008:07:03 22:23:52+04:00
- DateTimeOriginal: 2008:07:03 22:23:52+04:00
- FlashFired: False
- FlashFunction: False
- FlashMode: Off
- FlashRedEyeMode: False
- FlashReturn: No return detection
- XMP-tiff
- BitsPerSample: 16, 16, 16
- ImageHeight: 2304
- ImageWidth: 1956
- XMP-xmp
- CreateDate: 2008:09:26 00:57:55+04:00
- ModifyDate: 2008:09:26 00:57:55+04:00
- XMP-xmpMM
- Просмотров: 601
- Рейтинг: голосов еще нет
- Отзывов: 0