- Раздел: Другое, разное
- Дата съёмки: 28.07.2008 18:38
- Дата загрузки фото: 26.09.2008 07:34
- Оригинальная фотография: 800 x 600 (221 Кб)
- Технические характеристики:
- Фотоаппарат: Canon PowerShot A620
- Выдержка: 1/1600
- Гиперфокальное расстояние: 1,92 m
- Диафрагма: 4,5
- Светочувствительность: 50
- Фокусное расстояние: 7,3 mm (35 mm equivalent: 35,6 mm)
- Экспокоррекция: -2/3
- Полный EXIF
- Composite
- Aperture: 4,5
- CircleOfConfusion: 0,006 mm
- FOV: 53,0 deg
- FocalLength35efl: 7,3 mm (35 mm equivalent: 35,6 mm)
- HyperfocalDistance: 1,92 m
- ScaleFactor35efl: 4,9
- ShutterSpeed: 1/1600
- ExifIFD
- ApertureValue: 4,5
- CreateDate: 2008:07:28 18:38:11
- DateTimeOriginal: 2008:07:28 18:38:11
- DigitalZoomRatio: 1
- ExposureCompensation: -2/3
- ExposureMode: Manual
- ExposureProgram: Aperture-priority AE
- ExposureTime: 1/1600
- FNumber: 4,5
- Flash: Off, Red-eye reduction
- FocalLength: 7,3 mm
- ISO: 50
- LightSource: Unknown
- MaxApertureValue: 2,8
- MeteringMode: Center-weighted average
- SceneCaptureType: Standard
- SensingMethod: One-chip color area
- ShutterSpeedValue: 1/1600
- SubjectDistance: 2,31 m
- WhiteBalance: Auto
- ICC-header
- ICC-meas
- ICC-view
- IFD0
- Artist: Artyomov Denis
- Make: Canon
- Model: Canon PowerShot A620
- ModifyDate: 2008:09:14 10:49:29
- IPTC
- By-line: Artyomov Denis
- XMP-aux
- Firmware: Firmware Version 1.00
- Lens: 7,3-29,2 mm
- LensInfo: 7300/1000 29200/1000 0/0 0/0
- XMP-crs
- AlreadyApplied: True
- BlueHue: 0
- BlueSaturation: 0
- Brightness: +50
- CameraProfile: Embedded
- ChromaticAberrationB: 0
- ChromaticAberrationR: 0
- Clarity: +100
- ColorNoiseReduction: 25
- Contrast: +25
- ConvertToGrayscale: False
- CropAngle: -0.665329
- CropBottom: 0.984752
- CropHeight: 2269
- CropLeft: 0.003335
- CropRight: 0.996665
- CropTop: 0.015248
- CropUnit: 0
- CropWidth: 3025
- Defringe: 0
- Exposure: +0.86
- FillLight: 5
- GreenHue: 0
- GreenSaturation: 0
- HasCrop: True
- HasSettings: True
- HighlightRecovery: 52
- HueAdjustmentAqua: 0
- HueAdjustmentBlue: 0
- HueAdjustmentGreen: 0
- HueAdjustmentMagenta: 0
- HueAdjustmentOrange: 0
- HueAdjustmentPurple: 0
- HueAdjustmentRed: 0
- HueAdjustmentYellow: 0
- LuminanceAdjustmentAqua: 0
- LuminanceAdjustmentBlue: 0
- LuminanceAdjustmentGreen: 0
- LuminanceAdjustmentMagenta: 0
- LuminanceAdjustmentOrange: 0
- LuminanceAdjustmentPurple: 0
- LuminanceAdjustmentRed: 0
- LuminanceAdjustmentYellow: 0
- LuminanceSmoothing: 0
- ParametricDarks: 0
- ParametricHighlightSplit: 75
- ParametricHighlights: 0
- ParametricLights: 0
- ParametricMidtoneSplit: 50
- ParametricShadowSplit: 25
- ParametricShadows: 0
- PostCropVignetteAmount: 0
- RedHue: 0
- RedSaturation: 0
- Saturation: 0
- SaturationAdjustmentAqua: 0
- SaturationAdjustmentBlue: 0
- SaturationAdjustmentGreen: 0
- SaturationAdjustmentMagenta: 0
- SaturationAdjustmentOrange: 0
- SaturationAdjustmentPurple: 0
- SaturationAdjustmentRed: 0
- SaturationAdjustmentYellow: 0
- ShadowTint: 0
- Shadows: 8
- SharpenDetail: 25
- SharpenEdgeMasking: 0
- SharpenRadius: +1.0
- Sharpness: 25
- SplitToningBalance: 0
- SplitToningHighlightHue: 0
- SplitToningHighlightSaturation: 0
- SplitToningShadowHue: 0
- SplitToningShadowSaturation: 0
- Temperature: 5550
- Tint: +9
- ToneCurve: 0, 0, 32, 22, 64, 56, 128, 128, 192, 196, 255, 255
- ToneCurveName: Medium Contrast
- Version: 4.5
- Vibrance: 0
- VignetteAmount: 0
- WhiteBalance: As Shot
- XMP-dc
- XMP-exif
- DateTimeDigitized: 2008:07:28 18:38:11+06:00
- DateTimeOriginal: 2008:07:28 18:38:11+06:00
- ExifImageHeight: 2269
- ExifImageWidth: 3025
- FlashFired: False
- FlashFunction: False
- FlashMode: Off
- FlashRedEyeMode: True
- FlashReturn: No return detection
- XMP-tiff
- ImageHeight: 2269
- ImageWidth: 3025
- XMP-xmp
- CreateDate: 2008:07:28 18:38:11+06:00
- ModifyDate: 2008:09:14 10:49:29+06:00
- Просмотров: 293
- Рейтинг: голосов еще нет
- Отзывов: 0