- Раздел: Тесты фототехники
- Дата съёмки: 25.09.2008 11:12
- Дата загрузки фото: 26.09.2008 17:53
- Оригинальная фотография: 700 x 471 (147 Кб)
- Технические характеристики:
- Фотоаппарат: Pentax K200D
- Выдержка: 1/350
- Гиперфокальное расстояние: 16,95 m
- Диафрагма: 2,8
- Светочувствительность: 100
- Фокусное расстояние: 31,0 mm (35 mm equivalent: 46,0 mm)
- Полный EXIF
- Composite
- Aperture: 2,8
- CircleOfConfusion: 0,020 mm
- FOV: 42,0 deg
- FocalLength35efl: 31,0 mm (35 mm equivalent: 46,0 mm)
- HyperfocalDistance: 16,95 m
- ScaleFactor35efl: 1,5
- ShutterSpeed: 1/350
- ExifIFD
- ApertureValue: 2,8
- CFAPattern: [Red,Green][Green,Blue]
- Contrast: High
- CreateDate: 2008:09:25 11:12:57
- CustomRendered: Normal
- DateTimeOriginal: 2008:09:25 11:12:57
- ExposureCompensation: 0
- ExposureMode: Auto
- ExposureProgram: Aperture-priority AE
- ExposureTime: 1/350
- FNumber: 2,8
- Flash: Off
- FocalLength: 31,0 mm
- FocalLengthIn35mmFormat: 46 mm
- ISO: 100
- MeteringMode: Spot
- Saturation: Normal
- SceneCaptureType: Standard
- SensingMethod: One-chip color area
- Sharpness: Hard
- ShutterSpeedValue: 1/350
- SubjectDistanceRange: Macro
- WhiteBalance: Auto
- ICC-header
- ICC-meas
- ICC-view
- IFD0
- Copyright: (C) Thomas Ziska
- Make: PENTAX Corporation
- Model: PENTAX K200D
- ModifyDate: 2008:09:25 18:51:38
- Software: K200D Ver 1.00
- IPTC
- By-line: Thomas Ziska
- CopyrightNotice: В© Thomas Ziska
- XMP-aux
- Lens: smc PENTAX-FA 31mm F1.8AL Limited
- LensID: 4 39
- LensInfo: 310/10 310/10 18/10 18/10
- XMP-crs
- AlreadyApplied: True
- BlueHue: 0
- BlueSaturation: 0
- Brightness: +50
- CameraProfile: ACR 4.4
- ChromaticAberrationB: 0
- ChromaticAberrationR: 0
- Clarity: 0
- ColorNoiseReduction: 25
- Contrast: +99
- ConvertToGrayscale: False
- CropAngle: 3.45662
- CropBottom: 0.919049
- CropHeight: 465
- CropLeft: 0.165514
- CropRight: 0.879513
- CropTop: 0.107823
- CropUnit: 0
- CropWidth: 694
- Defringe: 0
- Exposure: 0.00
- FillLight: 0
- GreenHue: 0
- GreenSaturation: 0
- HasCrop: True
- HasSettings: True
- HighlightRecovery: 100
- HueAdjustmentAqua: 0
- HueAdjustmentBlue: 0
- HueAdjustmentGreen: 0
- HueAdjustmentMagenta: 0
- HueAdjustmentOrange: 0
- HueAdjustmentPurple: 0
- HueAdjustmentRed: 0
- HueAdjustmentYellow: 0
- LuminanceAdjustmentAqua: 0
- LuminanceAdjustmentBlue: 0
- LuminanceAdjustmentGreen: 0
- LuminanceAdjustmentMagenta: 0
- LuminanceAdjustmentOrange: 0
- LuminanceAdjustmentPurple: 0
- LuminanceAdjustmentRed: 0
- LuminanceAdjustmentYellow: 0
- LuminanceSmoothing: 0
- ParametricDarks: 0
- ParametricHighlightSplit: 75
- ParametricHighlights: 0
- ParametricLights: 0
- ParametricMidtoneSplit: 50
- ParametricShadowSplit: 25
- ParametricShadows: 0
- PostCropVignetteAmount: 0
- RedHue: 0
- RedSaturation: 0
- Saturation: +10
- SaturationAdjustmentAqua: 0
- SaturationAdjustmentBlue: 0
- SaturationAdjustmentGreen: 0
- SaturationAdjustmentMagenta: 0
- SaturationAdjustmentOrange: 0
- SaturationAdjustmentPurple: 0
- SaturationAdjustmentRed: 0
- SaturationAdjustmentYellow: 0
- ShadowTint: 0
- Shadows: 14
- SharpenDetail: 25
- SharpenEdgeMasking: 0
- SharpenRadius: +1.0
- Sharpness: 60
- SplitToningBalance: 0
- SplitToningHighlightHue: 0
- SplitToningHighlightSaturation: 0
- SplitToningShadowHue: 0
- SplitToningShadowSaturation: 0
- Temperature: 3450
- Tint: +30
- ToneCurve: 0, 0, 32, 22, 64, 56, 128, 128, 192, 196, 255, 255
- ToneCurveName: Medium Contrast
- Version: 4.5
- Vibrance: 0
- VignetteAmount: 0
- WhiteBalance: Custom
- XMP-dc
- Creator: Thomas Ziska
- Rights: В© Thomas Ziska
- XMP-exif
- DateTimeDigitized: 2008:09:25 11:12:57+02:00
- DateTimeOriginal: 2008:09:25 11:12:57+02:00
- ExifImageHeight: 465
- ExifImageWidth: 694
- FlashFired: False
- FlashFunction: False
- FlashMode: Off
- FlashRedEyeMode: False
- FlashReturn: No return detection
- XMP-iptcCore
- CreatorContactInfoCiAdrCity: DГјlmen
- CreatorContactInfoCiAdrCtry: Deutschland
- CreatorContactInfoCiAdrExtadr: Adam Stegerwald Strasse 12
- CreatorContactInfoCiAdrPcode: 48249
- CreatorContactInfoCiEmailWork: thomas.ziska@t-online.de
- XMP-tiff
- ImageHeight: 465
- ImageWidth: 694
- XMP-xmp
- CreateDate: 2008:09:25 11:12:57+02:00
- ModifyDate: 2008:09:25 18:51:38+02:00