- Раздел: Другое, разное
- Дата съёмки: 30.09.2008 00:19
- Дата загрузки фото: 30.09.2008 04:08
- Оригинальная фотография: 3872 x 2592 (4,4 Мб)
- Технические характеристики:
- Фотоаппарат: Nikon D200
- Выдержка: 311,0
- Гиперфокальное расстояние: 38,38 m
- Диафрагма: 5,0
- Светочувствительность: 640
- Фокусное расстояние: 62,0 mm (35 mm equivalent: 93,0 mm)
- Полный EXIF
- Adobe
- ColorTransform: YCbCr
- Composite
- Aperture: 5,0
- CircleOfConfusion: 0,020 mm
- FOV: 21,0 deg
- FocalLength35efl: 62,0 mm (35 mm equivalent: 93,0 mm)
- HyperfocalDistance: 38,38 m
- LightValue: -6,3
- ScaleFactor35efl: 1,5
- ShutterSpeed: 311,0
- ExifIFD
- ApertureValue: 5,0
- CFAPattern: [Green,Red][Blue,Green]
- Contrast: Normal
- CreateDate: 2008:09:30 00:19:58
- CustomRendered: Normal
- DateTimeOriginal: 2008:09:30 00:19:58
- DigitalZoomRatio: 1
- ExposureCompensation: 0
- ExposureMode: Manual
- ExposureProgram: Manual
- ExposureTime: 311,0
- FNumber: 5,0
- Flash: No Flash
- FocalLength: 62,0 mm
- FocalLengthIn35mmFormat: 93 mm
- GainControl: Low gain up
- ISO: 640
- LightSource: Flash
- MaxApertureValue: 5,1
- MeteringMode: Spot
- Saturation: Normal
- SceneCaptureType: Standard
- SceneType: Directly photographed
- SensingMethod: One-chip color area
- Sharpness: Normal
- ShutterSpeedValue: 311,0
- SubjectDistanceRange: Unknown
- UserComment: ILYA_MGP@MAIL.RU;ICQ:86080981 (C)TiN
- WhiteBalance: Manual
- ICC-header
- ICC-meas
- ICC-view
- IFD0
- Make: NIKON CORPORATION
- Model: NIKON D200
- ModifyDate: 2008:09:30 02:58:23
- Software: Ver.2.00
- XMP-aux
- ImageNumber: 17425
- Lens: 18.0-135.0 mm f/3.5-5.6
- LensInfo: 180/10 1350/10 35/10 56/10
- XMP-crs
- AlreadyApplied: True
- BlueHue: 0
- BlueSaturation: 0
- Brightness: +93
- CameraProfile: ACR 4.4
- ChromaticAberrationB: 0
- ChromaticAberrationR: 0
- Clarity: 0
- ColorNoiseReduction: 25
- Contrast: +40
- ConvertToGrayscale: True
- Defringe: 0
- Exposure: +0.38
- FillLight: 0
- GrayMixerAqua: -25
- GrayMixerBlue: +3
- GrayMixerGreen: -25
- GrayMixerMagenta: +20
- GrayMixerOrange: -6
- GrayMixerPurple: +21
- GrayMixerRed: +13
- GrayMixerYellow: -15
- GreenHue: 0
- GreenSaturation: 0
- HasCrop: False
- HasSettings: True
- HighlightRecovery: 100
- LuminanceSmoothing: 0
- ParametricDarks: +7
- ParametricHighlightSplit: 75
- ParametricHighlights: -12
- ParametricLights: -83
- ParametricMidtoneSplit: 50
- ParametricShadowSplit: 25
- ParametricShadows: -14
- PostCropVignetteAmount: 0
- RedHue: 0
- RedSaturation: 0
- ShadowTint: 0
- Shadows: 2
- SharpenDetail: 25
- SharpenEdgeMasking: 0
- SharpenRadius: +1.0
- Sharpness: 25
- SplitToningBalance: 0
- SplitToningHighlightHue: 0
- SplitToningHighlightSaturation: 0
- SplitToningShadowHue: 0
- SplitToningShadowSaturation: 0
- Temperature: 2850
- Tint: 0
- ToneCurve: 0, 0, 32, 22, 64, 56, 128, 128, 192, 196, 255, 255
- ToneCurveName: Medium Contrast
- Version: 4.5
- VignetteAmount: 0
- WhiteBalance: Auto
- XMP-exif
- DateTimeDigitized: 2008:09:30 00:19:58.24+03:00
- DateTimeOriginal: 2008:09:30 00:19:58.24+03:00
- ExifImageHeight: 2592
- ExifImageWidth: 3872
- FlashFired: False
- FlashFunction: False
- FlashMode: Unknown
- FlashRedEyeMode: False
- FlashReturn: No return detection
- XMP-tiff
- ImageHeight: 2592
- ImageWidth: 3872
- XMP-xmp
- CreateDate: 2008:09:30 00:19:58.24+03:00
- ModifyDate: 2008:09:30 02:58:23+03:00
- Просмотров: 334
- Рейтинг: голосов еще нет
- Отзывов: 0