- Раздел: Город
- Дата съёмки: 19.09.2008 02:21
- Дата загрузки фото: 30.09.2008 21:26
- Оригинальная фотография: 1165 x 1154 (429 Кб)
- Технические характеристики:
- Фотоаппарат: Canon EOS 350D DIGITAL
- Выдержка: 1/320
- Гиперфокальное расстояние: 482,03 m
- Диафрагма: 6,3
- Светочувствительность: 100
- Фокусное расстояние: 149,0 mm (35 mm equivalent: 612,4 mm)
- Экспокоррекция: -1/3
- Полный EXIF
- Adobe
- ColorTransform: YCbCr
- Composite
- Aperture: 6,3
- CircleOfConfusion: 0,007 mm
- FOV: 3,0 deg
- FocalLength35efl: 149,0 mm (35 mm equivalent: 612,4 mm)
- HyperfocalDistance: 482,03 m
- ScaleFactor35efl: 4,1
- ShutterSpeed: 1/320
- ExifIFD
- ApertureValue: 6,3
- ColorSpace: sRGB
- CreateDate: 2008:08:23 14:38:16
- CustomRendered: Normal
- DateTimeOriginal: 2008:08:23 14:38:16
- ExifImageHeight: 1154
- ExifImageWidth: 1165
- ExposureCompensation: -1/3
- ExposureMode: Auto
- ExposureProgram: Aperture-priority AE
- ExposureTime: 1/320
- FNumber: 6,3
- Flash: Off
- FocalLength: 149,0 mm
- ISO: 100
- MaxApertureValue: 5,6
- MeteringMode: Multi-segment
- SceneCaptureType: Standard
- ShutterSpeedValue: 1/320
- WhiteBalance: Auto
- ICC-header
- ICC-meas
- ICC-view
- IFD0
- Artist: Yuras
- Make: Canon
- Model: Canon EOS 350D DIGITAL
- ModifyDate: 2008:09:19 02:22:45
- Orientation: Horizontal (normal)
- TimeZoneOffset: 3 3
- IFD1
- IPTC
- By-line: Yuras
- XMP-aux
- Firmware: 1.0.3
- FlashCompensation: 0
- ImageNumber: 240
- Lens: 70.0-300.0 mm
- LensInfo: 70/1 300/1 0/0 0/0
- OwnerName: Yuras
- SerialNumber: 230102161
- XMP-crs
- AlreadyApplied: True
- BlueHue: +3
- BlueSaturation: -15
- Brightness: +69
- CameraProfile: ACR 4.2
- ChromaticAberrationB: 0
- ChromaticAberrationR: 0
- ColorNoiseReduction: 25
- Contrast: +22
- ConvertToGrayscale: False
- Exposure: +0.70
- FillLight: 0
- GreenHue: +5
- GreenSaturation: +5
- HasCrop: False
- HasSettings: True
- HighlightRecovery: 0
- HueAdjustmentAqua: 0
- HueAdjustmentBlue: 0
- HueAdjustmentGreen: 0
- HueAdjustmentMagenta: -25
- HueAdjustmentOrange: 0
- HueAdjustmentPurple: 0
- HueAdjustmentRed: 0
- HueAdjustmentYellow: +7
- LuminanceAdjustmentAqua: 0
- LuminanceAdjustmentBlue: 0
- LuminanceAdjustmentGreen: 0
- LuminanceAdjustmentMagenta: 0
- LuminanceAdjustmentOrange: 0
- LuminanceAdjustmentPurple: 0
- LuminanceAdjustmentRed: 0
- LuminanceAdjustmentYellow: -5
- LuminanceSmoothing: 0
- ParametricDarks: 0
- ParametricHighlightSplit: 75
- ParametricHighlights: 0
- ParametricLights: 0
- ParametricMidtoneSplit: 50
- ParametricShadowSplit: 25
- ParametricShadows: 0
- RawFileName: IMG_6640.CR2
- RedHue: 0
- RedSaturation: -5
- Saturation: 0
- SaturationAdjustmentAqua: 0
- SaturationAdjustmentBlue: 0
- SaturationAdjustmentGreen: 0
- SaturationAdjustmentMagenta: +25
- SaturationAdjustmentOrange: 0
- SaturationAdjustmentPurple: 0
- SaturationAdjustmentRed: 0
- SaturationAdjustmentYellow: +25
- ShadowTint: 0
- Shadows: 3
- Sharpness: 0
- SplitToningBalance: 0
- SplitToningHighlightHue: 0
- SplitToningHighlightSaturation: 0
- SplitToningShadowHue: 0
- SplitToningShadowSaturation: 0
- Temperature: 4850
- Tint: -11
- ToneCurve: 0, 0, 50, 39, 95, 91, 142, 145, 187, 192, 217, 221, 238, 238, 255, 255
- ToneCurveName: Custom
- Version: 3.7
- Vibrance: 0
- VignetteAmount: 0
- WhiteBalance: As Shot
- XMP-dc
- Creator: Yuras
- Format: image/jpeg
- XMP-exif
- DateTimeDigitized: 2008:08:23 14:38:16+03:00
- DateTimeOriginal: 2008:08:23 14:38:16+03:00
- FlashFired: False
- FlashFunction: False
- FlashMode: Off
- FlashRedEyeMode: False
- FlashReturn: No return detection
- XMP-tiff
- XMP-xmp
- CreateDate: 2008:09:19 02:21:38+03:00
- ModifyDate: 2008:09:19 02:22:45+03:00
- Rating: 0
- XMP-xmpMM