- Раздел: Тесты фототехники
- Дата съёмки: 11.08.2008 16:20
- Дата загрузки фото: 04.10.2008 22:31
- Оригинальная фотография: 2800 x 4208 (5,2 Мб)
- Технические характеристики:
- Фотоаппарат: Pentax K20D
- Выдержка: 1/180
- Гиперфокальное расстояние: 72,21 m
- Диафрагма: 5,6
- Светочувствительность: 100
- Фокусное расстояние: 90,0 mm (35 mm equivalent: 135,0 mm)
- Полный EXIF
- Adobe
- ColorTransform: YCbCr
- Composite
- Aperture: 5,6
- CircleOfConfusion: 0,020 mm
- FOV: 15,0 deg
- FocalLength35efl: 90,0 mm (35 mm equivalent: 135,0 mm)
- HyperfocalDistance: 72,21 m
- ScaleFactor35efl: 1,5
- ShutterSpeed: 1/180
- ExifIFD
- ApertureValue: 5,6
- CFAPattern: [Blue,Green][Green,Red]
- ColorSpace: Uncalibrated
- Contrast: Normal
- CreateDate: 2008:06:16 20:00:23
- CustomRendered: Normal
- DateTimeOriginal: 2008:06:16 20:00:23
- ExifImageHeight: 4208
- ExifImageWidth: 2800
- ExposureCompensation: 0
- ExposureMode: Manual
- ExposureProgram: Manual
- ExposureTime: 1/180
- FNumber: 5,6
- Flash: On
- FocalLength: 90,0 mm
- FocalLengthIn35mmFormat: 135 mm
- ISO: 100
- MeteringMode: Center-weighted average
- Saturation: Normal
- SceneCaptureType: Standard
- SensingMethod: One-chip color area
- Sharpness: Normal
- ShutterSpeedValue: 1/180
- SubjectDistanceRange: Close
- WhiteBalance: Manual
- IFD0
- Make: PENTAX Corporation
- Model: PENTAX K20D
- ModifyDate: 2008:08:11 16:20:32
- Orientation: Horizontal (normal)
- IFD1
- IPTC
- Caption-Abstract: Close-up portrait of young caucasian woman with healthy shining skin
- Keywords: beauty, people, face, caucasian, portrait, beautiful, female, human, serene, women, looking, eye, adult, cute, head, fashion, tranquil, lips, skin, close-up, brown, hair, complexion, nature, expression, elegance, facial, young, white, person, green, woman, serious, calm, clean, eyes, girl, healthy, lady, look, model, natural, perfect, purity, smooth, long hair
- ObjectName: Calm look
- XMP-aux
- Lens: TAMRON SP AF 90mm F2.8
- LensID: 4 19
- LensInfo: 900/10 900/10 28/10 28/10
- XMP-crs
- AlreadyApplied: True
- BlueHue: 0
- BlueSaturation: 0
- Brightness: +50
- ChromaticAberrationB: 0
- ChromaticAberrationR: 0
- Clarity: -15
- ColorNoiseReduction: 10
- Contrast: +25
- ConvertToGrayscale: False
- Defringe: 0
- Exposure: -0.50
- FillLight: 0
- GreenHue: 0
- GreenSaturation: 0
- HasCrop: False
- HasSettings: True
- HighlightRecovery: 0
- HueAdjustmentAqua: 0
- HueAdjustmentBlue: 0
- HueAdjustmentGreen: 0
- HueAdjustmentMagenta: 0
- HueAdjustmentOrange: 0
- HueAdjustmentPurple: 0
- HueAdjustmentRed: 0
- HueAdjustmentYellow: 0
- LuminanceAdjustmentAqua: 0
- LuminanceAdjustmentBlue: 0
- LuminanceAdjustmentGreen: 0
- LuminanceAdjustmentMagenta: 0
- LuminanceAdjustmentOrange: 0
- LuminanceAdjustmentPurple: 0
- LuminanceAdjustmentRed: 0
- LuminanceAdjustmentYellow: 0
- LuminanceSmoothing: 0
- ParametricDarks: 0
- ParametricHighlightSplit: 75
- ParametricHighlights: 0
- ParametricLights: 0
- ParametricMidtoneSplit: 50
- ParametricShadowSplit: 25
- ParametricShadows: 0
- PostCropVignetteAmount: 0
- RawFileName: IMGP0290.PEF
- RedHue: 0
- RedSaturation: 0
- Saturation: +5
- SaturationAdjustmentAqua: +12
- SaturationAdjustmentBlue: 0
- SaturationAdjustmentGreen: +18
- SaturationAdjustmentMagenta: 0
- SaturationAdjustmentOrange: 0
- SaturationAdjustmentPurple: 0
- SaturationAdjustmentRed: 0
- SaturationAdjustmentYellow: 0
- ShadowTint: 0
- Shadows: 12
- SharpenDetail: 35
- SharpenEdgeMasking: 0
- SharpenRadius: +1.0
- Sharpness: 0
- SplitToningBalance: 0
- SplitToningHighlightHue: 0
- SplitToningHighlightSaturation: 0
- SplitToningShadowHue: 0
- SplitToningShadowSaturation: 0
- Temperature: 4600
- Tint: -42
- ToneCurve: 0, 0, 32, 16, 64, 50, 128, 128, 192, 202, 255, 255
- ToneCurveName: Strong Contrast
- Version: 4.5
- Vibrance: +5
- VignetteAmount: 0
- WhiteBalance: Custom
- XMP-dc
- Description: Close-up portrait of young caucasian woman with healthy shining skin
- Format: image/jpeg
- Subject: beauty, people, face, caucasian, portrait, beautiful, female, human, serene, women, looking, eye, adult, cute, head, fashion, tranquil, lips, skin, close-up, brown, hair, complexion, nature, expression, elegance, facial, young, white, person, green, woman, serious, calm, clean, eyes, girl, healthy, lady, look, model, natural, perfect, purity, smooth, long hair
- Title: Calm look
- XMP-exif
- DateTimeDigitized: 2008:06:16 20:00:23+04:00
- DateTimeOriginal: 2008:06:16 20:00:23+04:00
- FlashFired: True
- FlashFunction: False
- FlashMode: On
- FlashRedEyeMode: False
- FlashReturn: No return detection
- XMP-tiff
- BitsPerSample: 8, 8, 8
- ImageHeight: 4208
- ImageWidth: 2800
- PhotometricInterpretation: RGB
- SamplesPerPixel: 3
- XMP-xmp
- CreateDate: 2008:08:11 16:20:32+04:00
- Label: Утверждено
- ModifyDate: 2008:08:11 16:20:32+04:00
- Rating: 5
- XMP-xmpMM
- DerivedFrom:
- Просмотров: 801
- Рейтинг: голосов еще нет
- Отзывов: отключены