- Раздел: Другое, разное
- Дата съёмки: 24.09.2008 18:16
- Дата загрузки фото: 06.10.2008 13:05
- Оригинальная фотография: 1000 x 1696 (264 Кб)
- Технические характеристики:
- Фотоаппарат: Sony DSLR-A700
- Выдержка: 1/125
- Гиперфокальное расстояние: 34,95 m
- Диафрагма: 8,0
- Светочувствительность: 125
- Фокусное расстояние: 75,0 mm (35 mm equivalent: 112,0 mm)
- Экспокоррекция: -0,3
- Полный EXIF
- Adobe
- ColorTransform: YCbCr
- Composite
- Aperture: 8,0
- CircleOfConfusion: 0,020 mm
- FOV: 18,0 deg
- FocalLength35efl: 75,0 mm (35 mm equivalent: 112,0 mm)
- HyperfocalDistance: 34,95 m
- ScaleFactor35efl: 1,5
- ShutterSpeed: 1/125
- ExifIFD
- ApertureValue: 8,0
- BrightnessValue: 7,37
- ColorSpace: sRGB
- Contrast: High
- CreateDate: 2008:09:24 18:16:47
- CustomRendered: Normal
- DateTimeOriginal: 2008:09:24 18:16:47
- DigitalZoomRatio: 0
- ExifImageHeight: 1696
- ExifImageWidth: 1000
- ExposureCompensation: -0,3
- ExposureMode: Auto
- ExposureProgram: Aperture-priority AE
- ExposureTime: 1/125
- FNumber: 8,0
- Flash: Off
- FocalLength: 75,0 mm
- FocalLengthIn35mmFormat: 112 mm
- ISO: 125
- LightSource: Daylight
- MaxApertureValue: 4,5
- MeteringMode: Multi-segment
- Saturation: Low
- SceneCaptureType: Standard
- SceneType: Directly photographed
- Sharpness: Hard
- ShutterSpeedValue: 1/125
- WhiteBalance: Manual
- ICC-header
- ICC-meas
- ICC-view
- IFD0
- ImageDescription: SONY DSC
- Make: SONY
- Model: DSLR-A700
- ModifyDate: 2008:09:25 10:32:07
- Orientation: Horizontal (normal)
- IFD1
- IPTC
- Caption-Abstract: SONY DSC
- XMP-crs
- AlreadyApplied: True
- BlueHue: 0
- BlueSaturation: 0
- Brightness: +50
- CameraProfile: ACR 4.4
- ChromaticAberrationB: 0
- ChromaticAberrationR: 0
- Clarity: +4
- ColorNoiseReduction: 25
- Contrast: +25
- ConvertToGrayscale: False
- CropAngle: 0
- CropBottom: 1
- CropHeight: 2566
- CropLeft: 0
- CropRight: 0.968215
- CropTop: 0.099082
- CropUnit: 0
- CropWidth: 4136
- Defringe: 0
- Exposure: 0.00
- FillLight: 0
- GreenHue: 0
- GreenSaturation: 0
- HasCrop: True
- HasSettings: True
- HighlightRecovery: 11
- HueAdjustmentAqua: 0
- HueAdjustmentBlue: +35
- HueAdjustmentGreen: 0
- HueAdjustmentMagenta: 0
- HueAdjustmentOrange: 0
- HueAdjustmentPurple: 0
- HueAdjustmentRed: 0
- HueAdjustmentYellow: 0
- LuminanceAdjustmentAqua: 0
- LuminanceAdjustmentBlue: -8
- LuminanceAdjustmentGreen: 0
- LuminanceAdjustmentMagenta: 0
- LuminanceAdjustmentOrange: 0
- LuminanceAdjustmentPurple: 0
- LuminanceAdjustmentRed: 0
- LuminanceAdjustmentYellow: 0
- LuminanceSmoothing: 0
- ParametricDarks: 0
- ParametricHighlightSplit: 75
- ParametricHighlights: 0
- ParametricLights: 0
- ParametricMidtoneSplit: 50
- ParametricShadowSplit: 25
- ParametricShadows: 0
- PostCropVignetteAmount: 0
- RedHue: 0
- RedSaturation: 0
- Saturation: 0
- SaturationAdjustmentAqua: 0
- SaturationAdjustmentBlue: +10
- SaturationAdjustmentGreen: 0
- SaturationAdjustmentMagenta: 0
- SaturationAdjustmentOrange: 0
- SaturationAdjustmentPurple: 0
- SaturationAdjustmentRed: 0
- SaturationAdjustmentYellow: 0
- ShadowTint: 0
- Shadows: 10
- SharpenDetail: 25
- SharpenEdgeMasking: 0
- SharpenRadius: +1.0
- Sharpness: 86
- SplitToningBalance: 0
- SplitToningHighlightHue: 0
- SplitToningHighlightSaturation: 0
- SplitToningShadowHue: 0
- SplitToningShadowSaturation: 0
- Temperature: 5650
- Tint: +2
- ToneCurve: 0, 0, 32, 22, 64, 56, 128, 128, 192, 196, 255, 255
- ToneCurveName: Medium Contrast
- Version: 4.5
- Vibrance: 0
- VignetteAmount: 0
- WhiteBalance: As Shot
- XMP-dc
- Description: SONY DSC
- Format: image/jpeg
- XMP-exif
- DateTimeDigitized: 2008:09:24 18:16:47+04:00
- DateTimeOriginal: 2008:09:24 18:16:47+04:00
- FlashFired: False
- FlashFunction: False
- FlashMode: Off
- FlashRedEyeMode: False
- FlashReturn: No return detection
- XMP-tiff
- ImageHeight: 4136
- ImageWidth: 2566
- XMP-xmp
- CreateDate: 2008:09:24 18:16:47+04:00
- ModifyDate: 2008:09:25 10:32:07+04:00
- XMP-xmpMM
- Просмотров: 202
- Рейтинг: голосов еще нет
- Отзывов: 0