Уважаемые друзья и участники проекта iXBT.photo! К сожалению, 1 марта 2026 года проект iXBT.photo прекратит свою работу и будет закрыт. Мы высоко ценим ваше участие и тот вклад, который вы внесли в развитие нашего сообщества. Пожалуйста, не забудьте сохранить ваши фотографии до этой даты.
С уважением, команда iXBT.com
| Не лишнее |
Не лишнее
- Раздел: Другое, разное
- Дата съёмки: 05.10.2008 13:08
- Дата загрузки фото: 08.10.2008 02:35
- Оригинальная фотография: 2158 x 2592 (1,8 Мб)
- Технические характеристики:
- Фотоаппарат: Nikon D80
- Выдержка: 1,0
- Гиперфокальное расстояние: 75,51 m
- Диафрагма: 8,0
- Светочувствительность: 100
- Фокусное расстояние: 110,0 mm (35 mm equivalent: 165,0 mm)
- Экспокоррекция: +2/3
- Полный EXIF
- Adobe
- ColorTransform: YCbCr
- Composite
- Aperture: 8,0
- CircleOfConfusion: 0,020 mm
- FOV: 12,0 deg
- FocalLength35efl: 110,0 mm (35 mm equivalent: 165,0 mm)
- HyperfocalDistance: 75,51 m
- LightValue: 6,0
- ScaleFactor35efl: 1,5
- ShutterSpeed: 1,0
- ExifIFD
- ApertureValue: 8,0
- CFAPattern: [Green,Blue][Red,Green]
- Contrast: High
- CreateDate: 2008:10:05 13:08:10
- CustomRendered: Normal
- DateTimeOriginal: 2008:10:05 13:08:10
- DigitalZoomRatio: 1
- ExposureCompensation: +2/3
- ExposureMode: Auto
- ExposureProgram: Aperture-priority AE
- ExposureTime: 1,0
- FNumber: 8,0
- Flash: No Flash
- FocalLength: 110,0 mm
- FocalLengthIn35mmFormat: 165 mm
- GainControl: None
- ISO: 100
- LightSource: Unknown
- MaxApertureValue: 4,3
- MeteringMode: Multi-segment
- Saturation: High
- SceneCaptureType: Standard
- SceneType: Directly photographed
- SensingMethod: One-chip color area
- Sharpness: Hard
- ShutterSpeedValue: 1,0
- SubjectDistanceRange: Unknown
- UserComment: Anna Tonchelova arapaia75@gmail.com
- WhiteBalance: Auto
- ICC-header
- ICC-meas
- ICC-view
- IFD0
- Make: NIKON CORPORATION
- Model: NIKON D80
- ModifyDate: 2008:10:07 02:37:57
- Software: Ver.1.10
- XMP-aux
- ImageNumber: 12746
- Lens: 70.0-210.0 mm f/4.0-5.6
- LensInfo: 700/10 2100/10 40/10 56/10
- XMP-crs
- AlreadyApplied: True
- BlueHue: 0
- BlueSaturation: 0
- Brightness: +45
- CameraProfile: ACR 4.4
- ChromaticAberrationB: 0
- ChromaticAberrationR: 0
- Clarity: +20
- ColorNoiseReduction: 25
- Contrast: +46
- ConvertToGrayscale: True
- CropAngle: 0
- CropBottom: 1
- CropHeight: 2592
- CropLeft: 0.271739
- CropRight: 0.829192
- CropTop: 0
- CropUnit: 0
- CropWidth: 2158
- Defringe: 0
- Exposure: +0.20
- FillLight: 10
- GrayMixerAqua: +2
- GrayMixerBlue: +2
- GrayMixerGreen: 0
- GrayMixerMagenta: +3
- GrayMixerOrange: +3
- GrayMixerPurple: +4
- GrayMixerRed: +1
- GrayMixerYellow: +1
- GreenHue: 0
- GreenSaturation: 0
- HasCrop: True
- HasSettings: True
- HighlightRecovery: 0
- LuminanceSmoothing: 0
- ParametricDarks: 0
- ParametricHighlightSplit: 75
- ParametricHighlights: 0
- ParametricLights: 0
- ParametricMidtoneSplit: 50
- ParametricShadowSplit: 25
- ParametricShadows: 0
- PostCropVignetteAmount: 0
- RedHue: 0
- RedSaturation: 0
- ShadowTint: 0
- Shadows: 0
- SharpenDetail: 25
- SharpenEdgeMasking: 0
- SharpenRadius: +1.0
- Sharpness: 25
- SplitToningBalance: 0
- SplitToningHighlightHue: 0
- SplitToningHighlightSaturation: 0
- SplitToningShadowHue: 0
- SplitToningShadowSaturation: 0
- Temperature: 4150
- Tint: +2
- ToneCurve: 0, 0, 32, 22, 64, 56, 128, 128, 192, 196, 255, 255
- ToneCurveName: Medium Contrast
- Version: 4.5
- VignetteAmount: 0
- WhiteBalance: Custom
- XMP-exif
- DateTimeDigitized: 2008:10:05 13:08:10.00+03:00
- DateTimeOriginal: 2008:10:05 13:08:10.00+03:00
- ExifImageHeight: 2592
- ExifImageWidth: 2158
- FlashFired: False
- FlashFunction: False
- FlashMode: Unknown
- FlashRedEyeMode: False
- FlashReturn: No return detection
- XMP-tiff
- ImageHeight: 2592
- ImageWidth: 2158
- XMP-xmp
- CreateDate: 2008:10:05 13:08:10.00+03:00
- ModifyDate: 2008:10:07 02:37:57+03:00
- Просмотров: 149
- Рейтинг: голосов еще нет
- Отзывов: 0
Получить код для блога
| Вставка фотографии в текущем разрешении |
Вставка миниатюры |
HTML (для вставки в блог):
BBCode (для вставки в форум):
Ссылка на фото:
Ссылка на миниатюру:
- Послать ссылку другу
| Комментарии к фотографии |