- Раздел: Природа
- Дата съёмки: 05.10.2008 14:55
- Дата загрузки фото: 08.10.2008 20:02
- Оригинальная фотография: 2204 x 2191 (2,7 Мб)
- Технические характеристики:
- Фотоаппарат: Nikon D200
- Выдержка: 1/250
- Гиперфокальное расстояние: 226,90 m
- Диафрагма: 4,0
- Светочувствительность: 400
- Фокусное расстояние: 135,0 mm (35 mm equivalent: 202,0 mm)
- Полный EXIF
- Adobe
- ColorTransform: YCbCr
- Composite
- Aperture: 4,0
- CircleOfConfusion: 0,020 mm
- FOV: 10,0 deg
- FocalLength35efl: 135,0 mm (35 mm equivalent: 202,0 mm)
- HyperfocalDistance: 226,90 m
- ScaleFactor35efl: 1,5
- ShutterSpeed: 1/250
- ExifIFD
- ApertureValue: 4,0
- CFAPattern: [Green,Red][Blue,Green]
- Contrast: High
- CreateDate: 2008:10:05 14:55:22
- CustomRendered: Normal
- DateTimeOriginal: 2008:10:05 14:55:22
- DigitalZoomRatio: 1
- ExposureCompensation: 0
- ExposureMode: Manual
- ExposureProgram: Manual
- ExposureTime: 1/250
- FNumber: 4,0
- Flash: No Flash
- FocalLength: 135,0 mm
- FocalLengthIn35mmFormat: 202 mm
- GainControl: Low gain up
- ISO: 400
- LightSource: Flash
- MaxApertureValue: 1,0
- MeteringMode: Spot
- Saturation: High
- SceneCaptureType: Standard
- SceneType: Directly photographed
- SensingMethod: One-chip color area
- Sharpness: Hard
- ShutterSpeedValue: 1/250
- SubjectDistanceRange: Unknown
- UserComment: ILYA_MGP@MAIL.RU;ICQ:86080981 (C)TiN
- WhiteBalance: Manual
- ICC-header
- ICC-meas
- ICC-view
- IFD0
- Make: NIKON CORPORATION
- Model: NIKON D200
- ModifyDate: 2008:10:08 12:38:42
- Software: Ver.2.00
- XMP-aux
- ImageNumber: 17644
- Lens: 0.0 mm f/0.0
- LensInfo: 0/10 0/10 0/10 0/10
- XMP-crs
- AlreadyApplied: True
- BlueHue: 0
- BlueSaturation: 0
- Brightness: +40
- CameraProfile: ACR 4.4
- ChromaticAberrationB: 0
- ChromaticAberrationR: 0
- Clarity: 0
- ColorNoiseReduction: 25
- Contrast: +44
- ConvertToGrayscale: False
- CropAngle: 0
- CropBottom: 1
- CropHeight: 2191
- CropLeft: 0.189474
- CropRight: 0.758704
- CropTop: 0.154776
- CropUnit: 0
- CropWidth: 2204
- Defringe: 0
- Exposure: 0.00
- FillLight: 0
- GreenHue: 0
- GreenSaturation: 0
- HasCrop: True
- HasSettings: True
- HighlightRecovery: 1
- HueAdjustmentAqua: 0
- HueAdjustmentBlue: 0
- HueAdjustmentGreen: 0
- HueAdjustmentMagenta: 0
- HueAdjustmentOrange: 0
- HueAdjustmentPurple: 0
- HueAdjustmentRed: 0
- HueAdjustmentYellow: 0
- LuminanceAdjustmentAqua: 0
- LuminanceAdjustmentBlue: 0
- LuminanceAdjustmentGreen: 0
- LuminanceAdjustmentMagenta: 0
- LuminanceAdjustmentOrange: 0
- LuminanceAdjustmentPurple: 0
- LuminanceAdjustmentRed: 0
- LuminanceAdjustmentYellow: 0
- LuminanceSmoothing: 0
- ParametricDarks: 0
- ParametricHighlightSplit: 75
- ParametricHighlights: 0
- ParametricLights: 0
- ParametricMidtoneSplit: 50
- ParametricShadowSplit: 25
- ParametricShadows: 0
- PostCropVignetteAmount: 0
- RedHue: 0
- RedSaturation: 0
- Saturation: 0
- SaturationAdjustmentAqua: 0
- SaturationAdjustmentBlue: 0
- SaturationAdjustmentGreen: 0
- SaturationAdjustmentMagenta: 0
- SaturationAdjustmentOrange: 0
- SaturationAdjustmentPurple: 0
- SaturationAdjustmentRed: 0
- SaturationAdjustmentYellow: 0
- ShadowTint: 0
- Shadows: 18
- SharpenDetail: 25
- SharpenEdgeMasking: 0
- SharpenRadius: +1.0
- Sharpness: 25
- SplitToningBalance: 0
- SplitToningHighlightHue: 0
- SplitToningHighlightSaturation: 0
- SplitToningShadowHue: 0
- SplitToningShadowSaturation: 0
- Temperature: 6881
- Tint: -32
- ToneCurve: 0, 0, 32, 22, 64, 56, 128, 128, 192, 196, 255, 255
- ToneCurveName: Medium Contrast
- Version: 4.5
- Vibrance: 0
- VignetteAmount: 0
- WhiteBalance: Custom
- XMP-exif
- DateTimeDigitized: 2008:10:05 14:55:22.00+03:00
- DateTimeOriginal: 2008:10:05 14:55:22.00+03:00
- ExifImageHeight: 2191
- ExifImageWidth: 2204
- FlashFired: False
- FlashFunction: False
- FlashMode: Unknown
- FlashRedEyeMode: False
- FlashReturn: No return detection
- XMP-tiff
- ImageHeight: 2191
- ImageWidth: 2204
- XMP-xmp
- CreateDate: 2008:10:05 14:55:22.00+03:00
- ModifyDate: 2008:10:08 12:38:42+03:00
- Просмотров: 216
- Рейтинг: голосов еще нет
- Отзывов: отключены