Уважаемые друзья и участники проекта iXBT.photo! К сожалению, 1 марта 2026 года проект iXBT.photo прекратит свою работу и будет закрыт. Мы высоко ценим ваше участие и тот вклад, который вы внесли в развитие нашего сообщества. Пожалуйста, не забудьте сохранить ваши фотографии до этой даты.
С уважением, команда iXBT.com
| Берег |
Берег
- Раздел: Животные
- Дата съёмки: 10.10.2008 19:23
- Дата загрузки фото: 11.10.2008 23:34
- Оригинальная фотография: 1600 x 1121 (573 Кб)
- Технические характеристики:
- Фотоаппарат: Nikon D80
- Выдержка: 25,0
- Гиперфокальное расстояние: 18,76 m
- Диафрагма: 8,0
- Светочувствительность: 100
- Фокусное расстояние: 55,0 mm (35 mm equivalent: 82,0 mm)
- Экспокоррекция: -1/3
- Полный EXIF
- Adobe
- ColorTransform: YCbCr
- Composite
- Aperture: 8,0
- CircleOfConfusion: 0,020 mm
- FOV: 24,0 deg
- FocalLength35efl: 55,0 mm (35 mm equivalent: 82,0 mm)
- HyperfocalDistance: 18,76 m
- LightValue: 1,4
- ScaleFactor35efl: 1,5
- ShutterSpeed: 25,0
- ExifIFD
- ApertureValue: 8,0
- CFAPattern: [Green,Blue][Red,Green]
- Contrast: Normal
- CreateDate: 2008:10:10 19:23:15
- CustomRendered: Normal
- DateTimeOriginal: 2008:10:10 19:23:15
- DigitalZoomRatio: 1
- ExposureCompensation: -1/3
- ExposureMode: Manual
- ExposureProgram: Manual
- ExposureTime: 25,0
- FNumber: 8,0
- Flash: No Flash
- FocalLength: 55,0 mm
- FocalLengthIn35mmFormat: 82 mm
- GainControl: None
- ISO: 100
- LightSource: Unknown
- MaxApertureValue: 4,0
- MeteringMode: Center-weighted average
- Saturation: Normal
- SceneCaptureType: Standard
- SceneType: Directly photographed
- SensingMethod: One-chip color area
- Sharpness: Normal
- ShutterSpeedValue: 25,0
- SubjectDistanceRange: Unknown
- WhiteBalance: Auto
- ICC-header
- ICC-meas
- ICC-view
- IFD0
- Make: NIKON CORPORATION
- Model: NIKON D80
- ModifyDate: 2008:10:11 22:34:03
- Software: Ver.1.10
- XMP-aux
- ImageNumber: 2346
- Lens: 55.0-200.0 mm f/4.0-5.6
- LensInfo: 550/10 2000/10 40/10 56/10
- XMP-crs
- AlreadyApplied: True
- BlueHue: 0
- BlueSaturation: 0
- Brightness: +126
- CameraProfile: ACR 4.4
- ChromaticAberrationB: 0
- ChromaticAberrationR: 0
- Clarity: 0
- ColorNoiseReduction: 0
- Contrast: +27
- ConvertToGrayscale: False
- CropAngle: 0.713593
- CropBottom: 1
- CropHeight: 1121
- CropLeft: 0.106287
- CropRight: 0.986774
- CropTop: 0.053806
- CropUnit: 0
- CropWidth: 1600
- Defringe: 0
- Exposure: -0.22
- FillLight: 0
- GradientBasedCorrectionsCorrectionActive: true
- GradientBasedCorrectionsCorrectionAmount: 1.000000
- GradientBasedCorrectionsCorrectionMasksFullX: 0.480755
- GradientBasedCorrectionsCorrectionMasksFullY: 0.008699
- GradientBasedCorrectionsCorrectionMasksMaskValue: 1.000000
- GradientBasedCorrectionsCorrectionMasksWhat: Mask/Gradient
- GradientBasedCorrectionsCorrectionMasksZeroX: 0.476053
- GradientBasedCorrectionsCorrectionMasksZeroY: 0.759260
- GradientBasedCorrectionsLocalBrightness: 0.000000
- GradientBasedCorrectionsLocalClarity: 0.000000
- GradientBasedCorrectionsLocalContrast: 0.000000
- GradientBasedCorrectionsLocalExposure: -0.414000
- GradientBasedCorrectionsLocalSaturation: 0.000000
- GradientBasedCorrectionsLocalSharpness: 0.000000
- GradientBasedCorrectionsLocalToningHue: 348.000000
- GradientBasedCorrectionsLocalToningSaturation: 0.000000
- GradientBasedCorrectionsWhat: Correction
- GreenHue: 0
- GreenSaturation: 0
- HasCrop: True
- HasSettings: True
- HighlightRecovery: 90
- HueAdjustmentAqua: 0
- HueAdjustmentBlue: 0
- HueAdjustmentGreen: 0
- HueAdjustmentMagenta: 0
- HueAdjustmentOrange: 0
- HueAdjustmentPurple: 0
- HueAdjustmentRed: 0
- HueAdjustmentYellow: 0
- LuminanceAdjustmentAqua: 0
- LuminanceAdjustmentBlue: 0
- LuminanceAdjustmentGreen: 0
- LuminanceAdjustmentMagenta: 0
- LuminanceAdjustmentOrange: 0
- LuminanceAdjustmentPurple: 0
- LuminanceAdjustmentRed: 0
- LuminanceAdjustmentYellow: 0
- LuminanceSmoothing: 0
- PaintBasedCorrectionsCorrectionActive: true
- PaintBasedCorrectionsCorrectionAmount: 1.000000
- PaintBasedCorrectionsCorrectionMasksCenterWeight: 0.000000
- PaintBasedCorrectionsCorrectionMasksFlow: 1.000000
- PaintBasedCorrectionsCorrectionMasksMaskValue: 1.000000
- PaintBasedCorrectionsCorrectionMasksRadius: 0.015937
- PaintBasedCorrectionsCorrectionMasksWhat: Mask/Paint
- PaintBasedCorrectionsLocalBrightness: 0.000000
- PaintBasedCorrectionsLocalClarity: 0.000000
- PaintBasedCorrectionsLocalContrast: 0.000000
- PaintBasedCorrectionsLocalExposure: -0.257000
- PaintBasedCorrectionsLocalSaturation: 0.000000
- PaintBasedCorrectionsLocalSharpness: 0.000000
- PaintBasedCorrectionsLocalToningHue: 348.000000
- PaintBasedCorrectionsLocalToningSaturation: 0.000000
- PaintBasedCorrectionsWhat: Correction
- ParametricDarks: 0
- ParametricHighlightSplit: 75
- ParametricHighlights: 0
- ParametricLights: 0
- ParametricMidtoneSplit: 50
- ParametricShadowSplit: 25
- ParametricShadows: 0
- PostCropVignetteAmount: 0
- RedHue: 0
- RedSaturation: 0
- Saturation: 0
- SaturationAdjustmentAqua: 0
- SaturationAdjustmentBlue: 0
- SaturationAdjustmentGreen: 0
- SaturationAdjustmentMagenta: 0
- SaturationAdjustmentOrange: 0
- SaturationAdjustmentPurple: 0
- SaturationAdjustmentRed: 0
- SaturationAdjustmentYellow: 0
- ShadowTint: 0
- Shadows: 0
- SharpenDetail: 25
- SharpenEdgeMasking: 0
- SharpenRadius: +1.0
- Sharpness: 81
- SplitToningBalance: 0
- SplitToningHighlightHue: 0
- SplitToningHighlightSaturation: 0
- SplitToningShadowHue: 0
- SplitToningShadowSaturation: 0
- Temperature: 2556
- Tint: -52
- ToneCurve: 0, 0, 32, 22, 64, 56, 128, 128, 192, 196, 255, 255
- ToneCurveName: Medium Contrast
- Version: 4.5
- Vibrance: 0
- VignetteAmount: 0
- WhiteBalance: Custom
- XMP-exif
- DateTimeDigitized: 2008:10:10 19:23:15.40+03:00
- DateTimeOriginal: 2008:10:10 19:23:15.40+03:00
- ExifImageHeight: 1121
- ExifImageWidth: 1600
- FlashFired: False
- FlashFunction: False
- FlashMode: Unknown
- FlashRedEyeMode: False
- FlashReturn: No return detection
- XMP-tiff
- ImageHeight: 1121
- ImageWidth: 1600
- XMP-xmp
- CreateDate: 2008:10:10 19:23:15.40+03:00
- ModifyDate: 2008:10:11 22:34:03+03:00
Получить код для блога
| Вставка фотографии в текущем разрешении |
Вставка миниатюры |
HTML (для вставки в блог):
BBCode (для вставки в форум):
Ссылка на фото:
Ссылка на миниатюру:
- Послать ссылку другу
| Комментарии к фотографии |