- Раздел: Тесты фототехники
- Дата съёмки: 17.10.2008 21:08
- Дата загрузки фото: 17.10.2008 22:36
- Оригинальная фотография: 2592 x 3888 (4,0 Мб)
- Технические характеристики:
- Фотоаппарат: Canon EOS 400D DIGITAL
- Выдержка: 1/125
- Гиперфокальное расстояние: 1,95 m
- Диафрагма: 8,0
- Светочувствительность: 100
- Фокусное расстояние: 17,0 mm (35 mm equivalent: 27,6 mm)
- Полный EXIF
- Composite
- Aperture: 8,0
- CircleOfConfusion: 0,019 mm
- FOV: 66,0 deg
- FlashOn: Off
- FocalLength35efl: 17,0 mm (35 mm equivalent: 27,6 mm)
- HyperfocalDistance: 1,95 m
- ScaleFactor35efl: 1,6
- ShutterSpeed: 1/125
- ExifIFD
- ApertureValue: 8,0
- ColorSpace: Uncalibrated
- CreateDate: 2008:04:27 11:25:34
- DateTimeOriginal: 2008:04:27 11:25:34
- ExifImageHeight: 3888
- ExifImageWidth: 2592
- ExposureCompensation: 0
- ExposureProgram: Program AE
- ExposureTime: 1/125
- FNumber: 8,0
- Flash: Off
- FocalLength: 17,0 mm
- ISO: 100
- MaxApertureValue: 4,0
- MeteringMode: Multi-segment
- ShutterSpeedValue: 0,5
- ICC-header
- IFD0
- Artist: unknown
- Make: Canon
- Model: Canon EOS 400D DIGITAL
- ModifyDate: 2008:10:17 21:23:42
- Orientation: Horizontal (normal)
- Software: Capture NX 1.3.2 W
- IFD1
- IPTC
- By-line: unknown
- By-lineTitle:
- Caption-Abstract:
- Category:
- City:
- CopyrightNotice:
- Country-PrimaryLocationCode:
- Country-PrimaryLocationName:
- Credit:
- DateCreated:
- DateSent:
- Destination:
- ExpirationDate:
- ExpirationTime:
- FileFormat: No ObjectData
- FileVersion: 0
- Headline:
- LanguageIdentifier:
- ObjectName:
- OriginalTransmissionReference:
- OriginatingProgram:
- ProductID:
- ProgramVersion:
- Province-State:
- ReleaseDate:
- ReleaseTime:
- ServiceIdentifier:
- Source:
- SpecialInstructions:
- TimeSent:
- Writer-Editor:
- XMP-aux
- Firmware: 1.1.0
- FlashCompensation: 0
- ImageNumber: 48
- Lens: EF17-40mm f/4L USM
- LensInfo: 17/1 40/1 0/0 0/0
- OwnerName: unknown
- SerialNumber: 1330860903
- XMP-crs
- AlreadyApplied: True
- BlueHue: 0
- BlueSaturation: 0
- Brightness: +45
- CameraProfile: ACR 3.6
- ChromaticAberrationB: 0
- ChromaticAberrationR: 0
- ColorNoiseReduction: 25
- Contrast: +40
- ConvertToGrayscale: False
- Exposure: +0.15
- FillLight: 0
- GreenHue: 0
- GreenSaturation: 0
- HasCrop: False
- HasSettings: True
- HighlightRecovery: 10
- HueAdjustmentAqua: 0
- HueAdjustmentBlue: 0
- HueAdjustmentGreen: 0
- HueAdjustmentMagenta: 0
- HueAdjustmentOrange: 0
- HueAdjustmentPurple: 0
- HueAdjustmentRed: 0
- HueAdjustmentYellow: 0
- LuminanceAdjustmentAqua: 0
- LuminanceAdjustmentBlue: 0
- LuminanceAdjustmentGreen: 0
- LuminanceAdjustmentMagenta: 0
- LuminanceAdjustmentOrange: 0
- LuminanceAdjustmentPurple: 0
- LuminanceAdjustmentRed: 0
- LuminanceAdjustmentYellow: 0
- LuminanceSmoothing: 0
- ParametricDarks: 0
- ParametricHighlightSplit: 75
- ParametricHighlights: 0
- ParametricLights: 0
- ParametricMidtoneSplit: 50
- ParametricShadowSplit: 25
- ParametricShadows: 0
- RawFileName: IMG_2163.CR2
- RedHue: 0
- RedSaturation: 0
- Saturation: +3
- SaturationAdjustmentAqua: 0
- SaturationAdjustmentBlue: 0
- SaturationAdjustmentGreen: 0
- SaturationAdjustmentMagenta: 0
- SaturationAdjustmentOrange: 0
- SaturationAdjustmentPurple: 0
- SaturationAdjustmentRed: 0
- SaturationAdjustmentYellow: 0
- ShadowTint: 0
- Shadows: 5
- Sharpness: 25
- SplitToningBalance: 0
- SplitToningHighlightHue: 0
- SplitToningHighlightSaturation: 0
- SplitToningShadowHue: 0
- SplitToningShadowSaturation: 0
- Temperature: 5250
- Tint: +4
- ToneCurve: 0, 0, 32, 22, 64, 56, 128, 128, 192, 196, 255, 255
- ToneCurveName: Medium Contrast
- Version: 4.0
- Vibrance: +13
- VignetteAmount: 0
- WhiteBalance: Custom
- XMP-dc
- Creator: unknown
- Format: image/tiff
- XMP-exif
- ColorSpace: sRGB
- CustomRendered: Normal
- DateTimeDigitized: 2008:04:27 11:25:34+04:00
- DateTimeOriginal: 2008:04:27 11:25:34+04:00
- ExposureMode: Auto
- FlashFired: False
- FlashFunction: False
- FlashMode: Off
- FlashRedEyeMode: False
- FlashReturn: No return detection
- SceneCaptureType: Standard
- ShutterSpeedValue: 1/125
- WhiteBalance: Auto
- XMP-tiff
- ImageHeight: 3888
- ImageWidth: 2592
- XMP-xmp
- CreateDate: 2008:10:17 21:08:05+03:00
- ModifyDate: 2008:10:17 21:08:05+03:00
- XMP-xmpMM
- Просмотров: 689
- Рейтинг: голосов еще нет
- Отзывов: 0