- Раздел: Животные
- Дата съёмки: 23.10.2008 11:30
- Дата загрузки фото: 23.10.2008 12:29
- Оригинальная фотография: 1334 x 2000 (1,2 Мб)
- Технические характеристики:
- Фотоаппарат: Canon EOS 40D
- Выдержка: 1/200
- Гиперфокальное расстояние: 185,80 m
- Диафрагма: 2,5
- Светочувствительность:
- Фокусное расстояние: 85,0 mm (35 mm equivalent: 164,2 mm)
- Экспокоррекция: +2
- Полный EXIF
- Composite
- Aperture: 2,5
- CircleOfConfusion: 0,016 mm
- FOV: 12,0 deg
- FocalLength35efl: 85,0 mm (35 mm equivalent: 164,2 mm)
- HyperfocalDistance: 185,80 m
- ScaleFactor35efl: 1,9
- ShutterSpeed: 1/200
- ExifIFD
- ApertureValue: 2,5
- CreateDate: 2008:10:23 11:30:55
- CustomRendered: Normal
- DateTimeOriginal: 2008:10:23 11:30:55
- ExifImageHeight: 2000
- ExifImageWidth: 1334
- ExposureCompensation: +2
- ExposureMode: Auto
- ExposureProgram: Aperture-priority AE
- ExposureTime: 1/200
- FNumber: 2,5
- Flash: Off
- FocalLength: 85,0 mm
- ISO:
- MaxApertureValue: 1,8
- MeteringMode: Multi-segment
- SceneCaptureType: Standard
- ShutterSpeedValue: 1/200
- WhiteBalance: Auto
- ICC-header
- ICC-meas
- ICC-view
- IFD0
- Artist: Roman E Demakov
- Make: Canon
- Model: Canon EOS 40D
- ModifyDate: 2008:10:23 13:28:31
- Orientation: Horizontal (normal)
- Software: ACD Systems Digital Imaging
- IPTC
- XMP-aux
- Firmware: 1.0.8
- FlashCompensation: 0
- ImageNumber: 0
- Lens: EF85mm f/1.8 USM
- LensInfo: 85/1 85/1 0/0 0/0
- OwnerName: Roman E Demakov
- SerialNumber: 830523091
- XMP-crs
- AlreadyApplied: True
- BlueHue: 0
- BlueSaturation: 0
- Brightness: 0
- CameraProfile: ACR 2.4
- ChromaticAberrationB: 0
- ChromaticAberrationR: 0
- Clarity: 0
- ColorNoiseReduction: 25
- Contrast: +5
- ConvertToGrayscale: True
- CropAngle: 0
- CropBottom: 0.896491
- CropHeight: 2174
- CropLeft: 0.161404
- CropRight: 1
- CropTop: 0.057895
- CropUnit: 0
- CropWidth: 3260
- Defringe: 0
- Exposure: -0.95
- FillLight: 0
- GrayMixerAqua: -10
- GrayMixerBlue: +20
- GrayMixerGreen: -17
- GrayMixerMagenta: +32
- GrayMixerOrange: +12
- GrayMixerPurple: +25
- GrayMixerRed: +39
- GrayMixerYellow: -9
- GreenHue: 0
- GreenSaturation: 0
- HasCrop: True
- HasSettings: True
- HighlightRecovery: 8
- LuminanceSmoothing: 0
- ParametricDarks: -17
- ParametricHighlightSplit: 75
- ParametricHighlights: 0
- ParametricLights: +28
- ParametricMidtoneSplit: 50
- ParametricShadowSplit: 25
- ParametricShadows: 0
- PostCropVignetteAmount: -21
- PostCropVignetteFeather: 50
- PostCropVignetteMidpoint: 68
- PostCropVignetteRoundness: 0
- RedHue: 0
- RedSaturation: 0
- ShadowTint: 0
- Shadows: 7
- SharpenDetail: 25
- SharpenEdgeMasking: 0
- SharpenRadius: +1.0
- Sharpness: 25
- SplitToningBalance: 0
- SplitToningHighlightHue: 51
- SplitToningHighlightSaturation: 22
- SplitToningShadowHue: 37
- SplitToningShadowSaturation: 32
- Temperature: 5550
- Tint: -4
- ToneCurve: 0, 0, 32, 22, 64, 56, 128, 128, 192, 196, 255, 255
- ToneCurveName: Medium Contrast
- Version: 4.5
- VignetteAmount: 0
- WhiteBalance: Custom
- XMP-dc
- XMP-exif
- DateTimeDigitized: 2008:10:23 11:30:551Z
- DateTimeOriginal: 2008:10:23 11:30:551Z
- ExifImageHeight: 3260
- ExifImageWidth: 2174
- FlashFired: False
- FlashFunction: False
- FlashMode: Off
- FlashRedEyeMode: False
- FlashReturn: No return detection
- XMP-tiff
- ImageHeight: 3260
- ImageWidth: 2174
- XMP-xmp
- CreateDate: 2008:10:23 11:30:55.01+05:00
- ModifyDate: 2008:10:23 08:06:540Z
- Просмотров: 200
- Рейтинг: голосов еще нет
- Отзывов: 0