- Раздел: Природа
- Дата съёмки: 09.10.2008 12:33
- Дата загрузки фото: 03.11.2008 23:53
- Оригинальная фотография: 1974 x 2226 (1,7 Мб)
- Технические характеристики:
- Фотоаппарат: Nikon D80
- Выдержка: 1/180
- Гиперфокальное расстояние: 26,00 m
- Диафрагма: 4,8
- Светочувствительность: 100
- Фокусное расстояние: 50,0 mm (35 mm equivalent: 75,0 mm)
- Экспокоррекция: -1/2
- Полный EXIF
- Adobe
- ColorTransform: YCbCr
- Composite
- Aperture: 4,8
- CircleOfConfusion: 0,020 mm
- FOV: 26,0 deg
- FocalLength35efl: 50,0 mm (35 mm equivalent: 75,0 mm)
- HyperfocalDistance: 26,00 m
- ScaleFactor35efl: 1,5
- ShutterSpeed: 1/180
- ExifIFD
- ApertureValue: 4,8
- CFAPattern: [Green,Blue][Red,Green]
- Contrast: Normal
- CreateDate: 2008:10:09 12:33:07
- CustomRendered: Normal
- DateTimeOriginal: 2008:10:09 12:33:07
- DigitalZoomRatio: 1
- ExposureCompensation: -1/2
- ExposureMode: Auto
- ExposureProgram: Program AE
- ExposureTime: 1/180
- FNumber: 4,8
- Flash: No Flash
- FocalLength: 50,0 mm
- FocalLengthIn35mmFormat: 75 mm
- GainControl: None
- ISO: 100
- LightSource: Unknown
- MaxApertureValue: 4,8
- MeteringMode: Multi-segment
- Saturation: Normal
- SceneCaptureType: Standard
- SceneType: Directly photographed
- SensingMethod: One-chip color area
- Sharpness: Normal
- ShutterSpeedValue: 1/180
- SubjectDistanceRange: Unknown
- UserComment: EXP!
- WhiteBalance: Auto
- ICC-header
- ICC-meas
- ICC-view
- IFD0
- Make: NIKON CORPORATION
- Model: NIKON D80
- ModifyDate: 2008:11:04 02:48:10
- Software: Ver.1.01
- XMP-aux
- ImageNumber: 2029
- Lens: 18.0-200.0 mm f/3.5-5.6
- LensInfo: 180/10 2000/10 35/10 56/10
- XMP-crs
- AlreadyApplied: True
- BlueHue: +6
- BlueSaturation: -30
- Brightness: +48
- CameraProfile: ACR 3.3
- ChromaticAberrationB: 0
- ChromaticAberrationR: 0
- Clarity: +20
- ColorNoiseReduction: 5
- Contrast: +20
- ConvertToGrayscale: False
- CropAngle: 0
- CropBottom: 0.761557
- CropHeight: 1974
- CropLeft: 0.348535
- CropRight: 0.923453
- CropTop: 0
- CropUnit: 0
- CropWidth: 2226
- Defringe: 0
- Exposure: +0.78
- FillLight: 0
- GreenHue: +30
- GreenSaturation: +20
- HasCrop: True
- HasSettings: True
- HighlightRecovery: 0
- HueAdjustmentAqua: +7
- HueAdjustmentBlue: 0
- HueAdjustmentGreen: -5
- HueAdjustmentMagenta: +7
- HueAdjustmentOrange: -10
- HueAdjustmentPurple: +5
- HueAdjustmentRed: +5
- HueAdjustmentYellow: -6
- LuminanceAdjustmentAqua: +4
- LuminanceAdjustmentBlue: +5
- LuminanceAdjustmentGreen: +4
- LuminanceAdjustmentMagenta: +4
- LuminanceAdjustmentOrange: +10
- LuminanceAdjustmentPurple: +2
- LuminanceAdjustmentRed: +10
- LuminanceAdjustmentYellow: +8
- LuminanceSmoothing: 15
- ParametricDarks: +2
- ParametricHighlightSplit: 71
- ParametricHighlights: -8
- ParametricLights: +4
- ParametricMidtoneSplit: 51
- ParametricShadowSplit: 20
- ParametricShadows: -40
- PostCropVignetteAmount: 0
- RedHue: -5
- RedSaturation: +15
- Saturation: +5
- SaturationAdjustmentAqua: +12
- SaturationAdjustmentBlue: +8
- SaturationAdjustmentGreen: -8
- SaturationAdjustmentMagenta: 0
- SaturationAdjustmentOrange: +10
- SaturationAdjustmentPurple: 0
- SaturationAdjustmentRed: -5
- SaturationAdjustmentYellow: -2
- ShadowTint: -5
- Shadows: 3
- SharpenDetail: 40
- SharpenEdgeMasking: 0
- SharpenRadius: +1.0
- Sharpness: 40
- SplitToningBalance: 0
- SplitToningHighlightHue: 0
- SplitToningHighlightSaturation: 0
- SplitToningShadowHue: 0
- SplitToningShadowSaturation: 0
- Temperature: 4400
- Tint: +2
- ToneCurve: 0, 0, 32, 22, 64, 56, 128, 128, 192, 196, 255, 255
- ToneCurveName: Medium Contrast
- Version: 4.6
- Vibrance: 0
- VignetteAmount: 0
- WhiteBalance: As Shot
- XMP-exif
- DateTimeDigitized: 2008:10:09 12:33:07.10+07:00
- DateTimeOriginal: 2008:10:09 12:33:07.10+07:00
- ExifImageHeight: 2226
- ExifImageWidth: 1974
- FlashFired: False
- FlashFunction: False
- FlashMode: Unknown
- FlashRedEyeMode: False
- FlashReturn: No return detection
- XMP-tiff
- ImageHeight: 2226
- ImageWidth: 1974
- XMP-xmp
- CreateDate: 2008:10:09 12:33:07.10+07:00
- Label: Blue
- ModifyDate: 2008:11:04 02:48:10+06:00
- Просмотров: 336
- Рейтинг: голосов еще нет
- Отзывов: 0