Уважаемые друзья и участники проекта iXBT.photo! К сожалению, 5 марта 2026 года проект iXBT.photo прекратит свою работу и будет закрыт. Мы высоко ценим ваше участие и тот вклад, который вы внесли в развитие нашего сообщества. Пожалуйста, не забудьте сохранить ваши фотографии до этой даты.
С уважением, команда iXBT.com
| DSC_1767.jpg |
DSC_1767.jpg
- Раздел: Природа
- Дата съёмки: 09.10.2008 12:40
- Дата загрузки фото: 03.11.2008 23:54
- Оригинальная фотография: 3781 x 2364 (2,9 Мб)
- Технические характеристики:
- Фотоаппарат: Nikon D80
- Выдержка: 1/250
- Гиперфокальное расстояние: 2,89 m
- Диафрагма: 5,6
- Светочувствительность: 100
- Фокусное расстояние: 18,0 mm (35 mm equivalent: 27,0 mm)
- Экспокоррекция: -1/2
- Полный EXIF
- Adobe
- ColorTransform: YCbCr
- Composite
- Aperture: 5,6
- CircleOfConfusion: 0,020 mm
- FOV: 67,0 deg
- FocalLength35efl: 18,0 mm (35 mm equivalent: 27,0 mm)
- HyperfocalDistance: 2,89 m
- ScaleFactor35efl: 1,5
- ShutterSpeed: 1/250
- ExifIFD
- ApertureValue: 5,6
- CFAPattern: [Green,Blue][Red,Green]
- Contrast: Normal
- CreateDate: 2008:10:09 12:40:05
- CustomRendered: Normal
- DateTimeOriginal: 2008:10:09 12:40:05
- DigitalZoomRatio: 1
- ExposureCompensation: -1/2
- ExposureMode: Auto
- ExposureProgram: Program AE
- ExposureTime: 1/250
- FNumber: 5,6
- Flash: No Flash
- FocalLength: 18,0 mm
- FocalLengthIn35mmFormat: 27 mm
- GainControl: None
- ISO: 100
- LightSource: Unknown
- MaxApertureValue: 3,5
- MeteringMode: Multi-segment
- Saturation: Normal
- SceneCaptureType: Standard
- SceneType: Directly photographed
- SensingMethod: One-chip color area
- Sharpness: Normal
- ShutterSpeedValue: 1/250
- SubjectDistanceRange: Unknown
- UserComment: EXP!
- WhiteBalance: Auto
- ICC-header
- ICC-meas
- ICC-view
- IFD0
- Make: NIKON CORPORATION
- Model: NIKON D80
- ModifyDate: 2008:11:04 02:48:25
- Software: Ver.1.01
- XMP-aux
- ImageNumber: 2036
- Lens: 18.0-200.0 mm f/3.5-5.6
- LensInfo: 180/10 2000/10 35/10 56/10
- XMP-crs
- AlreadyApplied: True
- BlueHue: -11
- BlueSaturation: +54
- Brightness: +48
- CameraProfile: ACR 4.4
- ChromaticAberrationB: 0
- ChromaticAberrationR: 0
- Clarity: +20
- ColorNoiseReduction: 5
- Contrast: +20
- ConvertToGrayscale: False
- CropAngle: 0
- CropBottom: 0.912088
- CropHeight: 2364
- CropLeft: 0.023529
- CropRight: 1
- CropTop: 0
- CropUnit: 0
- CropWidth: 3781
- Defringe: 0
- Exposure: +0.44
- FillLight: 20
- GreenHue: 0
- GreenSaturation: 0
- HasCrop: True
- HasSettings: True
- HighlightRecovery: 4
- HueAdjustmentAqua: +7
- HueAdjustmentBlue: 0
- HueAdjustmentGreen: -5
- HueAdjustmentMagenta: +7
- HueAdjustmentOrange: -10
- HueAdjustmentPurple: +5
- HueAdjustmentRed: +5
- HueAdjustmentYellow: -6
- LuminanceAdjustmentAqua: +4
- LuminanceAdjustmentBlue: +5
- LuminanceAdjustmentGreen: +4
- LuminanceAdjustmentMagenta: +4
- LuminanceAdjustmentOrange: +10
- LuminanceAdjustmentPurple: +2
- LuminanceAdjustmentRed: +10
- LuminanceAdjustmentYellow: +8
- LuminanceSmoothing: 15
- ParametricDarks: +2
- ParametricHighlightSplit: 71
- ParametricHighlights: -8
- ParametricLights: +4
- ParametricMidtoneSplit: 51
- ParametricShadowSplit: 20
- ParametricShadows: -40
- PostCropVignetteAmount: 0
- RedHue: 0
- RedSaturation: 0
- Saturation: 0
- SaturationAdjustmentAqua: +12
- SaturationAdjustmentBlue: +8
- SaturationAdjustmentGreen: -8
- SaturationAdjustmentMagenta: 0
- SaturationAdjustmentOrange: +10
- SaturationAdjustmentPurple: 0
- SaturationAdjustmentRed: -5
- SaturationAdjustmentYellow: -2
- ShadowTint: +15
- Shadows: 3
- SharpenDetail: 40
- SharpenEdgeMasking: 0
- SharpenRadius: +1.7
- Sharpness: 40
- SplitToningBalance: 0
- SplitToningHighlightHue: 0
- SplitToningHighlightSaturation: 0
- SplitToningShadowHue: 0
- SplitToningShadowSaturation: 0
- Temperature: 5100
- Tint: 0
- ToneCurve: 0, 0, 32, 22, 64, 56, 128, 128, 192, 196, 255, 255
- ToneCurveName: Medium Contrast
- Version: 4.6
- Vibrance: 0
- VignetteAmount: 0
- WhiteBalance: As Shot
- XMP-exif
- DateTimeDigitized: 2008:10:09 12:40:05.20+07:00
- DateTimeOriginal: 2008:10:09 12:40:05.20+07:00
- ExifImageHeight: 2364
- ExifImageWidth: 3781
- FlashFired: False
- FlashFunction: False
- FlashMode: Unknown
- FlashRedEyeMode: False
- FlashReturn: No return detection
- XMP-tiff
- ImageHeight: 2364
- ImageWidth: 3781
- XMP-xmp
- CreateDate: 2008:10:09 12:40:05.20+07:00
- Label: Blue
- ModifyDate: 2008:11:04 02:48:25+06:00
- Просмотров: 489
- Рейтинг: голосов еще нет
- Отзывов: 0
Получить код для блога
| Вставка фотографии в текущем разрешении |
Вставка миниатюры |
HTML (для вставки в блог):
BBCode (для вставки в форум):
Ссылка на фото:
Ссылка на миниатюру:
- Послать ссылку другу
| Комментарии к фотографии |