- Раздел: Другое, разное
- Дата съёмки: 23.09.2008 10:14
- Дата загрузки фото: 08.11.2008 22:58
- Оригинальная фотография: 4209 x 2806 (5,2 Мб)
- Технические характеристики:
- Фотоаппарат: Canon EOS 5D
- Выдержка: 1/180
- Гиперфокальное расстояние: 7,87 m
- Диафрагма: 11,0
- Светочувствительность: 320
- Фокусное расстояние: 50,0 mm (35 mm equivalent: 52,0 mm)
- Полный EXIF
- Adobe
- ColorTransform: YCbCr
- Composite
- Aperture: 11,0
- CircleOfConfusion: 0,029 mm
- FOV: 38,0 deg
- FocalLength35efl: 50,0 mm (35 mm equivalent: 52,0 mm)
- HyperfocalDistance: 7,87 m
- ScaleFactor35efl: 1,0
- ShutterSpeed: 1/180
- ExifIFD
- ApertureValue: 11,0
- CreateDate: 2008:09:23 10:14:34
- CustomRendered: Normal
- DateTimeOriginal: 2008:09:23 10:14:34
- ExposureCompensation: 0
- ExposureMode: Auto
- ExposureProgram: Aperture-priority AE
- ExposureTime: 1/180
- FNumber: 11,0
- Flash: Off
- FocalLength: 50,0 mm
- ISO: 320
- MaxApertureValue: 1,4
- MeteringMode: Unknown
- SceneCaptureType: Standard
- ShutterSpeedValue: 1/180
- WhiteBalance: Auto
- ICC-header
- ICC-meas
- ICC-view
- IFD0
- Make: Canon
- Model: Canon EOS 5D
- ModifyDate: 2008:11:08 22:32:05
- XMP-aux
- Firmware: 1.1.1
- FlashCompensation: 0
- ImageNumber: 27
- Lens: EF50mm f/1.4 USM
- LensInfo: 50/1 50/1 0/0 0/0
- SerialNumber: 1130701163
- XMP-crs
- AlreadyApplied: True
- BlueHue: 0
- BlueSaturation: 0
- Brightness: +50
- CameraProfile: ACR 4.4
- ChromaticAberrationB: 0
- ChromaticAberrationR: 0
- Clarity: +20
- ColorNoiseReduction: 25
- Contrast: +80
- ConvertToGrayscale: False
- CropAngle: 1.45195
- CropBottom: 1
- CropHeight: 2806
- CropLeft: 0.026453
- CropRight: 0.973547
- CropTop: 0
- CropUnit: 0
- CropWidth: 4209
- Defringe: 0
- Exposure: -0.38
- FillLight: 0
- GreenHue: 0
- GreenSaturation: 0
- HasCrop: True
- HasSettings: True
- HighlightRecovery: 0
- HueAdjustmentAqua: 0
- HueAdjustmentBlue: 0
- HueAdjustmentGreen: 0
- HueAdjustmentMagenta: 0
- HueAdjustmentOrange: 0
- HueAdjustmentPurple: 0
- HueAdjustmentRed: 0
- HueAdjustmentYellow: 0
- LuminanceAdjustmentAqua: -5
- LuminanceAdjustmentBlue: -52
- LuminanceAdjustmentGreen: 0
- LuminanceAdjustmentMagenta: 0
- LuminanceAdjustmentOrange: 0
- LuminanceAdjustmentPurple: 0
- LuminanceAdjustmentRed: 0
- LuminanceAdjustmentYellow: 0
- LuminanceSmoothing: 0
- ParametricDarks: 0
- ParametricHighlightSplit: 75
- ParametricHighlights: 0
- ParametricLights: 0
- ParametricMidtoneSplit: 50
- ParametricShadowSplit: 25
- ParametricShadows: 0
- PostCropVignetteAmount: 0
- RedHue: 0
- RedSaturation: 0
- Saturation: 0
- SaturationAdjustmentAqua: 0
- SaturationAdjustmentBlue: 0
- SaturationAdjustmentGreen: 0
- SaturationAdjustmentMagenta: 0
- SaturationAdjustmentOrange: 0
- SaturationAdjustmentPurple: 0
- SaturationAdjustmentRed: 0
- SaturationAdjustmentYellow: 0
- ShadowTint: 0
- Shadows: 5
- SharpenDetail: 25
- SharpenEdgeMasking: 0
- SharpenRadius: +1.0
- Sharpness: 25
- SplitToningBalance: -40
- SplitToningHighlightHue: 197
- SplitToningHighlightSaturation: 51
- SplitToningShadowHue: 30
- SplitToningShadowSaturation: 18
- Temperature: 6405
- Tint: 0
- ToneCurve: 0, 0, 32, 22, 64, 56, 128, 128, 192, 196, 255, 255
- ToneCurveName: Medium Contrast
- Version: 4.6
- Vibrance: 0
- VignetteAmount: 0
- WhiteBalance: Custom
- XMP-exif
- DateTimeDigitized: 2008:09:23 10:14:34+04:00
- DateTimeOriginal: 2008:09:23 10:14:34+04:00
- ExifImageHeight: 2806
- ExifImageWidth: 4209
- FlashFired: False
- FlashFunction: False
- FlashMode: Off
- FlashRedEyeMode: False
- FlashReturn: No return detection
- XMP-tiff
- ImageHeight: 2806
- ImageWidth: 4209
- XMP-xmp
- CreateDate: 2008:09:23 10:14:34+04:00
- ModifyDate: 2008:11:08 22:32:05+03:00
- Просмотров: 401
- Рейтинг: голосов еще нет
- Отзывов: 0