- Раздел: Другое, разное
- Дата съёмки: 20.10.2008 22:54
- Дата загрузки фото: 11.11.2008 13:30
- Оригинальная фотография: 3750 x 2453 (2,7 Мб)
- Технические характеристики:
- Фотоаппарат: Canon EOS 40D
- Выдержка: 1/200
- Гиперфокальное расстояние: 252,82 m
- Диафрагма: 5,0
- Светочувствительность: 200
- Фокусное расстояние: 150,0 mm (35 mm equivalent: 253,2 mm)
- Полный EXIF
- Adobe
- ColorTransform: YCbCr
- Composite
- Aperture: 5,0
- CircleOfConfusion: 0,018 mm
- FOV: 8,0 deg
- FocalLength35efl: 150,0 mm (35 mm equivalent: 253,2 mm)
- HyperfocalDistance: 252,82 m
- ScaleFactor35efl: 1,7
- ShutterSpeed: 1/200
- ExifIFD
- ApertureValue: 5,0
- ColorSpace: sRGB
- CreateDate: 2008:10:19 23:15:28
- CustomRendered: Normal
- DateTimeOriginal: 2008:10:19 23:15:28
- ExifImageHeight: 2453
- ExifImageWidth: 3750
- ExposureCompensation: 0
- ExposureMode: Auto
- ExposureProgram: Aperture-priority AE
- ExposureTime: 1/200
- FNumber: 5,0
- Flash: Off
- FocalLength: 150,0 mm
- ISO: 200
- MaxApertureValue: 2,8
- MeteringMode: Partial
- SceneCaptureType: Standard
- ShutterSpeedValue: 1/200
- WhiteBalance: Manual
- ICC-header
- ICC-meas
- ICC-view
- IFD0
- Artist: Nialex
- Make: Canon
- Model: Canon EOS 40D
- ModifyDate: 2008:11:11 13:28:29
- Orientation: Horizontal (normal)
- IFD1
- IPTC
- By-line: Nialex
- XMP-aux
- Firmware: 1.0.8
- FlashCompensation: 0
- ImageNumber: 0
- Lens: 150mm
- LensInfo: 150/1 150/1 0/0 0/0
- OwnerName: Nialex
- SerialNumber: 830523308
- XMP-crs
- AlreadyApplied: True
- BlueHue: 0
- BlueSaturation: 0
- Brightness: +60
- CameraProfile: ACR 4.4
- ChromaticAberrationB: 0
- ChromaticAberrationR: 0
- Clarity: +33
- ColorNoiseReduction: 13
- Contrast: +57
- ConvertToGrayscale: False
- Defringe: 0
- Exposure: +0.45
- FillLight: 0
- GreenHue: 0
- GreenSaturation: 0
- HasCrop: False
- HasSettings: True
- HighlightRecovery: 40
- HueAdjustmentAqua: 0
- HueAdjustmentBlue: 0
- HueAdjustmentGreen: 0
- HueAdjustmentMagenta: 0
- HueAdjustmentOrange: +14
- HueAdjustmentPurple: 0
- HueAdjustmentRed: 0
- HueAdjustmentYellow: +8
- LuminanceAdjustmentAqua: 0
- LuminanceAdjustmentBlue: -4
- LuminanceAdjustmentGreen: 0
- LuminanceAdjustmentMagenta: +3
- LuminanceAdjustmentOrange: +2
- LuminanceAdjustmentPurple: 0
- LuminanceAdjustmentRed: -5
- LuminanceAdjustmentYellow: +3
- LuminanceSmoothing: 20
- ParametricDarks: 0
- ParametricHighlightSplit: 75
- ParametricHighlights: 0
- ParametricLights: 0
- ParametricMidtoneSplit: 50
- ParametricShadowSplit: 25
- ParametricShadows: 0
- PostCropVignetteAmount: 0
- RawFileName: IMG_8080.CR2
- RedHue: 0
- RedSaturation: 0
- Saturation: 0
- SaturationAdjustmentAqua: 0
- SaturationAdjustmentBlue: 0
- SaturationAdjustmentGreen: 0
- SaturationAdjustmentMagenta: 0
- SaturationAdjustmentOrange: +11
- SaturationAdjustmentPurple: 0
- SaturationAdjustmentRed: +9
- SaturationAdjustmentYellow: +3
- ShadowTint: 0
- Shadows: 3
- SharpenDetail: 26
- SharpenEdgeMasking: 0
- SharpenRadius: +1.2
- Sharpness: 78
- SplitToningBalance: 0
- SplitToningHighlightHue: 0
- SplitToningHighlightSaturation: 0
- SplitToningShadowHue: 0
- SplitToningShadowSaturation: 0
- Temperature: 2850
- Tint: 0
- ToneCurve: 0, 0, 32, 22, 64, 56, 128, 128, 192, 196, 255, 255
- ToneCurveName: Medium Contrast
- Version: 4.5
- Vibrance: +3
- VignetteAmount: 0
- WhiteBalance: Tungsten
- XMP-dc
- Creator: Nialex
- Format: image/jpeg
- XMP-exif
- DateTimeDigitized: 2008:10:19 23:15:28.00+04:00
- DateTimeOriginal: 2008:10:19 23:15:28.00+04:00
- FlashFired: False
- FlashFunction: False
- FlashMode: Off
- FlashRedEyeMode: False
- FlashReturn: No return detection
- XMP-tiff
- XMP-xmp
- CreateDate: 2008:10:20 22:54:19+04:00
- ModifyDate: 2008:11:11 13:28:29+03:00
- Rating: 0
- XMP-xmpMM
- DerivedFrom:
- Просмотров: 144
- Рейтинг: голосов еще нет
- Отзывов: 0