- Раздел: Портрет
- Дата съёмки: 16.11.2008 12:49
- Дата загрузки фото: 16.11.2008 15:48
- Оригинальная фотография: 667 x 1000 (504 Кб)
- Технические характеристики:
- Фотоаппарат: Canon EOS 400D DIGITAL
- Выдержка: 1/125
- Гиперфокальное расстояние: 1569,43 m
- Диафрагма: 4,0
- Светочувствительность: 400
- Фокусное расстояние: 173,0 mm (35 mm equivalent: 1090,3 mm)
- Полный EXIF
- Adobe
- ColorTransform: YCbCr
- Composite
- Aperture: 4,0
- CircleOfConfusion: 0,005 mm
- FOV: 1,0 deg
- FocalLength35efl: 173,0 mm (35 mm equivalent: 1090,3 mm)
- HyperfocalDistance: 1569,43 m
- ScaleFactor35efl: 6,3
- ShutterSpeed: 1/125
- ExifIFD
- ApertureValue: 4,0
- CreateDate: 2008:11:16 12:49:17
- CustomRendered: Normal
- DateTimeOriginal: 2008:11:16 12:49:17
- ExposureCompensation: 0
- ExposureMode: Auto
- ExposureProgram: Aperture-priority AE
- ExposureTime: 1/125
- FNumber: 4,0
- Flash: Off
- FocalLength: 173,0 mm
- ISO: 400
- MaxApertureValue: 4,0
- MeteringMode: Average
- SceneCaptureType: Standard
- ShutterSpeedValue: 1/125
- WhiteBalance: Auto
- ICC-header
- ICC-meas
- ICC-view
- IFD0
- Artist: healix
- Make: Canon
- Model: Canon EOS 400D DIGITAL
- ModifyDate: 2008:11:16 14:47:37
- IPTC
- By-line: healix
- City: Kyiv
- Country-PrimaryLocationCode: 380
- Country-PrimaryLocationName: Ukraine
- XMP-aux
- Firmware: 1.1.1
- FlashCompensation: 0
- ImageNumber: 192
- Lens: EF70-200mm f/4L IS USM
- LensInfo: 70/1 200/1 0/0 0/0
- OwnerName: healix
- SerialNumber: 1731111124
- XMP-crs
- AlreadyApplied: True
- BlueHue: 0
- BlueSaturation: 0
- Brightness: +14
- CameraProfile: ACR 4.4
- ChromaticAberrationB: 0
- ChromaticAberrationR: 0
- Clarity: 0
- ColorNoiseReduction: 25
- Contrast: +50
- ConvertToGrayscale: False
- CropAngle: 0
- CropBottom: 0.91687
- CropHeight: 667
- CropLeft: 0.14181
- CropRight: 1
- CropTop: 0.05868
- CropUnit: 0
- CropWidth: 1000
- Defringe: 0
- Exposure: -0.20
- FillLight: 36
- GreenHue: 0
- GreenSaturation: 0
- HasCrop: True
- HasSettings: True
- HighlightRecovery: 7
- HueAdjustmentAqua: 0
- HueAdjustmentBlue: 0
- HueAdjustmentGreen: 0
- HueAdjustmentMagenta: 0
- HueAdjustmentOrange: 0
- HueAdjustmentPurple: 0
- HueAdjustmentRed: 0
- HueAdjustmentYellow: 0
- LuminanceAdjustmentAqua: 0
- LuminanceAdjustmentBlue: 0
- LuminanceAdjustmentGreen: 0
- LuminanceAdjustmentMagenta: 0
- LuminanceAdjustmentOrange: 0
- LuminanceAdjustmentPurple: 0
- LuminanceAdjustmentRed: 0
- LuminanceAdjustmentYellow: 0
- LuminanceSmoothing: 0
- ParametricDarks: 0
- ParametricHighlightSplit: 75
- ParametricHighlights: 0
- ParametricLights: 0
- ParametricMidtoneSplit: 50
- ParametricShadowSplit: 25
- ParametricShadows: 0
- PostCropVignetteAmount: 0
- RedHue: 0
- RedSaturation: 0
- Saturation: 0
- SaturationAdjustmentAqua: 0
- SaturationAdjustmentBlue: 0
- SaturationAdjustmentGreen: 0
- SaturationAdjustmentMagenta: 0
- SaturationAdjustmentOrange: 0
- SaturationAdjustmentPurple: 0
- SaturationAdjustmentRed: 0
- SaturationAdjustmentYellow: 0
- ShadowTint: 0
- Shadows: 15
- SharpenDetail: 25
- SharpenEdgeMasking: 0
- SharpenRadius: +1.0
- Sharpness: 25
- SplitToningBalance: 0
- SplitToningHighlightHue: 0
- SplitToningHighlightSaturation: 0
- SplitToningShadowHue: 0
- SplitToningShadowSaturation: 0
- Temperature: 5300
- Tint: +6
- ToneCurve: 0, 0, 32, 22, 64, 56, 128, 128, 192, 196, 255, 255
- ToneCurveName: Medium Contrast
- Version: 4.6
- Vibrance: 0
- VignetteAmount: 0
- WhiteBalance: As Shot
- XMP-dc
- XMP-exif
- DateTimeDigitized: 2008:11:16 12:49:17+02:00
- DateTimeOriginal: 2008:11:16 12:49:17+02:00
- ExifImageHeight: 1000
- ExifImageWidth: 667
- FlashFired: False
- FlashFunction: False
- FlashMode: Off
- FlashRedEyeMode: False
- FlashReturn: No return detection
- XMP-iptcCore
- XMP-tiff
- ImageHeight: 1000
- ImageWidth: 667
- XMP-xmp
- CreateDate: 2008:11:16 12:49:17+02:00
- ModifyDate: 2008:11:16 14:47:37+02:00