- Раздел: Другое, разное
- Дата съёмки: 13.08.2008 19:04
- Дата загрузки фото: 03.12.2008 02:24
- Оригинальная фотография: 800 x 600 (438 Кб)
- Технические характеристики:
- Фотоаппарат: Canon PowerShot G9
- Выдержка: 1/1600
- Гиперфокальное расстояние: 6,09 m
- Диафрагма: 2,8
- Светочувствительность: 80
- Фокусное расстояние: 7,4 mm (35 mm equivalent: 69,2 mm)
- Полный EXIF
- Adobe
- ColorTransform: YCbCr
- Composite
- Aperture: 2,8
- CircleOfConfusion: 0,003 mm
- FOV: 29,0 deg
- FocalLength35efl: 7,4 mm (35 mm equivalent: 69,2 mm)
- HyperfocalDistance: 6,09 m
- ScaleFactor35efl: 9,4
- ShutterSpeed: 1/1600
- ExifIFD
- ApertureValue: 2,8
- CreateDate: 2008:08:13 19:04:11
- CustomRendered: Normal
- DateTimeOriginal: 2008:08:13 19:04:11
- DigitalZoomRatio: 1
- ExposureCompensation: 0
- ExposureMode: Manual
- ExposureTime: 1/1600
- FNumber: 2,8
- Flash: Off
- FocalLength: 7,4 mm
- ISO: 80
- MaxApertureValue: 2,8
- MeteringMode: Multi-segment
- SceneCaptureType: Standard
- SensingMethod: One-chip color area
- ShutterSpeedValue: 1/1600
- WhiteBalance: Manual
- ICC-header
- ICC-meas
- ICC-view
- IFD0
- Make: Canon
- Model: Canon PowerShot G9
- ModifyDate: 2008:12:01 02:06:27
- XMP-aux
- Firmware: 1.00
- FlashCompensation: 0
- Lens: 7.4-44.4 mm
- LensInfo: 7400/1000 44400/1000 0/0 0/0
- XMP-crs
- AlreadyApplied: True
- BlueHue: 0
- BlueSaturation: 0
- Brightness: +21
- CameraProfile: Embedded
- ChromaticAberrationB: 0
- ChromaticAberrationR: 0
- Clarity: 0
- ColorNoiseReduction: 0
- Contrast: 0
- ConvertToGrayscale: False
- Defringe: 0
- Exposure: 0.00
- FillLight: 23
- GreenHue: 0
- GreenSaturation: 0
- HasCrop: False
- HasSettings: True
- HighlightRecovery: 14
- HueAdjustmentAqua: 0
- HueAdjustmentBlue: 0
- HueAdjustmentGreen: 0
- HueAdjustmentMagenta: 0
- HueAdjustmentOrange: 0
- HueAdjustmentPurple: 0
- HueAdjustmentRed: 0
- HueAdjustmentYellow: 0
- IncrementalTemperature: 0
- IncrementalTint: 0
- LuminanceAdjustmentAqua: 0
- LuminanceAdjustmentBlue: 0
- LuminanceAdjustmentGreen: 0
- LuminanceAdjustmentMagenta: 0
- LuminanceAdjustmentOrange: 0
- LuminanceAdjustmentPurple: 0
- LuminanceAdjustmentRed: 0
- LuminanceAdjustmentYellow: 0
- LuminanceSmoothing: 0
- ParametricDarks: -50
- ParametricHighlightSplit: 75
- ParametricHighlights: +32
- ParametricLights: +9
- ParametricMidtoneSplit: 50
- ParametricShadowSplit: 25
- ParametricShadows: -39
- PostCropVignetteAmount: 0
- RedHue: 0
- RedSaturation: 0
- Saturation: +20
- SaturationAdjustmentAqua: 0
- SaturationAdjustmentBlue: 0
- SaturationAdjustmentGreen: 0
- SaturationAdjustmentMagenta: 0
- SaturationAdjustmentOrange: 0
- SaturationAdjustmentPurple: 0
- SaturationAdjustmentRed: 0
- SaturationAdjustmentYellow: 0
- ShadowTint: 0
- Shadows: 3
- SharpenDetail: 25
- SharpenEdgeMasking: 0
- SharpenRadius: +1.0
- Sharpness: 0
- SplitToningBalance: 0
- SplitToningHighlightHue: 31
- SplitToningHighlightSaturation: 29
- SplitToningShadowHue: 193
- SplitToningShadowSaturation: 61
- ToneCurve: 0, 0, 255, 255
- ToneCurveName: Linear
- Version: 4.5
- Vibrance: 0
- VignetteAmount: 0
- WhiteBalance: As Shot
- XMP-exif
- DateTimeDigitized: 2008:08:13 19:04:11+04:00
- DateTimeOriginal: 2008:08:13 19:04:11+04:00
- ExifImageHeight: 600
- ExifImageWidth: 800
- FlashFired: False
- FlashFunction: False
- FlashMode: Off
- FlashRedEyeMode: False
- FlashReturn: No return detection
- XMP-tiff
- ImageHeight: 600
- ImageWidth: 800
- XMP-xmp
- CreateDate: 2008:08:13 19:04:11+04:00
- ModifyDate: 2008:12:01 02:06:27+03:00
- Просмотров: 318
- Рейтинг: голосов еще нет
- Отзывов: 0