- Раздел: Другое, разное
- Дата съёмки: 19.08.2008 07:16
- Дата загрузки фото: 03.12.2008 02:24
- Оригинальная фотография: 800 x 467 ( 72 Кб)
- Технические характеристики:
- Фотоаппарат: Canon PowerShot G9
- Выдержка: 1/1600
- Гиперфокальное расстояние: 1,22 m
- Диафрагма: 2,8
- Светочувствительность: 100
- Фокусное расстояние: 7,4 mm (35 mm equivalent: 13,8 mm)
- Полный EXIF
- Composite
- Aperture: 2,8
- CircleOfConfusion: 0,016 mm
- FOV: 104,0 deg
- FocalLength35efl: 7,4 mm (35 mm equivalent: 13,8 mm)
- HyperfocalDistance: 1,22 m
- ScaleFactor35efl: 1,9
- ShutterSpeed: 1/1600
- ExifIFD
- ApertureValue: 2,8
- CreateDate: 2008:08:19 07:16:56
- CustomRendered: Normal
- DateTimeOriginal: 2008:08:19 07:16:56
- ExifImageHeight: 467
- ExifImageWidth: 800
- ExposureCompensation: 0
- ExposureMode: Manual
- ExposureTime: 1/1600
- FNumber: 2,8
- Flash: Off
- FocalLength: 7,4 mm
- ISO: 100
- MaxApertureValue: 2,8
- MeteringMode: Multi-segment
- SceneCaptureType: Standard
- SensingMethod: One-chip color area
- ShutterSpeedValue: 1/1600
- WhiteBalance: Auto
- ICC-header
- ICC-meas
- ICC-view
- IFD0
- Make: Canon
- Model: Canon PowerShot G9
- ModifyDate: 2008:12:01 14:36:04
- Orientation: Horizontal (normal)
- Software: ACD Systems Digital Imaging
- XMP-aux
- Firmware: 1.00
- FlashCompensation: 0
- Lens: 7.4-44.4 mm
- LensInfo: 7400/1000 44400/1000 0/0 0/0
- XMP-crs
- AlreadyApplied: True
- BlueHue: 0
- BlueSaturation: 0
- Brightness: +21
- CameraProfile: ACR 3.3
- ChromaticAberrationB: 0
- ChromaticAberrationR: 0
- Clarity: +6
- ColorNoiseReduction: 0
- Contrast: 0
- ConvertToGrayscale: False
- Defringe: 0
- Exposure: 0.00
- FillLight: 23
- GreenHue: 0
- GreenSaturation: 0
- HasCrop: False
- HasSettings: True
- HighlightRecovery: 14
- HueAdjustmentAqua: 0
- HueAdjustmentBlue: +10
- HueAdjustmentGreen: 0
- HueAdjustmentMagenta: 0
- HueAdjustmentOrange: 0
- HueAdjustmentPurple: 0
- HueAdjustmentRed: -25
- HueAdjustmentYellow: 0
- IncrementalTemperature: 0
- IncrementalTint: +10
- LuminanceAdjustmentAqua: 0
- LuminanceAdjustmentBlue: 0
- LuminanceAdjustmentGreen: 0
- LuminanceAdjustmentMagenta: 0
- LuminanceAdjustmentOrange: 0
- LuminanceAdjustmentPurple: 0
- LuminanceAdjustmentRed: 0
- LuminanceAdjustmentYellow: 0
- LuminanceSmoothing: 0
- ParametricDarks: -34
- ParametricHighlightSplit: 75
- ParametricHighlights: +32
- ParametricLights: -42
- ParametricMidtoneSplit: 50
- ParametricShadowSplit: 25
- ParametricShadows: 0
- PostCropVignetteAmount: 0
- RedHue: 0
- RedSaturation: 0
- Saturation: 0
- SaturationAdjustmentAqua: 0
- SaturationAdjustmentBlue: -35
- SaturationAdjustmentGreen: +10
- SaturationAdjustmentMagenta: 0
- SaturationAdjustmentOrange: 0
- SaturationAdjustmentPurple: 0
- SaturationAdjustmentRed: +35
- SaturationAdjustmentYellow: 0
- ShadowTint: 0
- Shadows: 3
- SharpenDetail: 25
- SharpenEdgeMasking: 0
- SharpenRadius: +1.0
- Sharpness: 25
- SplitToningBalance: 0
- SplitToningHighlightHue: 31
- SplitToningHighlightSaturation: 29
- SplitToningShadowHue: 193
- SplitToningShadowSaturation: 61
- ToneCurve: 0, 0, 32, 16, 64, 50, 128, 128, 192, 202, 255, 255
- ToneCurveName: Strong Contrast
- Version: 4.5
- Vibrance: 0
- VignetteAmount: -41
- VignetteMidpoint: 28
- WhiteBalance: Custom
- XMP-exif
- DateTimeDigitized: 2008:08:19 07:16:56+04:00
- DateTimeOriginal: 2008:08:19 07:16:56+04:00
- DigitalZoomRatio: 1
- ExifImageHeight: 3000
- ExifImageWidth: 4000
- FlashFired: False
- FlashFunction: False
- FlashMode: Off
- FlashRedEyeMode: False
- FlashReturn: No return detection
- XMP-tiff
- ImageHeight: 3000
- ImageWidth: 4000
- XMP-xmp
- CreateDate: 2008:08:19 07:16:56+04:00
- ModifyDate: 2008:12:01 02:16:40+03:00
- Просмотров: 316
- Рейтинг: голосов еще нет
- Отзывов: 0