Уважаемые друзья и участники проекта iXBT.photo! К сожалению, 1 марта 2026 года проект iXBT.photo прекратит свою работу и будет закрыт. Мы высоко ценим ваше участие и тот вклад, который вы внесли в развитие нашего сообщества. Пожалуйста, не забудьте сохранить ваши фотографии до этой даты.
С уважением, команда iXBT.com
| MXX_5725.jpg |
MXX_5725.jpg
- Раздел: Другое, разное
- Дата съёмки: 31.10.2008 15:46
- Дата загрузки фото: 10.12.2008 15:58
- Оригинальная фотография: 2592 x 3872 (1,1 Мб)
- Технические характеристики:
- Фотоаппарат: Nikon D200
- Выдержка: 1/60
- Гиперфокальное расстояние: 24,96 m
- Диафрагма: 5,0
- Светочувствительность: 200
- Фокусное расстояние: 50,0 mm (35 mm equivalent: 75,0 mm)
- Полный EXIF
- Adobe
- ColorTransform: YCbCr
- Composite
- Aperture: 5,0
- CircleOfConfusion: 0,020 mm
- FOV: 26,0 deg
- FocalLength35efl: 50,0 mm (35 mm equivalent: 75,0 mm)
- HyperfocalDistance: 24,96 m
- ScaleFactor35efl: 1,5
- ShutterSpeed: 1/60
- ExifIFD
- ApertureValue: 5,0
- CFAPattern: [Green,Red][Blue,Green]
- ColorSpace: sRGB
- Contrast: Normal
- CreateDate: 2008:10:31 15:46:56
- CustomRendered: Normal
- DateTimeOriginal: 2008:10:31 15:46:56
- DigitalZoomRatio: 1
- ExifImageHeight: 3872
- ExifImageWidth: 2592
- ExposureCompensation: 0
- ExposureMode: Auto
- ExposureProgram: Aperture-priority AE
- ExposureTime: 1/60
- FNumber: 5,0
- Flash: Fired, Return detected
- FocalLength: 50,0 mm
- FocalLengthIn35mmFormat: 75 mm
- GainControl: None
- ISO: 200
- LightSource: Unknown
- MaxApertureValue: 1,7
- MeteringMode: Center-weighted average
- Saturation: High
- SceneCaptureType: Standard
- SceneType: Directly photographed
- SensingMethod: One-chip color area
- Sharpness: Hard
- ShutterSpeedValue: 1/60
- SubjectDistanceRange: Unknown
- UserComment: ALEKSANDR MAZURYAK foto
- WhiteBalance: Auto
- ICC-header
- ICC-meas
- ICC-view
- IFD0
- Make: NIKON CORPORATION
- Model: NIKON D200
- ModifyDate: 2008:10:31 23:53:36
- Orientation: Horizontal (normal)
- IFD1
- IPTC
- XMP-aux
- ImageNumber: 7498
- Lens: 50.0 mm f/1.8
- LensInfo: 500/10 500/10 18/10 18/10
- XMP-crs
- AlreadyApplied: True
- BlueHue: +11
- BlueSaturation: -21
- Brightness: +64
- CameraProfile: ACR 2.4
- ChromaticAberrationB: 0
- ChromaticAberrationR: 0
- Clarity: 0
- ColorNoiseReduction: 25
- Contrast: +32
- ConvertToGrayscale: True
- Defringe: 0
- Exposure: -0.57
- FillLight: 0
- GrayMixerAqua: -10
- GrayMixerBlue: +19
- GrayMixerGreen: -9
- GrayMixerMagenta: +30
- GrayMixerOrange: +20
- GrayMixerPurple: +25
- GrayMixerRed: +34
- GrayMixerYellow: +9
- GreenHue: +16
- GreenSaturation: +51
- HasCrop: False
- HasSettings: True
- HighlightRecovery: 0
- IncrementalTemperature: 0
- IncrementalTint: 0
- LuminanceSmoothing: 0
- ParametricDarks: 0
- ParametricHighlightSplit: 75
- ParametricHighlights: 0
- ParametricLights: -2
- ParametricMidtoneSplit: 50
- ParametricShadowSplit: 25
- ParametricShadows: 0
- PostCropVignetteAmount: 0
- RedHue: +23
- RedSaturation: +10
- ShadowTint: +4
- Shadows: 0
- SharpenDetail: 25
- SharpenEdgeMasking: 0
- SharpenRadius: +1.0
- Sharpness: 25
- SplitToningBalance: 0
- SplitToningHighlightHue: 215
- SplitToningHighlightSaturation: 49
- SplitToningShadowHue: 216
- SplitToningShadowSaturation: 12
- ToneCurve: 0, 0, 255, 255
- ToneCurveName: Linear
- Version: 4.5
- VignetteAmount: -100
- VignetteMidpoint: 40
- WhiteBalance: As Shot
- XMP-dc
- XMP-exif
- DateTimeDigitized: 2008:10:31 15:46:56.98+02:00
- DateTimeOriginal: 2008:10:31 15:46:56.98+02:00
- FlashFired: True
- FlashFunction: False
- FlashMode: Unknown
- FlashRedEyeMode: False
- FlashReturn: Return detected
- XMP-tiff
- ImageHeight: 3872
- ImageWidth: 2592
- XMP-xmp
- CreateDate: 2008:10:31 15:46:56.98+02:00
- ModifyDate: 2008:10:31 23:53:36+02:00
- XMP-xmpMM
- Просмотров: 353
- Рейтинг: голосов еще нет
- Отзывов: 0
Получить код для блога
| Вставка фотографии в текущем разрешении |
Вставка миниатюры |
HTML (для вставки в блог):
BBCode (для вставки в форум):
Ссылка на фото:
Ссылка на миниатюру:
- Послать ссылку другу
| Комментарии к фотографии |