- Раздел: Животные
- Дата съёмки: 28.12.2008 17:47
- Дата загрузки фото: 28.12.2008 20:36
- Оригинальная фотография: 840 x 600 (267 Кб)
- Технические характеристики:
- Фотоаппарат: Canon EOS 450D
- Выдержка: 1/60
- Гиперфокальное расстояние: 130,75 m
- Диафрагма: 2,8
- Светочувствительность: 400
- Фокусное расстояние: 37,0 mm (35 mm equivalent: 297,3 mm)
- Полный EXIF
- Adobe
- ColorTransform: YCbCr
- Composite
- Aperture: 2,8
- CircleOfConfusion: 0,004 mm
- FOV: 6,0 deg
- FocalLength35efl: 37,0 mm (35 mm equivalent: 297,3 mm)
- HyperfocalDistance: 130,75 m
- ScaleFactor35efl: 8,0
- ShutterSpeed: 1/60
- ExifIFD
- ApertureValue: 2,8
- ColorSpace: sRGB
- CreateDate: 2008:12:28 17:47:59
- CustomRendered: Normal
- DateTimeOriginal: 2008:12:28 17:47:59
- ExifImageHeight: 600
- ExifImageWidth: 840
- ExposureCompensation: 0
- ExposureMode: Manual
- ExposureProgram: Manual
- ExposureTime: 1/60
- FNumber: 2,8
- Flash: On
- FocalLength: 37,0 mm
- ISO: 400
- MaxApertureValue: 2,8
- MeteringMode: Multi-segment
- SceneCaptureType: Standard
- ShutterSpeedValue: 1/60
- WhiteBalance: Auto
- ICC-header
- ICC-meas
- ICC-view
- IFD0
- Make: Canon
- Model: Canon EOS 450D
- ModifyDate: 2008:12:28 20:36:10
- Orientation: Horizontal (normal)
- IFD1
- IPTC
- XMP-aux
- Firmware: 1.0.4
- FlashCompensation: 0
- ImageNumber: 0
- Lens: EF-S17-55mm f/2.8 IS USM
- LensInfo: 17/1 55/1 0/0 0/0
- SerialNumber: 540103175
- XMP-crs
- AlreadyApplied: True
- BlueHue: +59
- BlueSaturation: +70
- Brightness: +51
- CameraProfile: Camera Neutral beta 2
- ChromaticAberrationB: 0
- ChromaticAberrationR: 0
- Clarity: 0
- ColorNoiseReduction: 25
- Contrast: +45
- ConvertToGrayscale: True
- Defringe: 0
- Exposure: +0.66
- FillLight: 0
- GrayMixerAqua: -19
- GrayMixerBlue: +4
- GrayMixerGreen: -22
- GrayMixerMagenta: +3
- GrayMixerOrange: -13
- GrayMixerPurple: +11
- GrayMixerRed: -6
- GrayMixerYellow: -16
- GreenHue: +100
- GreenSaturation: +32
- HasCrop: False
- HasSettings: True
- HighlightRecovery: 63
- LuminanceSmoothing: 0
- ParametricDarks: 0
- ParametricHighlightSplit: 75
- ParametricHighlights: 0
- ParametricLights: 0
- ParametricMidtoneSplit: 50
- ParametricShadowSplit: 25
- ParametricShadows: 0
- PostCropVignetteAmount: 0
- RedHue: -75
- RedSaturation: +100
- ShadowTint: 0
- Shadows: 8
- SharpenDetail: 41
- SharpenEdgeMasking: 0
- SharpenRadius: +1.0
- Sharpness: 72
- SplitToningBalance: 0
- SplitToningHighlightHue: 0
- SplitToningHighlightSaturation: 0
- SplitToningShadowHue: 0
- SplitToningShadowSaturation: 0
- Temperature: 4785
- Tint: -40
- ToneCurve: 0, 0, 32, 22, 64, 56, 128, 128, 192, 196, 255, 255
- ToneCurveName: Medium Contrast
- Version: 4.6
- VignetteAmount: +54
- VignetteMidpoint: 50
- WhiteBalance: Custom
- XMP-dc
- XMP-exif
- DateTimeDigitized: 2008:12:28 17:47:59.03+03:00
- DateTimeOriginal: 2008:12:28 17:47:59.03+03:00
- FlashFired: True
- FlashFunction: False
- FlashMode: On
- FlashRedEyeMode: False
- FlashReturn: No return detection
- XMP-tiff
- ImageHeight: 600
- ImageWidth: 900
- XMP-xmp
- CreateDate: 2008:12:28 17:47:59.03+03:00
- ModifyDate: 2008:12:28 20:36:10+03:00
- XMP-xmpMM