| » Участники » Garret » Портрет(ы) » IMG_5262 (ISO 100).jpg |
Уважаемые друзья и участники проекта iXBT.photo! К сожалению, 1 марта 2026 года проект iXBT.photo прекратит свою работу и будет закрыт. Мы высоко ценим ваше участие и тот вклад, который вы внесли в развитие нашего сообщества. Пожалуйста, не забудьте сохранить ваши фотографии до этой даты.
С уважением, команда iXBT.com
| IMG_5262 (ISO 100).jpg |
IMG_5262 (ISO 100).jpg
нам 6 месяцев
- Раздел: Портрет
- Дата съёмки: 30.11.2008 21:55
- Дата загрузки фото: 30.12.2008 00:16
- Оригинальная фотография: 1862 x 2531 (1,1 Мб)
- Технические характеристики:
- Фотоаппарат: Canon EOS 40D
- Выдержка: 1/50
- Гиперфокальное расстояние: 77,42 m
- Диафрагма: 2,8
- Светочувствительность: 100
- Фокусное расстояние: 52,0 mm (35 mm equivalent: 125,3 mm)
- Полный EXIF
- Adobe
- ColorTransform: YCbCr
- Composite
- Aperture: 2,8
- CircleOfConfusion: 0,012 mm
- FOV: 16,0 deg
- FocalLength35efl: 52,0 mm (35 mm equivalent: 125,3 mm)
- HyperfocalDistance: 77,42 m
- ScaleFactor35efl: 2,4
- ShutterSpeed: 1/50
- ExifIFD
- ApertureValue: 2,8
- CreateDate: 2008:11:30 21:55:50
- CustomRendered: Normal
- DateTimeOriginal: 2008:11:30 21:55:50
- ExposureCompensation: 0
- ExposureMode: Manual
- ExposureProgram: Manual
- ExposureTime: 1/50
- FNumber: 2,8
- Flash: On
- FocalLength: 52,0 mm
- ISO: 100
- MaxApertureValue: 2,8
- MeteringMode: Multi-segment
- SceneCaptureType: Standard
- ShutterSpeedValue: 1/50
- WhiteBalance: Auto
- ICC-header
- ICC-meas
- ICC-view
- IFD0
- Artist: Alex Matiash
- Make: Canon
- Model: Canon EOS 40D
- ModifyDate: 2008:12:29 23:13:48
- IPTC
- By-line: Alex Matiash
- Keywords: êîòû
- XMP-aux
- Firmware: 1.0.8
- FlashCompensation: 0,666666666666667
- ImageNumber: 0
- Lens: EF24-70mm f/2.8L USM
- LensInfo: 24/1 70/1 0/0 0/0
- OwnerName: Alex Matiash
- SerialNumber: 630311879
- XMP-crs
- AlreadyApplied: True
- BlueHue: 0
- BlueSaturation: 0
- Brightness: +50
- CameraProfile: Camera Standard
- ChromaticAberrationB: 0
- ChromaticAberrationR: 0
- Clarity: 0
- ColorNoiseReduction: 0
- Contrast: 0
- ConvertToGrayscale: False
- CropAngle: 1.92278
- CropBottom: 1
- CropHeight: 2531
- CropLeft: 0.256934
- CropRight: 0.713668
- CropTop: 0
- CropUnit: 0
- CropWidth: 1862
- Defringe: 0
- Exposure: +0.33
- FillLight: 0
- GreenHue: 0
- GreenSaturation: 0
- HasCrop: True
- HasSettings: True
- HighlightRecovery: 0
- HueAdjustmentAqua: 0
- HueAdjustmentBlue: 0
- HueAdjustmentGreen: 0
- HueAdjustmentMagenta: 0
- HueAdjustmentOrange: 0
- HueAdjustmentPurple: 0
- HueAdjustmentRed: 0
- HueAdjustmentYellow: 0
- LuminanceAdjustmentAqua: 0
- LuminanceAdjustmentBlue: 0
- LuminanceAdjustmentGreen: 0
- LuminanceAdjustmentMagenta: 0
- LuminanceAdjustmentOrange: 0
- LuminanceAdjustmentPurple: 0
- LuminanceAdjustmentRed: 0
- LuminanceAdjustmentYellow: 0
- LuminanceSmoothing: 0
- ParametricDarks: 0
- ParametricHighlightSplit: 75
- ParametricHighlights: 0
- ParametricLights: 0
- ParametricMidtoneSplit: 50
- ParametricShadowSplit: 25
- ParametricShadows: 0
- PostCropVignetteAmount: 0
- RedHue: 0
- RedSaturation: 0
- Saturation: +10
- SaturationAdjustmentAqua: 0
- SaturationAdjustmentBlue: 0
- SaturationAdjustmentGreen: 0
- SaturationAdjustmentMagenta: 0
- SaturationAdjustmentOrange: 0
- SaturationAdjustmentPurple: 0
- SaturationAdjustmentRed: 0
- SaturationAdjustmentYellow: 0
- ShadowTint: 0
- Shadows: 10
- SharpenDetail: 0
- SharpenEdgeMasking: 0
- SharpenRadius: +0.5
- Sharpness: 50
- SplitToningBalance: 0
- SplitToningHighlightHue: 0
- SplitToningHighlightSaturation: 0
- SplitToningShadowHue: 0
- SplitToningShadowSaturation: 0
- Temperature: 4024
- Tint: +3
- ToneCurve: 0, 0, 32, 22, 64, 56, 128, 128, 192, 196, 255, 255
- ToneCurveName: Medium Contrast
- Version: 5.2
- Vibrance: +40
- VignetteAmount: 0
- WhiteBalance: Custom
- XMP-dc
- Creator: Alex Matiash
- Subject: коты
- XMP-exif
- DateTimeDigitized: 2008:11:30 21:55:50.77+02:00
- DateTimeOriginal: 2008:11:30 21:55:50.77+02:00
- ExifImageHeight: 2531
- ExifImageWidth: 1862
- FlashFired: True
- FlashFunction: False
- FlashMode: On
- FlashRedEyeMode: False
- FlashReturn: No return detection
- XMP-lr
- HierarchicalSubject: коты
- XMP-tiff
- ImageHeight: 2531
- ImageWidth: 1862
- XMP-xmp
- CreateDate: 2008:11:30 21:55:50.77+02:00
- ModifyDate: 2008:12:29 23:13:48+02:00
Получить код для блога
| Вставка фотографии в текущем разрешении |
Вставка миниатюры |
HTML (для вставки в блог):
BBCode (для вставки в форум):
Ссылка на фото:
Ссылка на миниатюру:
- Послать ссылку другу
| Комментарии к фотографии |