- Раздел: Путешествия
- Дата съёмки: 29.12.2008 21:27
- Дата загрузки фото: 30.12.2008 03:47
- Оригинальная фотография: 800 x 533 (125 Кб)
- Технические характеристики:
- Фотоаппарат: Canon EOS 5D
- Выдержка: 1/200
- Гиперфокальное расстояние: 358,57 m
- Диафрагма: 5,6
- Светочувствительность: 800
- Фокусное расстояние: 105,0 mm (35 mm equivalent: 574,6 mm)
- Экспокоррекция: -1
- Полный EXIF
- Adobe
- ColorTransform: YCbCr
- Composite
- Aperture: 5,6
- CircleOfConfusion: 0,005 mm
- FOV: 3,0 deg
- FocalLength35efl: 105,0 mm (35 mm equivalent: 574,6 mm)
- HyperfocalDistance: 358,57 m
- ScaleFactor35efl: 5,5
- ShutterSpeed: 1/200
- ExifIFD
- ApertureValue: 5,6
- ColorSpace: sRGB
- CreateDate: 2008:12:08 16:27:16
- CustomRendered: Normal
- DateTimeOriginal: 2008:12:08 16:27:16
- ExifImageHeight: 533
- ExifImageWidth: 800
- ExposureCompensation: -1
- ExposureMode: Auto
- ExposureProgram: Aperture-priority AE
- ExposureTime: 1/200
- FNumber: 5,6
- Flash: Off
- FocalLength: 105,0 mm
- ISO: 800
- MaxApertureValue: 4,0
- MeteringMode: Multi-segment
- SceneCaptureType: Standard
- ShutterSpeedValue: 1/200
- WhiteBalance: Auto
- ICC-header
- ICC-meas
- ICC-view
- IFD0
- Make: Canon
- Model: Canon EOS 5D
- ModifyDate: 2008:12:29 21:27:40
- Orientation: Horizontal (normal)
- IFD1
- IPTC
- XMP-aux
- Firmware: 1.1.0
- FlashCompensation: 0
- ImageNumber: 12
- Lens: EF24-105mm f/4L IS USM
- LensInfo: 24/1 105/1 0/0 0/0
- SerialNumber: 1020707638
- XMP-crs
- AlreadyApplied: True
- BlueHue: 0
- BlueSaturation: 0
- Brightness: +65
- CameraProfile: ACR 3.3
- ChromaticAberrationB: 0
- ChromaticAberrationR: 0
- Clarity: 93
- ColorNoiseReduction: 44
- Contrast: +19
- ConvertToGrayscale: False
- Defringe: 0
- Exposure: +0.55
- FillLight: 0
- GreenHue: 0
- GreenSaturation: 0
- HasCrop: False
- HasSettings: True
- HighlightRecovery: 0
- HueAdjustmentAqua: 0
- HueAdjustmentBlue: 0
- HueAdjustmentGreen: 0
- HueAdjustmentMagenta: 0
- HueAdjustmentOrange: 0
- HueAdjustmentPurple: 0
- HueAdjustmentRed: 0
- HueAdjustmentYellow: 0
- LuminanceAdjustmentAqua: 0
- LuminanceAdjustmentBlue: 0
- LuminanceAdjustmentGreen: 0
- LuminanceAdjustmentMagenta: 0
- LuminanceAdjustmentOrange: 0
- LuminanceAdjustmentPurple: 0
- LuminanceAdjustmentRed: 0
- LuminanceAdjustmentYellow: 0
- LuminanceSmoothing: 30
- ParametricDarks: 0
- ParametricHighlightSplit: 75
- ParametricHighlights: 0
- ParametricLights: 0
- ParametricMidtoneSplit: 50
- ParametricShadowSplit: 25
- ParametricShadows: 0
- RawFileName: 2008.12.08.16.27.16.CR2
- RedHue: 0
- RedSaturation: 0
- Saturation: +4
- SaturationAdjustmentAqua: 0
- SaturationAdjustmentBlue: 0
- SaturationAdjustmentGreen: 0
- SaturationAdjustmentMagenta: 0
- SaturationAdjustmentOrange: 0
- SaturationAdjustmentPurple: 0
- SaturationAdjustmentRed: 0
- SaturationAdjustmentYellow: 0
- ShadowTint: 0
- Shadows: 2
- SharpenDetail: 61
- SharpenEdgeMasking: 0
- SharpenRadius: +0.7
- Sharpness: 94
- SplitToningBalance: 0
- SplitToningHighlightHue: 0
- SplitToningHighlightSaturation: 0
- SplitToningShadowHue: 0
- SplitToningShadowSaturation: 0
- Temperature: 4900
- Tint: +1
- ToneCurve: 0, 0, 32, 22, 64, 56, 128, 128, 192, 196, 255, 255
- ToneCurveName: Medium Contrast
- Version: 4.3
- Vibrance: +19
- VignetteAmount: +20
- VignetteMidpoint: 50
- WhiteBalance: As Shot
- XMP-dc
- XMP-exif
- DateTimeDigitized: 2008:12:08 16:27:16+03:00
- DateTimeOriginal: 2008:12:08 16:27:16+03:00
- FlashFired: False
- FlashFunction: False
- FlashMode: Off
- FlashRedEyeMode: False
- FlashReturn: No return detection
- XMP-tiff
- ImageHeight: 2912
- ImageWidth: 4368
- XMP-xmp
- CreateDate: 2008:12:29 21:27:40+03:00
- ModifyDate: 2008:12:29 21:27:40+03:00
- XMP-xmpMM
- DerivedFrom:
- Просмотров: 74
- Рейтинг: голосов еще нет
- Отзывов: 0