- Раздел: Путешествия
- Дата съёмки: 29.12.2008 23:19
- Дата загрузки фото: 30.12.2008 03:52
- Оригинальная фотография: 800 x 536 (149 Кб)
- Технические характеристики:
- Фотоаппарат: Nikon D80
- Выдержка: 1/320
- Гиперфокальное расстояние: 162,07 m
- Диафрагма: 5,6
- Светочувствительность: 100
- Фокусное расстояние: 135,0 mm (35 mm equivalent: 202,0 mm)
- Экспокоррекция: -4/3
- Полный EXIF
- Adobe
- ColorTransform: YCbCr
- Composite
- Aperture: 5,6
- CircleOfConfusion: 0,020 mm
- FOV: 10,0 deg
- FocalLength35efl: 135,0 mm (35 mm equivalent: 202,0 mm)
- HyperfocalDistance: 162,07 m
- ScaleFactor35efl: 1,5
- ShutterSpeed: 1/320
- ExifIFD
- ApertureValue: 5,6
- CFAPattern: [Green,Blue][Red,Green]
- ColorSpace: sRGB
- Contrast: Low
- CreateDate: 2008:12:09 15:46:05
- CustomRendered: Normal
- DateTimeOriginal: 2008:12:09 15:46:05
- DigitalZoomRatio: 1
- ExifImageHeight: 536
- ExifImageWidth: 800
- ExposureCompensation: -4/3
- ExposureMode: Auto
- ExposureProgram: Aperture-priority AE
- ExposureTime: 1/320
- FNumber: 5,6
- Flash: No Flash
- FocalLength: 135,0 mm
- FocalLengthIn35mmFormat: 202 mm
- GainControl: None
- ISO: 100
- LightSource: Unknown
- MaxApertureValue: 5,7
- MeteringMode: Multi-segment
- Saturation: Normal
- SceneCaptureType: Standard
- SceneType: Directly photographed
- SensingMethod: One-chip color area
- Sharpness: Hard
- ShutterSpeedValue: 1/320
- SubjectDistanceRange: Unknown
- WhiteBalance: Auto
- ICC-header
- ICC-meas
- ICC-view
- IFD0
- Make: NIKON CORPORATION
- Model: NIKON D80
- ModifyDate: 2008:12:29 23:19:38
- Orientation: Horizontal (normal)
- IFD1
- IPTC
- XMP-aux
- ImageNumber: 14624
- Lens: 18.0-200.0 mm f/3.5-5.6
- LensInfo: 180/10 2000/10 35/10 56/10
- XMP-crs
- AlreadyApplied: True
- BlueHue: 0
- BlueSaturation: 0
- Brightness: +95
- CameraProfile: ACR 3.6
- ChromaticAberrationB: 0
- ChromaticAberrationR: 0
- Clarity: 93
- ColorNoiseReduction: 44
- Contrast: +19
- ConvertToGrayscale: False
- Defringe: 0
- Exposure: +0.15
- FillLight: 11
- GreenHue: 0
- GreenSaturation: 0
- HasCrop: False
- HasSettings: True
- HighlightRecovery: 0
- HueAdjustmentAqua: 0
- HueAdjustmentBlue: 0
- HueAdjustmentGreen: 0
- HueAdjustmentMagenta: 0
- HueAdjustmentOrange: 0
- HueAdjustmentPurple: 0
- HueAdjustmentRed: 0
- HueAdjustmentYellow: 0
- LuminanceAdjustmentAqua: 0
- LuminanceAdjustmentBlue: 0
- LuminanceAdjustmentGreen: 0
- LuminanceAdjustmentMagenta: 0
- LuminanceAdjustmentOrange: 0
- LuminanceAdjustmentPurple: 0
- LuminanceAdjustmentRed: 0
- LuminanceAdjustmentYellow: 0
- LuminanceSmoothing: 30
- ParametricDarks: 0
- ParametricHighlightSplit: 75
- ParametricHighlights: 0
- ParametricLights: 0
- ParametricMidtoneSplit: 50
- ParametricShadowSplit: 25
- ParametricShadows: 0
- RawFileName: DSC_8959.NEF
- RedHue: 0
- RedSaturation: 0
- Saturation: +4
- SaturationAdjustmentAqua: 0
- SaturationAdjustmentBlue: 0
- SaturationAdjustmentGreen: 0
- SaturationAdjustmentMagenta: 0
- SaturationAdjustmentOrange: 0
- SaturationAdjustmentPurple: 0
- SaturationAdjustmentRed: 0
- SaturationAdjustmentYellow: 0
- ShadowTint: 0
- Shadows: 2
- SharpenDetail: 61
- SharpenEdgeMasking: 0
- SharpenRadius: +0.7
- Sharpness: 94
- SplitToningBalance: 0
- SplitToningHighlightHue: 0
- SplitToningHighlightSaturation: 0
- SplitToningShadowHue: 0
- SplitToningShadowSaturation: 0
- Temperature: 4300
- Tint: +3
- ToneCurve: 0, 0, 32, 22, 64, 56, 128, 128, 192, 196, 255, 255
- ToneCurveName: Medium Contrast
- Version: 4.3
- Vibrance: +19
- VignetteAmount: +20
- VignetteMidpoint: 50
- WhiteBalance: As Shot
- XMP-dc
- XMP-exif
- DateTimeDigitized: 2008:12:09 15:46:05.00+03:00
- DateTimeOriginal: 2008:12:09 15:46:05.00+03:00
- FlashFired: False
- FlashFunction: False
- FlashMode: Unknown
- FlashRedEyeMode: False
- FlashReturn: No return detection
- XMP-tiff
- ImageHeight: 2592
- ImageWidth: 3872
- XMP-xmp
- CreateDate: 2008:12:29 23:19:38+03:00
- ModifyDate: 2008:12:29 23:19:38+03:00
- XMP-xmpMM
- DerivedFrom:
- Просмотров: 93
- Рейтинг: голосов еще нет
- Отзывов: 0