- Раздел: Портрет
- Дата съёмки: 11.10.2008 17:14
- Дата загрузки фото: 10.01.2009 14:41
- Оригинальная фотография: 820 x 797 (361 Кб)
- Технические характеристики:
- Фотоаппарат: Canon EOS 450D
- Выдержка: 1/60
- Гиперфокальное расстояние: 93,92 m
- Диафрагма: 2,8
- Светочувствительность: 200
- Фокусное расстояние: 33,0 mm (35 mm equivalent: 239,4 mm)
- Полный EXIF
- Adobe
- ColorTransform: YCbCr
- Composite
- Aperture: 2,8
- CircleOfConfusion: 0,004 mm
- FOV: 8,0 deg
- FocalLength35efl: 33,0 mm (35 mm equivalent: 239,4 mm)
- HyperfocalDistance: 93,92 m
- ScaleFactor35efl: 7,3
- ShutterSpeed: 1/60
- ExifIFD
- ApertureValue: 2,8
- ColorSpace: sRGB
- CreateDate: 2008:10:11 17:14:17
- CustomRendered: Normal
- DateTimeOriginal: 2008:10:11 17:14:17
- ExifImageHeight: 797
- ExifImageWidth: 820
- ExposureCompensation: 0
- ExposureMode: Auto
- ExposureProgram: Aperture-priority AE
- ExposureTime: 1/60
- FNumber: 2,8
- Flash: Off
- FocalLength: 33,0 mm
- ISO: 200
- MaxApertureValue: 2,8
- MeteringMode: Multi-segment
- SceneCaptureType: Standard
- ShutterSpeedValue: 1/60
- WhiteBalance: Auto
- ICC-header
- ICC-meas
- ICC-view
- IFD0
- Make: Canon
- Model: Canon EOS 450D
- ModifyDate: 2009:01:10 14:41:14
- Orientation: Horizontal (normal)
- IFD1
- IPTC
- XMP-aux
- Firmware: 1.0.4
- FlashCompensation: 0
- ImageNumber: 0
- Lens: EF-S17-55mm f/2.8 IS USM
- LensInfo: 17/1 55/1 0/0 0/0
- SerialNumber: 540103175
- XMP-crs
- AlreadyApplied: True
- BlueHue: 0
- BlueSaturation: 0
- Brightness: +35
- CameraProfile: Camera Faithful beta 2
- ChromaticAberrationB: 0
- ChromaticAberrationR: 0
- Clarity: +88
- ColorNoiseReduction: 25
- Contrast: +35
- ConvertToGrayscale: False
- CropAngle: 0
- CropBottom: 1
- CropHeight: 797
- CropLeft: 0.155258
- CropRight: 0.841403
- CropTop: 0
- CropUnit: 0
- CropWidth: 820
- Defringe: 0
- Exposure: +0.76
- FillLight: 29
- GreenHue: +5
- GreenSaturation: 0
- HasCrop: True
- HasSettings: True
- HighlightRecovery: 100
- HueAdjustmentAqua: 0
- HueAdjustmentBlue: 0
- HueAdjustmentGreen: 0
- HueAdjustmentMagenta: 0
- HueAdjustmentOrange: +3
- HueAdjustmentPurple: 0
- HueAdjustmentRed: +2
- HueAdjustmentYellow: -48
- LuminanceAdjustmentAqua: 0
- LuminanceAdjustmentBlue: 0
- LuminanceAdjustmentGreen: 0
- LuminanceAdjustmentMagenta: 0
- LuminanceAdjustmentOrange: +29
- LuminanceAdjustmentPurple: 0
- LuminanceAdjustmentRed: 0
- LuminanceAdjustmentYellow: +32
- LuminanceSmoothing: 0
- ParametricDarks: +25
- ParametricHighlightSplit: 75
- ParametricHighlights: -13
- ParametricLights: -2
- ParametricMidtoneSplit: 50
- ParametricShadowSplit: 25
- ParametricShadows: -7
- PostCropVignetteAmount: -29
- PostCropVignetteFeather: 51
- PostCropVignetteMidpoint: 50
- PostCropVignetteRoundness: 0
- RedHue: -22
- RedSaturation: -18
- Saturation: -70
- SaturationAdjustmentAqua: 0
- SaturationAdjustmentBlue: 0
- SaturationAdjustmentGreen: 0
- SaturationAdjustmentMagenta: 0
- SaturationAdjustmentOrange: 0
- SaturationAdjustmentPurple: 0
- SaturationAdjustmentRed: 0
- SaturationAdjustmentYellow: 0
- ShadowTint: +17
- Shadows: 39
- SharpenDetail: 25
- SharpenEdgeMasking: 0
- SharpenRadius: +1.0
- Sharpness: 25
- SplitToningBalance: -44
- SplitToningHighlightHue: 60
- SplitToningHighlightSaturation: 32
- SplitToningShadowHue: 51
- SplitToningShadowSaturation: 16
- Temperature: 5924
- Tint: 0
- ToneCurve: 0, 0, 32, 22, 64, 56, 128, 128, 192, 196, 255, 255
- ToneCurveName: Medium Contrast
- Version: 4.6
- Vibrance: +30
- VignetteAmount: -6
- VignetteMidpoint: 19
- WhiteBalance: Custom
- XMP-dc
- XMP-exif
- DateTimeDigitized: 2008:10:11 17:14:17.03+04:00
- DateTimeOriginal: 2008:10:11 17:14:17.03+04:00
- FlashFired: False
- FlashFunction: False
- FlashMode: Off
- FlashRedEyeMode: False
- FlashReturn: No return detection
- XMP-tiff
- ImageHeight: 797
- ImageWidth: 820
- XMP-xmp
- CreateDate: 2008:10:11 17:14:17.03+04:00
- ModifyDate: 2009:01:10 14:41:14+03:00
- XMP-xmpMM