- Раздел: Автомобили
- Дата съёмки: 17.08.2008 12:21
- Дата загрузки фото: 18.01.2009 23:05
- Оригинальная фотография: 2592 x 3888 (2,0 Мб)
- Технические характеристики:
- Фотоаппарат: Canon EOS 40D
- Выдержка: 1/200
- Гиперфокальное расстояние: 48,14 m
- Диафрагма: 2,8
- Светочувствительность: 500
- Фокусное расстояние: 50,0 mm (35 mm equivalent: 81,0 mm)
- Полный EXIF
- Adobe
- ColorTransform: YCbCr
- Composite
- Aperture: 2,8
- CircleOfConfusion: 0,019 mm
- FOV: 25,0 deg
- FocalLength35efl: 50,0 mm (35 mm equivalent: 81,0 mm)
- HyperfocalDistance: 48,14 m
- ScaleFactor35efl: 1,6
- ShutterSpeed: 1/200
- ExifIFD
- ApertureValue: 2,8
- CreateDate: 2008:08:17 12:21:36
- CustomRendered: Normal
- DateTimeOriginal: 2008:08:17 12:21:36
- ExposureCompensation: 0
- ExposureMode: Auto
- ExposureProgram: Aperture-priority AE
- ExposureTime: 1/200
- FNumber: 2,8
- Flash: Off
- FocalLength: 50,0 mm
- ISO: 500
- MaxApertureValue: 2,8
- MeteringMode: Multi-segment
- SceneCaptureType: Standard
- ShutterSpeedValue: 1/200
- WhiteBalance: Auto
- ICC-header
- ICC-meas
- ICC-view
- IFD0
- Artist: VT
- Make: Canon
- Model: Canon EOS 40D
- ModifyDate: 2008:09:02 12:21:45
- IPTC
- By-line: VT
- Keywords: ÀâòîìîáèëüГГ Гї âûñòà âêà "Àìåðèêà 50-60-Гµ", Íîâîðîññèéñê
- XMP-aux
- Firmware: 1.0.8
- FlashCompensation: 0
- ImageNumber: 0
- Lens: 17-50mm
- LensInfo: 17/1 50/1 0/0 0/0
- OwnerName: VT
- SerialNumber: 910505676
- XMP-crs
- AlreadyApplied: True
- BlueHue: 0
- BlueSaturation: 0
- Brightness: +50
- CameraProfile: Camera Standard beta 1
- ChromaticAberrationB: 0
- ChromaticAberrationR: 0
- Clarity: 0
- ColorNoiseReduction: 25
- Contrast: +25
- ConvertToGrayscale: False
- Defringe: 0
- Exposure: 0.00
- FillLight: 0
- GreenHue: 0
- GreenSaturation: 0
- HasCrop: False
- HasSettings: True
- HighlightRecovery: 20
- HueAdjustmentAqua: 0
- HueAdjustmentBlue: 0
- HueAdjustmentGreen: 0
- HueAdjustmentMagenta: 0
- HueAdjustmentOrange: 0
- HueAdjustmentPurple: 0
- HueAdjustmentRed: 0
- HueAdjustmentYellow: 0
- LuminanceAdjustmentAqua: 0
- LuminanceAdjustmentBlue: 0
- LuminanceAdjustmentGreen: 0
- LuminanceAdjustmentMagenta: 0
- LuminanceAdjustmentOrange: 0
- LuminanceAdjustmentPurple: 0
- LuminanceAdjustmentRed: 0
- LuminanceAdjustmentYellow: 0
- LuminanceSmoothing: 0
- ParametricDarks: 0
- ParametricHighlightSplit: 75
- ParametricHighlights: 0
- ParametricLights: 0
- ParametricMidtoneSplit: 50
- ParametricShadowSplit: 25
- ParametricShadows: 0
- PostCropVignetteAmount: 0
- RawFileName: Галерея Автобигл - Америка 50-60х - Buick Rivera 1958 - 0.CR2
- RedHue: 0
- RedSaturation: 0
- Saturation: 0
- SaturationAdjustmentAqua: 0
- SaturationAdjustmentBlue: 0
- SaturationAdjustmentGreen: 0
- SaturationAdjustmentMagenta: 0
- SaturationAdjustmentOrange: 0
- SaturationAdjustmentPurple: 0
- SaturationAdjustmentRed: 0
- SaturationAdjustmentYellow: 0
- ShadowTint: 0
- Shadows: 5
- SharpenDetail: 25
- SharpenEdgeMasking: 0
- SharpenRadius: +1.0
- Sharpness: 25
- SplitToningBalance: 0
- SplitToningHighlightHue: 0
- SplitToningHighlightSaturation: 0
- SplitToningShadowHue: 0
- SplitToningShadowSaturation: 0
- Temperature: 4600
- Tint: +10
- ToneCurve: 0, 0, 32, 22, 64, 56, 128, 128, 192, 196, 255, 255
- ToneCurveName: Medium Contrast
- Version: 4.5
- Vibrance: 0
- VignetteAmount: 0
- WhiteBalance: As Shot
- XMP-dc
- Creator: VT
- Subject: Автомобильная выставка "Америка 50-60-х", Новороссийск
- XMP-exif
- DateTimeDigitized: 2008:08:17 12:21:36.77+04:00
- DateTimeOriginal: 2008:08:17 12:21:36.77+04:00
- ExifImageHeight: 3888
- ExifImageWidth: 2592
- FlashFired: False
- FlashFunction: False
- FlashMode: Off
- FlashRedEyeMode: False
- FlashReturn: No return detection
- XMP-tiff
- ImageHeight: 3888
- ImageWidth: 2592
- XMP-xmp
- CreateDate: 2008:08:17 12:21:36.77+04:00
- ModifyDate: 2008:09:02 12:21:45+04:00
- Rating: 1
- XMP-xmpMM
- PreservedFileName: _MG_7629.CR2
- Просмотров: 420
- Рейтинг: голосов еще нет
- Отзывов: 0