- Раздел: Макро
- Дата съёмки: 08.09.2008 19:08
- Дата загрузки фото: 19.01.2009 00:35
- Оригинальная фотография: 1067 x 1600 (111 Кб)
- Технические характеристики:
- Фотоаппарат: Canon EOS 40D
- Выдержка: 1/640
- Гиперфокальное расстояние: 1660,50 m
- Диафрагма: 7,1
- Светочувствительность: 100
- Фокусное расстояние: 300,0 mm (35 mm equivalent: 1180,8 mm)
- Полный EXIF
- Adobe
- ColorTransform: YCbCr
- Composite
- Aperture: 7,1
- CircleOfConfusion: 0,008 mm
- FOV: 1,0 deg
- FocalLength35efl: 300,0 mm (35 mm equivalent: 1180,8 mm)
- HyperfocalDistance: 1660,50 m
- ScaleFactor35efl: 3,9
- ShutterSpeed: 1/640
- ExifIFD
- ApertureValue: 7,1
- ColorSpace: Uncalibrated
- CreateDate: 2008:07:06 11:59:52
- CustomRendered: Normal
- DateTimeOriginal: 2008:07:06 11:59:52
- ExifImageHeight: 1600
- ExifImageWidth: 1067
- ExposureCompensation: 0
- ExposureMode: Auto
- ExposureProgram: Aperture-priority AE
- ExposureTime: 1/640
- FNumber: 7,1
- Flash: Off
- FocalLength: 300,0 mm
- ISO: 100
- MaxApertureValue: 5,7
- MeteringMode: Multi-segment
- SceneCaptureType: Standard
- ShutterSpeedValue: 1/640
- WhiteBalance: Auto
- IFD0
- Artist: VT
- Copyright: (C) 2008 Vasiliy Timofeyev
- Make: Canon
- Model: Canon EOS 40D
- ModifyDate: 2008:09:08 19:08:18
- Orientation: Horizontal (normal)
- IFD1
- IPTC
- By-line: VT
- CopyrightNotice: (C) 2008 Vasiliy Timofeyev
- Keywords: Öâåòîê
- ObjectName: Íîãîòêè
- XMP-aux
- Firmware: 1.0.8
- FlashCompensation: 0
- ImageNumber: 0
- Lens: EF70-300mm f/4-5.6 IS USM
- LensInfo: 70/1 300/1 0/0 0/0
- OwnerName: VT
- SerialNumber: 910505676
- XMP-crs
- AlreadyApplied: True
- BlueHue: +5
- BlueSaturation: -6
- Brightness: +50
- CameraProfile: ACR 4.4
- ChromaticAberrationB: 0
- ChromaticAberrationR: 0
- Clarity: 0
- ColorNoiseReduction: 0
- Contrast: +25
- ConvertToGrayscale: False
- Defringe: 0
- Exposure: 0.00
- FillLight: 15
- GreenHue: -11
- GreenSaturation: -9
- HasCrop: False
- HasSettings: True
- HighlightRecovery: 35
- HueAdjustmentAqua: 0
- HueAdjustmentBlue: 0
- HueAdjustmentGreen: 0
- HueAdjustmentMagenta: 0
- HueAdjustmentOrange: 0
- HueAdjustmentPurple: 0
- HueAdjustmentRed: 0
- HueAdjustmentYellow: 0
- LuminanceAdjustmentAqua: 0
- LuminanceAdjustmentBlue: 0
- LuminanceAdjustmentGreen: 0
- LuminanceAdjustmentMagenta: 0
- LuminanceAdjustmentOrange: 0
- LuminanceAdjustmentPurple: 0
- LuminanceAdjustmentRed: 0
- LuminanceAdjustmentYellow: 0
- LuminanceSmoothing: 0
- ParametricDarks: 0
- ParametricHighlightSplit: 75
- ParametricHighlights: 0
- ParametricLights: 0
- ParametricMidtoneSplit: 50
- ParametricShadowSplit: 25
- ParametricShadows: 0
- PostCropVignetteAmount: 0
- RawFileName: 20080706 - Макро - Ноготки - 12.CR2
- RedHue: -9
- RedSaturation: +27
- Saturation: 0
- SaturationAdjustmentAqua: 0
- SaturationAdjustmentBlue: 0
- SaturationAdjustmentGreen: 0
- SaturationAdjustmentMagenta: 0
- SaturationAdjustmentOrange: 0
- SaturationAdjustmentPurple: 0
- SaturationAdjustmentRed: 0
- SaturationAdjustmentYellow: 0
- ShadowTint: 0
- Shadows: 5
- SharpenDetail: 25
- SharpenEdgeMasking: 0
- SharpenRadius: +1.0
- Sharpness: 40
- SplitToningBalance: 0
- SplitToningHighlightHue: 0
- SplitToningHighlightSaturation: 0
- SplitToningShadowHue: 0
- SplitToningShadowSaturation: 0
- Temperature: 4750
- Tint: +13
- ToneCurve: 0, 0, 32, 22, 64, 56, 128, 128, 192, 196, 255, 255
- ToneCurveName: Medium Contrast
- Version: 4.5
- Vibrance: 0
- VignetteAmount: 0
- WhiteBalance: As Shot
- XMP-dc
- Creator: VT
- Format: image/jpeg
- Rights: (C) 2008 Vasiliy Timofeyev
- Subject: Цветок
- Title: Ноготки
- XMP-exif
- ColorSpace: Unknown (-1)
- DateTimeDigitized: 2008:07:06 11:59:52.51+04:00
- DateTimeOriginal: 2008:07:06 11:59:52.51+04:00
- FlashFired: False
- FlashFunction: False
- FlashMode: Off
- FlashRedEyeMode: False
- FlashReturn: No return detection
- XMP-iptcCore
- Location: Волочаевка
- XMP-tiff
- XMP-xmp
- CreateDate: 2008:09:08 19:08:18+04:00
- ModifyDate: 2008:09:08 19:08:18+04:00
- Rating: 1
- XMP-xmpMM
- DerivedFrom:
- PreservedFileName: _MG_6302.CR2
- XMP-xmpRights
- Просмотров: 97
- Рейтинг: голосов еще нет
- Отзывов: 0