Уважаемые друзья и участники проекта iXBT.photo! К сожалению, 1 марта 2026 года проект iXBT.photo прекратит свою работу и будет закрыт. Мы высоко ценим ваше участие и тот вклад, который вы внесли в развитие нашего сообщества. Пожалуйста, не забудьте сохранить ваши фотографии до этой даты.
С уважением, команда iXBT.com
| DSC_1453-2.jpg |
DSC_1453-2.jpg
- Раздел: Портрет
- Дата съёмки: 03.05.2008 18:47
- Дата загрузки фото: 25.01.2009 20:44
- Оригинальная фотография: 2000 x 2898 (2,4 Мб)
- Технические характеристики:
- Фотоаппарат: Nikon D40
- Выдержка: 1/500
- Гиперфокальное расстояние: 26,80 m
- Диафрагма: 5,6
- Светочувствительность: 400
- Фокусное расстояние: 55,0 mm (35 mm equivalent: 82,0 mm)
- Полный EXIF
- Adobe
- ColorTransform: YCbCr
- Composite
- Aperture: 5,6
- CircleOfConfusion: 0,020 mm
- FOV: 24,0 deg
- FocalLength35efl: 55,0 mm (35 mm equivalent: 82,0 mm)
- HyperfocalDistance: 26,80 m
- ScaleFactor35efl: 1,5
- ShutterSpeed: 1/500
- ExifIFD
- ApertureValue: 5,6
- CFAPattern: [Blue,Green][Green,Red]
- Contrast: Normal
- CreateDate: 2008:05:03 18:47:35
- CustomRendered: Normal
- DateTimeOriginal: 2008:05:03 18:47:35
- DigitalZoomRatio: 1
- ExposureCompensation: 0
- ExposureMode: Auto
- ExposureProgram: Aperture-priority AE
- ExposureTime: 1/500
- FNumber: 5,6
- Flash: No Flash
- FocalLength: 55,0 mm
- FocalLengthIn35mmFormat: 82 mm
- GainControl: Low gain up
- ISO: 400
- LightSource: Fine Weather
- MaxApertureValue: 5,7
- MeteringMode: Multi-segment
- Saturation: Normal
- SceneCaptureType: Standard
- SceneType: Directly photographed
- SensingMethod: One-chip color area
- Sharpness: Normal
- ShutterSpeedValue: 1/500
- SubjectDistanceRange: Unknown
- WhiteBalance: Manual
- ICC-header
- ICC-meas
- ICC-view
- IFD0
- Make: NIKON CORPORATION
- Model: NIKON D40
- ModifyDate: 2009:01:25 20:04:15
- Software: Ver.1.10
- XMP-aux
- ImageNumber: 1603
- Lens: 18.0-55.0 mm f/3.5-5.6
- LensInfo: 180/10 550/10 35/10 56/10
- SerialNumber: 6280466
- XMP-crs
- AlreadyApplied: True
- BlueHue: 0
- BlueSaturation: +2
- Brightness: +14
- ChromaticAberrationB: 0
- ChromaticAberrationR: 0
- Clarity: +50
- ColorNoiseReduction: 100
- Contrast: +15
- ConvertToGrayscale: False
- CropAngle: 0
- CropBottom: 1
- CropHeight: 2000
- CropLeft: 0.03663
- CropRight: 1
- CropTop: 0
- CropUnit: 0
- CropWidth: 2898
- Defringe: 0
- Exposure: +1.15
- FillLight: 0
- GreenHue: 0
- GreenSaturation: -100
- HasCrop: True
- HasSettings: True
- HighlightRecovery: 0
- HueAdjustmentAqua: 0
- HueAdjustmentBlue: 0
- HueAdjustmentGreen: 0
- HueAdjustmentMagenta: 0
- HueAdjustmentOrange: 0
- HueAdjustmentPurple: 0
- HueAdjustmentRed: 0
- HueAdjustmentYellow: 0
- LuminanceAdjustmentAqua: 0
- LuminanceAdjustmentBlue: 0
- LuminanceAdjustmentGreen: 0
- LuminanceAdjustmentMagenta: 0
- LuminanceAdjustmentOrange: 0
- LuminanceAdjustmentPurple: 0
- LuminanceAdjustmentRed: 0
- LuminanceAdjustmentYellow: 0
- LuminanceSmoothing: 100
- ParametricDarks: -11
- ParametricHighlightSplit: 75
- ParametricHighlights: +58
- ParametricLights: -6
- ParametricMidtoneSplit: 50
- ParametricShadowSplit: 25
- ParametricShadows: -58
- PostCropVignetteAmount: 0
- RedHue: 0
- RedSaturation: 0
- Saturation: +21
- SaturationAdjustmentAqua: +50
- SaturationAdjustmentBlue: +58
- SaturationAdjustmentGreen: +10
- SaturationAdjustmentMagenta: 0
- SaturationAdjustmentOrange: +13
- SaturationAdjustmentPurple: +23
- SaturationAdjustmentRed: 0
- SaturationAdjustmentYellow: +23
- ShadowTint: 0
- Shadows: 13
- SharpenDetail: 20
- SharpenEdgeMasking: 0
- SharpenRadius: +1.2
- Sharpness: 100
- SplitToningBalance: +100
- SplitToningHighlightHue: 56
- SplitToningHighlightSaturation: 40
- SplitToningShadowHue: 0
- SplitToningShadowSaturation: 0
- Temperature: 5500
- Tint: +10
- ToneCurve: 0, 0, 255, 255
- ToneCurveName: Linear
- Version: 5.2
- Vibrance: 0
- VignetteAmount: -100
- VignetteMidpoint: 28
- WhiteBalance: Daylight
- XMP-exif
- DateTimeDigitized: 2008:05:03 18:47:35.00+04:00
- DateTimeOriginal: 2008:05:03 18:47:35.00+04:00
- ExifImageHeight: 2898
- ExifImageWidth: 2000
- FlashFired: False
- FlashFunction: False
- FlashMode: Unknown
- FlashRedEyeMode: False
- FlashReturn: No return detection
- XMP-tiff
- ImageHeight: 2898
- ImageWidth: 2000
- XMP-xmp
- CreateDate: 2008:05:03 18:47:35.00+04:00
- ModifyDate: 2009:01:25 20:04:15+03:00
- Просмотров: 189
- Рейтинг: голосов еще нет
- Отзывов: 0
Получить код для блога
| Вставка фотографии в текущем разрешении |
Вставка миниатюры |
HTML (для вставки в блог):
BBCode (для вставки в форум):
Ссылка на фото:
Ссылка на миниатюру:
- Послать ссылку другу
| Комментарии к фотографии |