- Раздел: Тесты фототехники
- Дата съёмки: 23.04.2008 09:02
- Дата загрузки фото: 28.01.2009 20:11
- Оригинальная фотография: 1280 x 854 (1,1 Мб)
- Технические характеристики:
- Фотоаппарат: Pentax K100D Super
- Выдержка: 1/800
- Гиперфокальное расстояние: 5,19 m
- Диафрагма: 8,0
- Светочувствительность: 200
- Фокусное расстояние: 29,0 mm (35 mm equivalent: 43,0 mm)
- Полный EXIF
- Adobe
- ColorTransform: YCbCr
- Composite
- Aperture: 8,0
- CircleOfConfusion: 0,020 mm
- FOV: 45,0 deg
- FocalLength35efl: 29,0 mm (35 mm equivalent: 43,0 mm)
- HyperfocalDistance: 5,19 m
- ScaleFactor35efl: 1,5
- ShutterSpeed: 1/800
- ExifIFD
- ApertureValue: 8,0
- CFAPattern: [Red,Green][Green,Blue]
- Contrast: Low
- CreateDate: 2008:04:23 09:02:05
- CustomRendered: Normal
- DateTimeOriginal: 2008:04:23 09:02:05
- ExposureCompensation: 0
- ExposureMode: Manual
- ExposureProgram: Manual
- ExposureTime: 1/800
- FNumber: 8,0
- Flash: Off
- FocalLength: 29,0 mm
- FocalLengthIn35mmFormat: 43 mm
- ISO: 200
- MeteringMode: Spot
- Saturation: Normal
- SceneCaptureType: Standard
- SceneType: Directly photographed
- SensingMethod: One-chip color area
- Sharpness: Normal
- ShutterSpeedValue: 1/800
- SubjectDistanceRange: Distant
- WhiteBalance: Auto
- ICC-header
- ICC-meas
- ICC-view
- IFD0
- Artist: Balashevich Viachaslau
- Copyright: Balashevich Viachaslau (foto-mail@tut.by) For home use only
- Make: PENTAX Corporation
- Model: PENTAX K100D Super
- ModifyDate: 2009:01:28 19:05:54
- Software: K100D Super Ver 1.00
- IPTC
- By-line: Balashevich Viachaslau
- CopyrightNotice: Balashevich Viachaslau (foto-mail@tut.by) For home use only
- XMP-aux
- Lens: smc PENTAX-FA 24-90mm F3.5-4.5 AL[IF]
- LensID: 4 34
- LensInfo: 240/10 900/10 35/10 45/10
- XMP-crs
- AlreadyApplied: True
- BlueHue: 0
- BlueSaturation: 0
- Brightness: +55
- CameraProfile: Embedded
- ChromaticAberrationB: 0
- ChromaticAberrationR: 0
- Clarity: 30
- ColorNoiseReduction: 10
- Contrast: +33
- ConvertToGrayscale: False
- CropAngle: 0.601439
- CropBottom: 1
- CropHeight: 854
- CropLeft: 0.011191
- CropRight: 0.988809
- CropTop: 0
- CropUnit: 0
- CropWidth: 1280
- Defringe: 0
- Exposure: 0.00
- FillLight: 5
- GreenHue: 0
- GreenSaturation: 0
- HasCrop: True
- HasSettings: True
- HighlightRecovery: 0
- HueAdjustmentAqua: 0
- HueAdjustmentBlue: 0
- HueAdjustmentGreen: +10
- HueAdjustmentMagenta: 0
- HueAdjustmentOrange: 0
- HueAdjustmentPurple: 0
- HueAdjustmentRed: 0
- HueAdjustmentYellow: +5
- LuminanceAdjustmentAqua: 0
- LuminanceAdjustmentBlue: 0
- LuminanceAdjustmentGreen: 0
- LuminanceAdjustmentMagenta: 0
- LuminanceAdjustmentOrange: 0
- LuminanceAdjustmentPurple: 0
- LuminanceAdjustmentRed: 0
- LuminanceAdjustmentYellow: 0
- LuminanceSmoothing: 0
- ParametricDarks: 0
- ParametricHighlightSplit: 75
- ParametricHighlights: 0
- ParametricLights: 0
- ParametricMidtoneSplit: 50
- ParametricShadowSplit: 25
- ParametricShadows: 0
- RedHue: 0
- RedSaturation: 0
- Saturation: +10
- SaturationAdjustmentAqua: 0
- SaturationAdjustmentBlue: 0
- SaturationAdjustmentGreen: 0
- SaturationAdjustmentMagenta: 0
- SaturationAdjustmentOrange: 0
- SaturationAdjustmentPurple: 0
- SaturationAdjustmentRed: 0
- SaturationAdjustmentYellow: 0
- ShadowTint: 0
- Shadows: 4
- SharpenDetail: 50
- SharpenEdgeMasking: 0
- SharpenRadius: +1.0
- Sharpness: 50
- SplitToningBalance: 0
- SplitToningHighlightHue: 0
- SplitToningHighlightSaturation: 0
- SplitToningShadowHue: 0
- SplitToningShadowSaturation: 0
- Temperature: 5300
- Tint: +23
- ToneCurve: 0, 0, 32, 22, 64, 56, 128, 128, 192, 196, 255, 255
- ToneCurveName: Medium Contrast
- Version: 1.0
- Vibrance: +10
- VignetteAmount: 0
- WhiteBalance: As Shot
- XMP-dc
- Creator: Balashevich Viachaslau
- Rights: Balashevich Viachaslau (foto-mail@tut.by) For home use only
- XMP-exif
- DateTimeDigitized: 2008:04:23 09:02:05+03:00
- DateTimeOriginal: 2008:04:23 09:02:05+03:00
- FlashFired: False
- FlashFunction: False
- FlashMode: Off
- FlashRedEyeMode: False
- FlashReturn: No return detection
- XMP-tiff
- ImageHeight: 854
- ImageWidth: 1280
- XMP-xmp
- CreateDate: 2008:04:23 09:02:05+03:00
- ModifyDate: 2009:01:28 19:05:54+02:00
- XMP-xmpRights
- Просмотров: 1186
- Рейтинг: голосов еще нет
- Отзывов: 0