Vyshegrad 0049.jpg |
![](img/title-line.gif) |
![](img/title-shadow.gif) | |
Vyshegrad 0049.jpg
- Раздел: Тесты фототехники
- Дата съёмки: 19.06.2008 09:42
- Дата загрузки фото: 28.01.2009 20:11
- Оригинальная фотография: 1280 x 854 (811 Кб)
- Технические характеристики:
- Фотоаппарат: Pentax K100D Super
- Выдержка: 1/180
- Гиперфокальное расстояние: 47,29 m
- Диафрагма: 5,6
- Светочувствительность: 200
- Фокусное расстояние: 73,0 mm (35 mm equivalent: 109,0 mm)
- Полный EXIF
- Adobe
- ColorTransform: YCbCr
- Composite
- Aperture: 5,6
- CircleOfConfusion: 0,020 mm
- FOV: 18,0 deg
- FocalLength35efl: 73,0 mm (35 mm equivalent: 109,0 mm)
- HyperfocalDistance: 47,29 m
- ScaleFactor35efl: 1,5
- ShutterSpeed: 1/180
- ExifIFD
- ApertureValue: 5,6
- CFAPattern: [Red,Green][Green,Blue]
- Contrast: Normal
- CreateDate: 2008:06:19 09:42:09
- CustomRendered: Normal
- DateTimeOriginal: 2008:06:19 09:42:09
- ExposureCompensation: 0
- ExposureMode: Auto
- ExposureProgram: Portrait
- ExposureTime: 1/180
- FNumber: 5,6
- Flash: Off
- FocalLength: 73,0 mm
- FocalLengthIn35mmFormat: 109 mm
- ISO: 200
- MeteringMode: Multi-segment
- Saturation: Normal
- SceneCaptureType: Portrait
- SceneType: Directly photographed
- SensingMethod: One-chip color area
- Sharpness: Normal
- ShutterSpeedValue: 1/180
- SubjectDistanceRange: Close
- WhiteBalance: Auto
- ICC-header
- ICC-meas
- ICC-view
- IFD0
- Copyright: Balashevich Viachaslau (foto-mail@tut.by) For home use only
- Make: PENTAX Corporation
- Model: PENTAX K100D Super
- ModifyDate: 2009:01:28 19:07:09
- Software: K100D Super Ver 1.00
- IPTC
- CopyrightNotice: Balashevich Viachaslau (foto-mail@tut.by) For home use only
- XMP-aux
- Lens: smc PENTAX-FA 24-90mm F3.5-4.5 AL[IF]
- LensID: 4 34
- LensInfo: 240/10 900/10 35/10 45/10
- XMP-crs
- AlreadyApplied: True
- BlueHue: +11
- BlueSaturation: -70
- Brightness: 0
- CameraProfile: ACR 2.4
- ChromaticAberrationB: 0
- ChromaticAberrationR: 0
- Clarity: 0
- ColorNoiseReduction: 25
- Contrast: +23
- ConvertToGrayscale: False
- Defringe: 0
- Exposure: +1.15
- FillLight: 0
- GreenHue: +11
- GreenSaturation: +25
- HasCrop: False
- HasSettings: True
- HighlightRecovery: 33
- HueAdjustmentAqua: 0
- HueAdjustmentBlue: 0
- HueAdjustmentGreen: 0
- HueAdjustmentMagenta: 0
- HueAdjustmentOrange: 0
- HueAdjustmentPurple: 0
- HueAdjustmentRed: 0
- HueAdjustmentYellow: 0
- LuminanceAdjustmentAqua: 0
- LuminanceAdjustmentBlue: 0
- LuminanceAdjustmentGreen: 0
- LuminanceAdjustmentMagenta: 0
- LuminanceAdjustmentOrange: 0
- LuminanceAdjustmentPurple: 0
- LuminanceAdjustmentRed: 0
- LuminanceAdjustmentYellow: 0
- LuminanceSmoothing: 19
- ParametricDarks: -29
- ParametricHighlightSplit: 75
- ParametricHighlights: +40
- ParametricLights: +10
- ParametricMidtoneSplit: 50
- ParametricShadowSplit: 25
- ParametricShadows: -69
- RedHue: +96
- RedSaturation: +3
- Saturation: -15
- SaturationAdjustmentAqua: +50
- SaturationAdjustmentBlue: +58
- SaturationAdjustmentGreen: +10
- SaturationAdjustmentMagenta: 0
- SaturationAdjustmentOrange: +13
- SaturationAdjustmentPurple: +23
- SaturationAdjustmentRed: 0
- SaturationAdjustmentYellow: +23
- ShadowTint: +8
- Shadows: 24
- SharpenDetail: 27
- SharpenEdgeMasking: 0
- SharpenRadius: +0.5
- Sharpness: 68
- SplitToningBalance: 0
- SplitToningHighlightHue: 0
- SplitToningHighlightSaturation: 0
- SplitToningShadowHue: 0
- SplitToningShadowSaturation: 0
- Temperature: 4950
- Tint: +30
- ToneCurve: 0, 0, 255, 255
- ToneCurveName: Linear
- Version: 1.0
- Vibrance: +5
- VignetteAmount: -100
- VignetteMidpoint: 50
- WhiteBalance: As Shot
- XMP-dc
- Rights: Balashevich Viachaslau (foto-mail@tut.by) For home use only
- XMP-exif
- DateTimeDigitized: 2008:06:19 09:42:09+03:00
- DateTimeOriginal: 2008:06:19 09:42:09+03:00
- FlashFired: False
- FlashFunction: False
- FlashMode: Off
- FlashRedEyeMode: False
- FlashReturn: No return detection
- XMP-tiff
- ImageHeight: 854
- ImageWidth: 1280
- XMP-xmp
- CreateDate: 2008:06:19 09:42:09+03:00
- ModifyDate: 2009:01:28 19:07:09+02:00
- XMP-xmpRights
- Просмотров: 796
- Рейтинг: голосов еще нет
- Отзывов: 0
Получить код для блога
Вставка фотографии в текущем разрешении |
Вставка миниатюры |
HTML (для вставки в блог):
BBCode (для вставки в форум):
Ссылка на фото:
Ссылка на миниатюру:
- Послать ссылку другу
Комментарии к фотографии |