| » Участники » erick » Benro C-269 m8 » Головка Benro B-1 |
Уважаемые друзья и участники проекта iXBT.photo! К сожалению, 1 марта 2026 года проект iXBT.photo прекратит свою работу и будет закрыт. Мы высоко ценим ваше участие и тот вклад, который вы внесли в развитие нашего сообщества. Пожалуйста, не забудьте сохранить ваши фотографии до этой даты.
С уважением, команда iXBT.com
| Головка Benro B-1 |
Головка Benro B-1
- Раздел: Тесты фототехники
- Дата съёмки: 28.01.2009 21:05
- Дата загрузки фото: 28.01.2009 21:17
- Оригинальная фотография: 2737 x 2702 (3,0 Мб)
- Технические характеристики:
- Фотоаппарат: Canon EOS 450D
- Выдержка: 1,0
- Гиперфокальное расстояние: 89,75 m
- Диафрагма: 2,0
- Светочувствительность: 400
- Фокусное расстояние: 50,0 mm (35 mm equivalent: 107,9 mm)
- Полный EXIF
- Adobe
- ColorTransform: YCbCr
- Composite
- Aperture: 2,0
- CircleOfConfusion: 0,014 mm
- FOV: 18,0 deg
- FocalLength35efl: 50,0 mm (35 mm equivalent: 107,9 mm)
- HyperfocalDistance: 89,75 m
- LightValue: 0,0
- ScaleFactor35efl: 2,2
- ShutterSpeed: 1,0
- ExifIFD
- ApertureValue: 2,0
- CreateDate: 2009:01:28 21:05:21
- CustomRendered: Normal
- DateTimeOriginal: 2009:01:28 21:05:21
- ExposureCompensation: 0
- ExposureMode: Manual
- ExposureProgram: Manual
- ExposureTime: 1,0
- FNumber: 2,0
- Flash: Off
- FocalLength: 50,0 mm
- ISO: 400
- MaxApertureValue: 2,0
- MeteringMode: Multi-segment
- SceneCaptureType: Standard
- ShutterSpeedValue: 1,0
- WhiteBalance: Manual
- ICC-header
- ICC-meas
- ICC-view
- IFD0
- Make: Canon
- Model: Canon EOS 450D
- ModifyDate: 2009:01:28 20:16:04
- IPTC
- Keywords: 450D
- XMP-aux
- Firmware: 1.0.4
- FlashCompensation: 0
- ImageNumber: 0
- Lens: 50-50mm
- LensInfo: 50/1 50/1 0/0 0/0
- SerialNumber: 580136375
- XMP-crs
- AlreadyApplied: True
- BlueHue: 0
- BlueSaturation: 0
- Brightness: +106
- CameraProfile: Embedded
- ChromaticAberrationB: 0
- ChromaticAberrationR: 0
- Clarity: +100
- ColorNoiseReduction: 0
- Contrast: +70
- ConvertToGrayscale: True
- CropAngle: -2.0891
- CropBottom: 0.953707
- CropHeight: 2702
- CropLeft: 0.220205
- CropRight: 0.883515
- CropTop: 0.040618
- CropUnit: 0
- CropWidth: 2737
- Defringe: 0
- Exposure: 0.00
- FillLight: 5
- GrayMixerAqua: -20
- GrayMixerBlue: +4
- GrayMixerGreen: -24
- GrayMixerMagenta: +7
- GrayMixerOrange: -12
- GrayMixerPurple: +14
- GrayMixerRed: -2
- GrayMixerYellow: -17
- GreenHue: 0
- GreenSaturation: 0
- HasCrop: True
- HasSettings: True
- HighlightRecovery: 0
- IncrementalTemperature: -79
- IncrementalTint: -31
- LuminanceSmoothing: 100
- ParametricDarks: 0
- ParametricHighlightSplit: 75
- ParametricHighlights: 0
- ParametricLights: 0
- ParametricMidtoneSplit: 50
- ParametricShadowSplit: 25
- ParametricShadows: 0
- PostCropVignetteAmount: 0
- RedHue: 0
- RedSaturation: 0
- ShadowTint: 0
- Shadows: 0
- SharpenDetail: 25
- SharpenEdgeMasking: 0
- SharpenRadius: +1.0
- Sharpness: 111
- SplitToningBalance: 0
- SplitToningHighlightHue: 0
- SplitToningHighlightSaturation: 0
- SplitToningShadowHue: 0
- SplitToningShadowSaturation: 0
- ToneCurve: 0, 0, 255, 255
- ToneCurveName: Linear
- Version: 4.5
- VignetteAmount: 0
- WhiteBalance: Custom
- XMP-dc
- XMP-exif
- DateTimeDigitized: 2009:01:28 21:05:21.25+02:00
- DateTimeOriginal: 2009:01:28 21:05:21.25+02:00
- ExifImageHeight: 2702
- ExifImageWidth: 2737
- FlashFired: False
- FlashFunction: False
- FlashMode: Off
- FlashRedEyeMode: False
- FlashReturn: No return detection
- XMP-tiff
- ImageHeight: 2702
- ImageWidth: 2737
- XMP-xmp
- CreateDate: 2009:01:28 21:05:21.25+02:00
- ModifyDate: 2009:01:28 20:16:04+02:00
- Просмотров: 2668
- Рейтинг: голосов еще нет
- Отзывов: 0
Получить код для блога
| Вставка фотографии в текущем разрешении |
Вставка миниатюры |
HTML (для вставки в блог):
BBCode (для вставки в форум):
Ссылка на фото:
Ссылка на миниатюру:
- Послать ссылку другу
| Комментарии к фотографии |