- Раздел: Другое, разное
- Дата съёмки: 16.02.2009 16:47
- Дата загрузки фото: 17.02.2009 10:04
- Оригинальная фотография: 467 x 700 ( 84 Кб)
- Технические характеристики:
- Фотоаппарат: Canon EOS 450D
- Выдержка: 1/320
- Гиперфокальное расстояние: 14,98 m
- Диафрагма: 7,1
- Светочувствительность: 200
- Фокусное расстояние: 18,0 mm (35 mm equivalent: 177,6 mm)
- Экспокоррекция: -2/3
- Полный EXIF
- Adobe
- ColorTransform: YCbCr
- Composite
- Aperture: 7,1
- CircleOfConfusion: 0,003 mm
- FOV: 11,0 deg
- FocalLength35efl: 18,0 mm (35 mm equivalent: 177,6 mm)
- HyperfocalDistance: 14,98 m
- ScaleFactor35efl: 9,9
- ShutterSpeed: 1/320
- ExifIFD
- ApertureValue: 7,1
- ColorSpace: sRGB
- CreateDate: 2009:02:15 15:08:44
- CustomRendered: Normal
- DateTimeOriginal: 2009:02:15 15:08:44
- ExifImageHeight: 700
- ExifImageWidth: 467
- ExposureCompensation: -2/3
- ExposureMode: Auto
- ExposureProgram: Aperture-priority AE
- ExposureTime: 1/320
- FNumber: 7,1
- Flash: Off
- FocalLength: 18,0 mm
- ISO: 200
- MaxApertureValue: 3,5
- MeteringMode: Multi-segment
- SceneCaptureType: Standard
- ShutterSpeedValue: 1/320
- WhiteBalance: Auto
- ICC-header
- ICC-meas
- ICC-view
- IFD0
- Make: Canon
- Model: Canon EOS 450D
- ModifyDate: 2009:02:16 16:47:10
- Orientation: Horizontal (normal)
- IFD1
- IPTC
- XMP-aux
- Firmware: 1.0.9
- FlashCompensation: 0
- ImageNumber: 0
- Lens: EF-S18-55mm f/3.5-5.6 IS
- LensInfo: 18/1 55/1 0/0 0/0
- SerialNumber: 980397873
- XMP-crs
- AlreadyApplied: True
- BlueHue: 0
- BlueSaturation: 0
- Brightness: +54
- CameraProfile: ACR 3.3
- ChromaticAberrationB: 0
- ChromaticAberrationR: 0
- Clarity: 0
- ColorNoiseReduction: 100
- Contrast: +25
- ConvertToGrayscale: False
- Defringe: 0
- Exposure: +0.94
- FillLight: 0
- GreenHue: 0
- GreenSaturation: 0
- HasCrop: False
- HasSettings: True
- HighlightRecovery: 100
- HueAdjustmentAqua: 0
- HueAdjustmentBlue: 0
- HueAdjustmentGreen: 0
- HueAdjustmentMagenta: 0
- HueAdjustmentOrange: 0
- HueAdjustmentPurple: 0
- HueAdjustmentRed: 0
- HueAdjustmentYellow: 0
- LuminanceAdjustmentAqua: 0
- LuminanceAdjustmentBlue: 0
- LuminanceAdjustmentGreen: 0
- LuminanceAdjustmentMagenta: 0
- LuminanceAdjustmentOrange: 0
- LuminanceAdjustmentPurple: 0
- LuminanceAdjustmentRed: 0
- LuminanceAdjustmentYellow: 0
- LuminanceSmoothing: 100
- ParametricDarks: -11
- ParametricHighlightSplit: 75
- ParametricHighlights: +34
- ParametricLights: 0
- ParametricMidtoneSplit: 50
- ParametricShadowSplit: 25
- ParametricShadows: -19
- PostCropVignetteAmount: 0
- RedHue: 0
- RedSaturation: 0
- Saturation: -75
- SaturationAdjustmentAqua: 0
- SaturationAdjustmentBlue: 0
- SaturationAdjustmentGreen: 0
- SaturationAdjustmentMagenta: 0
- SaturationAdjustmentOrange: 0
- SaturationAdjustmentPurple: 0
- SaturationAdjustmentRed: 0
- SaturationAdjustmentYellow: 0
- ShadowTint: 0
- Shadows: 11
- SharpenDetail: 25
- SharpenEdgeMasking: 0
- SharpenRadius: +1.0
- Sharpness: 100
- SplitToningBalance: 0
- SplitToningHighlightHue: 0
- SplitToningHighlightSaturation: 0
- SplitToningShadowHue: 0
- SplitToningShadowSaturation: 0
- Temperature: 5500
- Tint: +1
- ToneCurve: 0, 0, 32, 22, 64, 56, 128, 128, 192, 196, 255, 255
- ToneCurveName: Medium Contrast
- Version: 4.5
- Vibrance: +75
- VignetteAmount: -60
- VignetteMidpoint: 39
- WhiteBalance: As Shot
- XMP-dc
- XMP-exif
- DateTimeDigitized: 2009:02:15 15:08:44.04+03:00
- DateTimeOriginal: 2009:02:15 15:08:44.04+03:00
- FlashFired: False
- FlashFunction: False
- FlashMode: Off
- FlashRedEyeMode: False
- FlashReturn: No return detection
- XMP-tiff
- ImageHeight: 4272
- ImageWidth: 2848
- XMP-xmp
- CreateDate: 2009:02:16 16:47:10+03:00
- ModifyDate: 2009:02:16 16:47:10+03:00
- XMP-xmpMM
- DerivedFrom:
- Просмотров: 115
- Рейтинг: голосов еще нет
- Отзывов: отключены