- Раздел: Другое, разное
- Дата съёмки: 16.02.2009 16:54
- Дата загрузки фото: 17.02.2009 10:06
- Оригинальная фотография: 700 x 467 ( 88 Кб)
- Технические характеристики:
- Фотоаппарат: Canon EOS 450D
- Выдержка: 1/10
- Гиперфокальное расстояние: 34,47 m
- Диафрагма: 11,0
- Светочувствительность: 100
- Фокусное расстояние: 34,0 mm (35 mm equivalent: 335,1 mm)
- Экспокоррекция: -2/3
- Полный EXIF
- Adobe
- ColorTransform: YCbCr
- Composite
- Aperture: 11,0
- CircleOfConfusion: 0,003 mm
- FOV: 6,0 deg
- FocalLength35efl: 34,0 mm (35 mm equivalent: 335,1 mm)
- HyperfocalDistance: 34,47 m
- ScaleFactor35efl: 9,9
- ShutterSpeed: 1/10
- ExifIFD
- ApertureValue: 11,0
- ColorSpace: sRGB
- CreateDate: 2009:02:15 13:41:50
- CustomRendered: Normal
- DateTimeOriginal: 2009:02:15 13:41:50
- ExifImageHeight: 467
- ExifImageWidth: 700
- ExposureCompensation: -2/3
- ExposureMode: Auto
- ExposureProgram: Aperture-priority AE
- ExposureTime: 1/10
- FNumber: 11,0
- Flash: Off
- FocalLength: 34,0 mm
- ISO: 100
- MaxApertureValue: 4,6
- MeteringMode: Multi-segment
- SceneCaptureType: Standard
- ShutterSpeedValue: 1/10
- WhiteBalance: Auto
- ICC-header
- ICC-meas
- ICC-view
- IFD0
- Make: Canon
- Model: Canon EOS 450D
- ModifyDate: 2009:02:16 16:54:01
- Orientation: Horizontal (normal)
- IFD1
- IPTC
- XMP-aux
- Firmware: 1.0.9
- FlashCompensation: 0
- ImageNumber: 0
- Lens: EF-S18-55mm f/3.5-5.6 IS
- LensInfo: 18/1 55/1 0/0 0/0
- SerialNumber: 980397873
- XMP-crs
- AlreadyApplied: True
- BlueHue: 0
- BlueSaturation: 0
- Brightness: +43
- CameraProfile: ACR 2.4
- ChromaticAberrationB: 0
- ChromaticAberrationR: 0
- Clarity: +65
- ColorNoiseReduction: 25
- Contrast: +89
- ConvertToGrayscale: True
- CropAngle: 0
- CropBottom: 0.906593
- CropHeight: 2582
- CropLeft: 0
- CropRight: 0.906593
- CropTop: 0
- CropUnit: 0
- CropWidth: 3873
- Defringe: 0
- Exposure: +0.67
- FillLight: 0
- GrayMixerAqua: -19
- GrayMixerBlue: +11
- GrayMixerGreen: -27
- GrayMixerMagenta: +7
- GrayMixerOrange: -19
- GrayMixerPurple: +18
- GrayMixerRed: -29
- GrayMixerYellow: +10
- GreenHue: 0
- GreenSaturation: 0
- HasCrop: True
- HasSettings: True
- HighlightRecovery: 85
- LuminanceSmoothing: 0
- ParametricDarks: -43
- ParametricHighlightSplit: 75
- ParametricHighlights: 0
- ParametricLights: +21
- ParametricMidtoneSplit: 50
- ParametricShadowSplit: 25
- ParametricShadows: +40
- PostCropVignetteAmount: 0
- RedHue: 0
- RedSaturation: 0
- ShadowTint: 0
- Shadows: 2
- SharpenDetail: 25
- SharpenEdgeMasking: 0
- SharpenRadius: +1.0
- Sharpness: 25
- SplitToningBalance: 0
- SplitToningHighlightHue: 215
- SplitToningHighlightSaturation: 0
- SplitToningShadowHue: 216
- SplitToningShadowSaturation: 0
- Temperature: 4700
- Tint: +1
- ToneCurve: 0, 0, 255, 255
- ToneCurveName: Linear
- Version: 4.5
- VignetteAmount: -100
- VignetteMidpoint: 6
- XMP-dc
- XMP-exif
- DateTimeDigitized: 2009:02:15 13:41:50.03+03:00
- DateTimeOriginal: 2009:02:15 13:41:50.03+03:00
- FlashFired: False
- FlashFunction: False
- FlashMode: Off
- FlashRedEyeMode: False
- FlashReturn: No return detection
- XMP-tiff
- ImageHeight: 2582
- ImageWidth: 3873
- XMP-xmp
- CreateDate: 2009:02:16 16:54:01+03:00
- ModifyDate: 2009:02:16 16:54:01+03:00
- XMP-xmpMM
- DerivedFrom:
- Просмотров: 123
- Рейтинг: голосов еще нет
- Отзывов: отключены