- Раздел: Другое, разное
- Дата съёмки: 18.02.2009 13:46
- Дата загрузки фото: 18.02.2009 13:48
- Оригинальная фотография: 556 x 900 (163 Кб)
- Технические характеристики:
- Фотоаппарат: Samsung GX20
- Выдержка: 1/80
- Гиперфокальное расстояние: 23,83 m
- Диафрагма: 6,3
- Светочувствительность: 200
- Фокусное расстояние: 55,0 mm (35 mm equivalent: 82,0 mm)
- Полный EXIF
- Adobe
- ColorTransform: YCbCr
- Composite
- Aperture: 6,3
- CircleOfConfusion: 0,020 mm
- FOV: 24,0 deg
- FocalLength35efl: 55,0 mm (35 mm equivalent: 82,0 mm)
- HyperfocalDistance: 23,83 m
- ScaleFactor35efl: 1,5
- ShutterSpeed: 1/80
- ExifIFD
- ApertureValue: 6,3
- ColorSpace: sRGB
- Contrast: Normal
- CreateDate: 2009:02:03 16:59:48
- CustomRendered: Normal
- DateTimeOriginal: 2009:02:03 16:59:48
- ExifImageHeight: 900
- ExifImageWidth: 556
- ExposureCompensation: 0
- ExposureMode: Auto
- ExposureProgram: Aperture-priority AE
- ExposureTime: 1/80
- FNumber: 6,3
- Flash: Off
- FocalLength: 55,0 mm
- FocalLengthIn35mmFormat: 82 mm
- ISO: 200
- MeteringMode: Spot
- Saturation: Normal
- SceneCaptureType: Standard
- SensingMethod: One-chip color area
- Sharpness: Normal
- ShutterSpeedValue: 1/80
- SubjectDistanceRange: Macro
- WhiteBalance: Manual
- ICC-header
- ICC-meas
- ICC-view
- IFD0
- Make: SAMSUNG TECHWIN Co.
- Model: SAMSUNG GX20
- ModifyDate: 2009:02:18 13:46:28
- Orientation: Horizontal (normal)
- IFD1
- IPTC
- XMP-aux
- XMP-crs
- AlreadyApplied: True
- BlueHue: 0
- BlueSaturation: 0
- Brightness: +55
- CameraProfile: ACR 4.4
- ChromaticAberrationB: 0
- ChromaticAberrationR: 0
- Clarity: +45
- ColorNoiseReduction: 25
- Contrast: +85
- ConvertToGrayscale: False
- Defringe: 0
- Exposure: 0.00
- FillLight: 30
- GreenHue: 0
- GreenSaturation: 0
- HasCrop: False
- HasSettings: True
- HighlightRecovery: 20
- HueAdjustmentAqua: 0
- HueAdjustmentBlue: 0
- HueAdjustmentGreen: 0
- HueAdjustmentMagenta: 0
- HueAdjustmentOrange: 0
- HueAdjustmentPurple: 0
- HueAdjustmentRed: 0
- HueAdjustmentYellow: 0
- LuminanceAdjustmentAqua: 0
- LuminanceAdjustmentBlue: 0
- LuminanceAdjustmentGreen: 0
- LuminanceAdjustmentMagenta: 0
- LuminanceAdjustmentOrange: 0
- LuminanceAdjustmentPurple: 0
- LuminanceAdjustmentRed: 0
- LuminanceAdjustmentYellow: 0
- LuminanceSmoothing: 0
- ParametricDarks: 0
- ParametricHighlightSplit: 75
- ParametricHighlights: 0
- ParametricLights: 0
- ParametricMidtoneSplit: 50
- ParametricShadowSplit: 25
- ParametricShadows: 0
- PostCropVignetteAmount: 0
- RedHue: 0
- RedSaturation: 0
- Saturation: 0
- SaturationAdjustmentAqua: 0
- SaturationAdjustmentBlue: 0
- SaturationAdjustmentGreen: 0
- SaturationAdjustmentMagenta: 0
- SaturationAdjustmentOrange: 0
- SaturationAdjustmentPurple: 0
- SaturationAdjustmentRed: 0
- SaturationAdjustmentYellow: 0
- ShadowTint: 0
- Shadows: 8
- SharpenDetail: 25
- SharpenEdgeMasking: 0
- SharpenRadius: +1.0
- Sharpness: 61
- SplitToningBalance: 0
- SplitToningHighlightHue: 0
- SplitToningHighlightSaturation: 0
- SplitToningShadowHue: 0
- SplitToningShadowSaturation: 0
- Temperature: 5500
- Tint: 0
- ToneCurve: 0, 0, 32, 22, 64, 56, 128, 128, 192, 196, 255, 255
- ToneCurveName: Medium Contrast
- Version: 5.2
- Vibrance: +40
- VignetteAmount: 0
- WhiteBalance: Flash
- XMP-dc
- XMP-exif
- DateTimeDigitized: 2009:02:03 16:59:48+03:00
- DateTimeOriginal: 2009:02:03 16:59:48+03:00
- FlashFired: False
- FlashFunction: False
- FlashMode: Off
- FlashRedEyeMode: False
- FlashReturn: No return detection
- XMP-tiff
- ImageHeight: 4672
- ImageWidth: 3104
- XMP-xmp
- CreateDate: 2009:02:18 13:46:28+03:00
- ModifyDate: 2009:02:18 13:46:28+03:00
- XMP-xmpMM