Уважаемые друзья и участники проекта iXBT.photo! К сожалению, 1 марта 2026 года проект iXBT.photo прекратит свою работу и будет закрыт. Мы высоко ценим ваше участие и тот вклад, который вы внесли в развитие нашего сообщества. Пожалуйста, не забудьте сохранить ваши фотографии до этой даты.
С уважением, команда iXBT.com
| CHiP/L1000143 21-02-2009.jpg |
CHiP/L1000143 21-02-2009.jpg
- Раздел: Другое, разное
- Дата съёмки: 21.02.2009 19:44
- Дата загрузки фото: 25.02.2009 22:20
- Оригинальная фотография: 1522 x 1024 (462 Кб)
- Технические характеристики:
- Фотоаппарат: Leica Camera AG M8
- Выдержка: 1/90
- Светочувствительность: 160
- Фокусное расстояние: 35,0 mm (35 mm equivalent: 47,0 mm)
- Полный EXIF
- Adobe
- ColorTransform: YCbCr
- Composite
- CircleOfConfusion: 0,022 mm
- FOV: 41,0 deg
- FocalLength35efl: 35,0 mm (35 mm equivalent: 47,0 mm)
- ScaleFactor35efl: 1,3
- ShutterSpeed: 1/90
- ExifIFD
- CreateDate: 2009:02:21 19:44:05
- DateTimeOriginal: 2009:02:21 19:44:05
- DigitalZoomRatio: 0
- ExposureCompensation: 0
- ExposureProgram: Aperture-priority AE
- ExposureTime: 1/90
- Flash: Auto, Did not fire
- FocalLength: 35,0 mm
- FocalLengthIn35mmFormat: 47 mm
- ISO: 160
- LightSource: Unknown
- MaxApertureValue: 1,4
- MeteringMode: Center-weighted average
- SceneCaptureType: Standard
- SceneType: Directly photographed
- ShutterSpeedValue: 1/90
- WhiteBalance: Auto
- ICC-header
- ICC-meas
- ICC-view
- IFD0
- Make: Leica Camera AG
- Model: M8 Digital Camera
- ModifyDate: 2009:02:25 22:11:44
- Software: 2.002
- XMP-aux
- XMP-crs
- AlreadyApplied: True
- BlueHue: 0
- BlueSaturation: 0
- Brightness: 0
- ChromaticAberrationB: 0
- ChromaticAberrationR: 0
- Clarity: 0
- ColorNoiseReduction: 25
- Contrast: 0
- ConvertToGrayscale: False
- Defringe: 0
- Exposure: -0.75
- FillLight: 0
- GreenHue: 0
- GreenSaturation: 0
- HasCrop: False
- HasSettings: True
- HighlightRecovery: 6
- HueAdjustmentAqua: 0
- HueAdjustmentBlue: 0
- HueAdjustmentGreen: 0
- HueAdjustmentMagenta: 0
- HueAdjustmentOrange: 0
- HueAdjustmentPurple: 0
- HueAdjustmentRed: 0
- HueAdjustmentYellow: 0
- LuminanceAdjustmentAqua: 0
- LuminanceAdjustmentBlue: 0
- LuminanceAdjustmentGreen: 0
- LuminanceAdjustmentMagenta: 0
- LuminanceAdjustmentOrange: 0
- LuminanceAdjustmentPurple: 0
- LuminanceAdjustmentRed: 0
- LuminanceAdjustmentYellow: 0
- LuminanceSmoothing: 0
- ParametricDarks: 0
- ParametricHighlightSplit: 75
- ParametricHighlights: 0
- ParametricLights: 0
- ParametricMidtoneSplit: 50
- ParametricShadowSplit: 25
- ParametricShadows: 0
- PostCropVignetteAmount: 0
- RawFileName: L1000143.DNG
- RedHue: 0
- RedSaturation: 0
- Saturation: 0
- SaturationAdjustmentAqua: 0
- SaturationAdjustmentBlue: 0
- SaturationAdjustmentGreen: 0
- SaturationAdjustmentMagenta: 0
- SaturationAdjustmentOrange: 0
- SaturationAdjustmentPurple: 0
- SaturationAdjustmentRed: 0
- SaturationAdjustmentYellow: 0
- ShadowTint: 0
- Shadows: 0
- SharpenDetail: 25
- SharpenEdgeMasking: 0
- SharpenRadius: +1.0
- Sharpness: 25
- SplitToningBalance: 0
- SplitToningHighlightHue: 0
- SplitToningHighlightSaturation: 0
- SplitToningShadowHue: 0
- SplitToningShadowSaturation: 0
- Temperature: 3450
- Tint: +22
- ToneCurve: 0, 0, 32, 22, 64, 56, 128, 128, 192, 196, 255, 255
- ToneCurveName: Medium Contrast
- Version: 5.2
- Vibrance: 0
- VignetteAmount: 0
- WhiteBalance: As Shot
- XMP-exif
- DateTimeDigitized: 2009:02:21 19:44:05+03:00
- DateTimeOriginal: 2009:02:21 19:44:05+03:00
- ExifImageHeight: 1024
- ExifImageWidth: 1522
- FlashFired: False
- FlashFunction: False
- FlashMode: Auto
- FlashRedEyeMode: False
- FlashReturn: No return detection
- XMP-tiff
- ImageHeight: 1024
- ImageWidth: 1522
- XMP-xmp
- CreateDate: 2009:02:21 19:44:05+03:00
- CreatorTool: 2.002
- ModifyDate: 2009:02:25 22:11:44+03:00
- Просмотров: 287
- Рейтинг: голосов еще нет
- Отзывов: 0
Получить код для блога
| Вставка фотографии в текущем разрешении |
Вставка миниатюры |
HTML (для вставки в блог):
BBCode (для вставки в форум):
Ссылка на фото:
Ссылка на миниатюру:
- Послать ссылку другу
| Комментарии к фотографии |