iso 3200 (1600 +1EV) 50% ресайз
Экстремальный опыт так сказать... )
Снималось с рук почти в темноте (посмотрите на зрачки!) при очень тусклой электрической лампочке Ильича под абажуром, расположенной примерно в 3 метрах от лица модели. Не "честное" 3200, а было 1600 и экспокоррекция примерно +1 - то есть по правилам получается примерно 3200 (ну и по результату тоже). Шумы частично задавлены в Neat Image, ресайз 50%. Заметны вертикальные голубоватые полосы - бандинг.
Объектив Asahi Super-Takumar 50mm f/1.4
Фотография была напечатана на фотопринтере Epson на полуглянцевой А4, а также в лабе на матовой бумаге 15х20. Распечатка с принтера по шумам выглядела очень похоже на то, что на полном экране моего 21" Trinitron монитора, но после того, как я покрыл её текстурным гелем Lomond, стало удивительно красиво и похоже на картину, написанную маслом. Полуглянцевый прозрачный гель сыграл роль противошумового фильтра, точнее, создал эстетично выглядящую текстуру, близкую к мазкам масляной кистью.
Шум на отпечатке из лаба (15х20) практически не заметен, заметны только несущественные вертикальные полоски в тенях, но они в отличие от экрана не цветные.
- Раздел: Тесты фототехники
- Дата съёмки: 26.02.2009 21:26
- Дата загрузки фото: 26.02.2009 21:28
- Оригинальная фотография: 1368 x 1824 (3,2 Мб)
- Технические характеристики:
- Фотоаппарат: Olympus E-3
- Выдержка: 1/40
- Диафрагма: 1,4
- Светочувствительность: 1600
- Фокусное расстояние: 50,0 mm
- Полный EXIF
- Adobe
- ColorTransform: YCbCr
- Composite
- Aperture: 1,4
- FocalLength35efl: 50,0 mm
- ShutterSpeed: 1/40
- ExifIFD
- ApertureValue: 1,4
- CFAPattern: [Red,Green][Green,Blue]
- ColorSpace: Uncalibrated
- Contrast: Normal
- CreateDate: 2009:02:10 18:31:50
- CustomRendered: Normal
- DateTimeOriginal: 2009:02:10 18:31:50
- DigitalZoomRatio: 1
- ExifImageHeight: 1824
- ExifImageWidth: 1368
- ExposureCompensation: 0
- ExposureMode: Manual
- ExposureProgram: Manual
- ExposureTime: 1/40
- FNumber: 1,4
- Flash: On, Did not fire
- FocalLength: 50,0 mm
- GainControl: High gain up
- ISO: 1600
- LightSource: Unknown
- MaxApertureValue: 1,4
- MeteringMode: Multi-segment
- Saturation: Normal
- SceneCaptureType: Standard
- Sharpness: Normal
- ShutterSpeedValue: 1/40
- WhiteBalance: Auto
- IFD0
- BitsPerSample: 16 16 16
- ImageDescription: OLYMPUS DIGITAL CAMERA
- ImageHeight: 3648
- ImageWidth: 2736
- Make: OLYMPUS IMAGING CORP.
- Model: E-3
- ModifyDate: 2009:02:26 21:26:56
- Orientation: Horizontal (normal)
- PhotometricInterpretation: RGB
- PlanarConfiguration: Chunky
- SamplesPerPixel: 3
- IFD1
- IPTC
- Caption-Abstract: OLYMPUS DIGITAL CAMERA
- XMP-aux
- FlashCompensation: 0
- Lens: 50.0 mm f/1.4
- LensInfo: 50/1 50/1 14/10 14/10
- LensSerialNumber: ODUVAN3.0
- SerialNumber: D70515771
- XMP-crs
- AlreadyApplied: True
- BlueHue: 0
- BlueSaturation: 0
- Brightness: +50
- CameraProfile: ACR 4.4
- ChromaticAberrationB: 0
- ChromaticAberrationR: 0
- Clarity: +12
- ColorNoiseReduction: 0
- Contrast: +25
- ConvertToGrayscale: False
- Defringe: 0
- Exposure: +1.05
- FillLight: 0
- GreenHue: 0
- GreenSaturation: 0
- HasCrop: False
- HasSettings: True
- HighlightRecovery: 36
- HueAdjustmentAqua: 0
- HueAdjustmentBlue: 0
- HueAdjustmentGreen: 0
- HueAdjustmentMagenta: 0
- HueAdjustmentOrange: 0
- HueAdjustmentPurple: 0
- HueAdjustmentRed: 0
- HueAdjustmentYellow: 0
- LuminanceAdjustmentAqua: 0
- LuminanceAdjustmentBlue: 0
- LuminanceAdjustmentGreen: 0
- LuminanceAdjustmentMagenta: 0
- LuminanceAdjustmentOrange: 0
- LuminanceAdjustmentPurple: 0
- LuminanceAdjustmentRed: 0
- LuminanceAdjustmentYellow: 0
- LuminanceSmoothing: 0
- ParametricDarks: +26
- ParametricHighlightSplit: 75
- ParametricHighlights: 0
- ParametricLights: +7
- ParametricMidtoneSplit: 50
- ParametricShadowSplit: 25
- ParametricShadows: +12
- PostCropVignetteAmount: 0
- RedHue: 0
- RedSaturation: 0
- Saturation: 0
- SaturationAdjustmentAqua: 0
- SaturationAdjustmentBlue: 0
- SaturationAdjustmentGreen: 0
- SaturationAdjustmentMagenta: 0
- SaturationAdjustmentOrange: 0
- SaturationAdjustmentPurple: 0
- SaturationAdjustmentRed: 0
- SaturationAdjustmentYellow: 0
- ShadowTint: 0
- Shadows: 4
- SharpenDetail: 100
- SharpenEdgeMasking: 0
- SharpenRadius: +1.0
- Sharpness: 0
- SplitToningBalance: 0
- SplitToningHighlightHue: 0
- SplitToningHighlightSaturation: 0
- SplitToningShadowHue: 0
- SplitToningShadowSaturation: 0
- Temperature: 2500
- Tint: +11
- ToneCurve: 0, 0, 32, 22, 64, 56, 128, 128, 192, 196, 255, 255
- ToneCurveName: Medium Contrast
- Version: 4.6
- Vibrance: 0
- VignetteAmount: 0
- WhiteBalance: Custom
- XMP-dc
- Description: OLYMPUS DIGITAL CAMERA
- Format: image/jpeg
- XMP-exif
- ColorSpace: Unknown (-1)
- DateTimeDigitized: 2009:02:10 18:31:50+03:00
- DateTimeOriginal: 2009:02:10 18:31:50+03:00
- FlashFired: False
- FlashFunction: False
- FlashMode: On
- FlashRedEyeMode: False
- FlashReturn: No return detection
- XMP-tiff
- BitsPerSample: 16, 16, 16
- XMP-xmp
- CreateDate: 2009:02:26 21:26:56+03:00
- ModifyDate: 2009:02:26 21:26:56+03:00
- XMP-xmpMM
- DerivedFrom:
- Просмотров: 1291
- Рейтинг: голосов еще нет
- Отзывов: 0
Получить код для блога
Вставка фотографии в текущем разрешении |
Вставка миниатюры |
HTML (для вставки в блог):
BBCode (для вставки в форум):
Ссылка на фото:
Ссылка на миниатюру:
- Послать ссылку другу
Комментарии к фотографии |