- Раздел: Другое, разное
- Дата съёмки: 28.02.2009 13:05
- Дата загрузки фото: 28.02.2009 16:41
- Оригинальная фотография: 2592 x 2325 (316 Кб)
- Технические характеристики:
- Фотоаппарат: Nikon D200
- Выдержка: 1/200
- Гиперфокальное расстояние: 112,33 m
- Диафрагма: 10,0
- Светочувствительность: 100
- Фокусное расстояние: 150,0 mm (35 mm equivalent: 225,0 mm)
- Полный EXIF
- Adobe
- ColorTransform: YCbCr
- Composite
- Aperture: 10,0
- CircleOfConfusion: 0,020 mm
- FOV: 9,0 deg
- FocalLength35efl: 150,0 mm (35 mm equivalent: 225,0 mm)
- HyperfocalDistance: 112,33 m
- ScaleFactor35efl: 1,5
- ShutterSpeed: 1/200
- ExifIFD
- ApertureValue: 10,0
- CFAPattern: [Green,Red][Blue,Green]
- Contrast: High
- CreateDate: 2009:02:28 13:05:06
- CustomRendered: Normal
- DateTimeOriginal: 2009:02:28 13:05:06
- DigitalZoomRatio: 1
- ExposureCompensation: 0
- ExposureMode: Manual
- ExposureProgram: Manual
- ExposureTime: 1/200
- FNumber: 10,0
- Flash: No Flash
- FocalLength: 150,0 mm
- FocalLengthIn35mmFormat: 225 mm
- GainControl: None
- ISO: 100
- LightSource: Unknown
- MaxApertureValue: 2,8
- MeteringMode: Multi-segment
- Saturation: High
- SceneCaptureType: Standard
- SceneType: Directly photographed
- SensingMethod: One-chip color area
- Sharpness: Hard
- ShutterSpeedValue: 1/200
- SubjectDistanceRange: Unknown
- UserComment: ILYA_MGP@MAIL.RU;ICQ:86080981 (C)TiN
- WhiteBalance: Auto
- ICC-header
- ICC-meas
- ICC-view
- IFD0
- Make: NIKON CORPORATION
- Model: NIKON D200
- ModifyDate: 2009:02:28 14:26:56
- Software: Ver.2.01
- XMP-aux
- ImageNumber: 23980
- Lens: 150.0 mm f/2.8
- LensInfo: 1500/10 1500/10 28/10 28/10
- XMP-crs
- AlreadyApplied: True
- BlueHue: 0
- BlueSaturation: 0
- Brightness: +61
- ChromaticAberrationB: 0
- ChromaticAberrationR: 0
- Clarity: +14
- ColorNoiseReduction: 25
- Contrast: +48
- ConvertToGrayscale: False
- CropAngle: 0
- CropBottom: 1
- CropHeight: 2592
- CropLeft: 0
- CropRight: 0.600454
- CropTop: 0
- CropUnit: 0
- CropWidth: 2325
- Defringe: 0
- Exposure: 0.00
- FillLight: 14
- GreenHue: 0
- GreenSaturation: 0
- HasCrop: True
- HasSettings: True
- HighlightRecovery: 0
- HueAdjustmentAqua: 0
- HueAdjustmentBlue: 0
- HueAdjustmentGreen: 0
- HueAdjustmentMagenta: 0
- HueAdjustmentOrange: 0
- HueAdjustmentPurple: 0
- HueAdjustmentRed: 0
- HueAdjustmentYellow: 0
- LuminanceAdjustmentAqua: 0
- LuminanceAdjustmentBlue: 0
- LuminanceAdjustmentGreen: 0
- LuminanceAdjustmentMagenta: 0
- LuminanceAdjustmentOrange: 0
- LuminanceAdjustmentPurple: 0
- LuminanceAdjustmentRed: 0
- LuminanceAdjustmentYellow: 0
- LuminanceSmoothing: 0
- ParametricDarks: 0
- ParametricHighlightSplit: 75
- ParametricHighlights: 0
- ParametricLights: 0
- ParametricMidtoneSplit: 50
- ParametricShadowSplit: 25
- ParametricShadows: 0
- PostCropVignetteAmount: 0
- RedHue: 0
- RedSaturation: 0
- Saturation: 0
- SaturationAdjustmentAqua: 0
- SaturationAdjustmentBlue: 0
- SaturationAdjustmentGreen: 0
- SaturationAdjustmentMagenta: 0
- SaturationAdjustmentOrange: 0
- SaturationAdjustmentPurple: 0
- SaturationAdjustmentRed: 0
- SaturationAdjustmentYellow: 0
- ShadowTint: 0
- Shadows: 5
- SharpenDetail: 25
- SharpenEdgeMasking: 0
- SharpenRadius: +1.0
- Sharpness: 25
- SplitToningBalance: 0
- SplitToningHighlightHue: 0
- SplitToningHighlightSaturation: 0
- SplitToningShadowHue: 0
- SplitToningShadowSaturation: 0
- Temperature: 5350
- Tint: -7
- ToneCurve: 0, 0, 32, 22, 64, 56, 128, 128, 192, 196, 255, 255
- ToneCurveName: Medium Contrast
- Version: 5.2
- Vibrance: 0
- VignetteAmount: 0
- WhiteBalance: As Shot
- XMP-exif
- DateTimeDigitized: 2009:02:28 13:05:06.50+02:00
- DateTimeOriginal: 2009:02:28 13:05:06.50+02:00
- ExifImageHeight: 2325
- ExifImageWidth: 2592
- FlashFired: False
- FlashFunction: False
- FlashMode: Unknown
- FlashRedEyeMode: False
- FlashReturn: No return detection
- XMP-tiff
- ImageHeight: 2325
- ImageWidth: 2592
- XMP-xmp
- CreateDate: 2009:02:28 13:05:06.50+02:00
- ModifyDate: 2009:02:28 14:26:56+02:00
- Просмотров: 231
- Рейтинг: голосов еще нет
- Отзывов: 0