Уважаемые друзья и участники проекта iXBT.photo! К сожалению, 1 марта 2026 года проект iXBT.photo прекратит свою работу и будет закрыт. Мы высоко ценим ваше участие и тот вклад, который вы внесли в развитие нашего сообщества. Пожалуйста, не забудьте сохранить ваши фотографии до этой даты.
С уважением, команда iXBT.com
| Горицкий монастырь |
Горицкий монастырь
- Раздел: Архитектура
- Дата съёмки: 21.06.2008 12:10
- Дата загрузки фото: 01.03.2009 02:14
- Оригинальная фотография: 1500 x 1004 (585 Кб)
- Технические характеристики:
- Фотоаппарат: FujiFilm FinePix S5Pro
- Выдержка: 1/90
- Гиперфокальное расстояние: 5,98 m
- Диафрагма: 7,1
- Светочувствительность: 100
- Фокусное расстояние: 29,0 mm (35 mm equivalent: 44,0 mm)
- Экспокоррекция: +0,67
- Полный EXIF
- Adobe
- ColorTransform: YCbCr
- Composite
- Aperture: 7,1
- CircleOfConfusion: 0,020 mm
- FOV: 44,0 deg
- FocalLength35efl: 29,0 mm (35 mm equivalent: 44,0 mm)
- HyperfocalDistance: 5,98 m
- ScaleFactor35efl: 1,5
- ShutterSpeed: 1/90
- ExifIFD
- ApertureValue: 7,1
- BrightnessValue: 7,91
- ColorSpace: sRGB
- Contrast: Normal
- CreateDate: 2008:06:21 12:10:55
- CustomRendered: Normal
- DateTimeOriginal: 2008:06:21 12:10:55
- ExifImageHeight: 1004
- ExifImageWidth: 1500
- ExposureCompensation: +0,67
- ExposureMode: Auto
- ExposureProgram: Aperture-priority AE
- ExposureTime: 1/90
- FNumber: 7,1
- Flash: Off
- FocalLength: 29,0 mm
- FocalLengthIn35mmFormat: 44 mm
- ISO: 100
- LightSource: Unknown
- MaxApertureValue: 2,8
- MeteringMode: Multi-segment
- Saturation: Normal
- SceneCaptureType: Standard
- SceneType: Directly photographed
- SensingMethod: One-chip color area
- Sharpness: Normal
- ShutterSpeedValue: 1/90
- SubjectDistanceRange: Unknown
- UserComment: (C)ANDREY I.KHODAK AIH3@PROGTECH.RU
- WhiteBalance: Auto
- ICC-header
- ICC-meas
- ICC-view
- IFD0
- Make: FUJIFILM
- Model: FinePix S5Pro
- ModifyDate: 2009:03:01 00:13:17
- Orientation: Horizontal (normal)
- IFD1
- IPTC
- XMP-aux
- Lens: 17.0-50.0 mm f/2.8
- LensInfo: 1700/100 5000/100 280/100 280/100
- XMP-crs
- AlreadyApplied: True
- BlueHue: 0
- BlueSaturation: +9
- Brightness: +50
- CameraProfile: ACR 4.4
- ChromaticAberrationB: +20
- ChromaticAberrationR: -16
- Clarity: 0
- ColorNoiseReduction: 0
- Contrast: +84
- ConvertToGrayscale: False
- CropAngle: 0
- CropBottom: 1
- CropLeft: 0
- CropRight: 1
- CropTop: 0
- Defringe: 1
- Exposure: +0.17
- FillLight: 32
- GradientBasedCorrectionsCorrectionActive: true
- GradientBasedCorrectionsCorrectionAmount: 1.000000
- GradientBasedCorrectionsCorrectionMasksFullX: 0.464927
- GradientBasedCorrectionsCorrectionMasksFullY: -0.003659
- GradientBasedCorrectionsCorrectionMasksMaskValue: 1.000000
- GradientBasedCorrectionsCorrectionMasksWhat: Mask/Gradient
- GradientBasedCorrectionsCorrectionMasksZeroX: 0.466558
- GradientBasedCorrectionsCorrectionMasksZeroY: 0.624390
- GradientBasedCorrectionsLocalBrightness: -0.037000
- GradientBasedCorrectionsLocalClarity: 0.000000
- GradientBasedCorrectionsLocalContrast: 0.593000
- GradientBasedCorrectionsLocalExposure: -0.185000
- GradientBasedCorrectionsLocalSaturation: 0.000000
- GradientBasedCorrectionsLocalSharpness: 0.000000
- GradientBasedCorrectionsLocalToningHue: 0.000000
- GradientBasedCorrectionsLocalToningSaturation: 0.000000
- GradientBasedCorrectionsWhat: Correction
- GreenHue: +12
- GreenSaturation: +12
- HasCrop: True
- HasSettings: True
- HighlightRecovery: 0
- HueAdjustmentAqua: 0
- HueAdjustmentBlue: -2
- HueAdjustmentGreen: +7
- HueAdjustmentMagenta: 0
- HueAdjustmentOrange: 0
- HueAdjustmentPurple: 0
- HueAdjustmentRed: 0
- HueAdjustmentYellow: 0
- LuminanceAdjustmentAqua: 0
- LuminanceAdjustmentBlue: -12
- LuminanceAdjustmentGreen: -7
- LuminanceAdjustmentMagenta: 0
- LuminanceAdjustmentOrange: 0
- LuminanceAdjustmentPurple: 0
- LuminanceAdjustmentRed: 0
- LuminanceAdjustmentYellow: 0
- LuminanceSmoothing: 0
- ParametricDarks: 0
- ParametricHighlightSplit: 75
- ParametricHighlights: 0
- ParametricLights: 0
- ParametricMidtoneSplit: 50
- ParametricShadowSplit: 25
- ParametricShadows: 0
- PostCropVignetteAmount: 0
- RawFileName: _DSF2791.RAF
- RedHue: 0
- RedSaturation: +11
- Saturation: 0
- SaturationAdjustmentAqua: +2
- SaturationAdjustmentBlue: +5
- SaturationAdjustmentGreen: -7
- SaturationAdjustmentMagenta: 0
- SaturationAdjustmentOrange: 0
- SaturationAdjustmentPurple: 0
- SaturationAdjustmentRed: 0
- SaturationAdjustmentYellow: 0
- ShadowTint: 0
- Shadows: 3
- SharpenDetail: 25
- SharpenEdgeMasking: 0
- SharpenRadius: +0.7
- Sharpness: 25
- SplitToningBalance: 0
- SplitToningHighlightHue: 0
- SplitToningHighlightSaturation: 0
- SplitToningShadowHue: 57
- SplitToningShadowSaturation: 3
- Temperature: 4950
- Tint: +3
- ToneCurve: 0, 0, 32, 22, 64, 56, 128, 128, 192, 196, 255, 255
- ToneCurveName: Medium Contrast
- Version: 5.3
- Vibrance: 0
- VignetteAmount: 0
- WhiteBalance: As Shot
- XMP-dc
- XMP-exif
- DateTimeDigitized: 2008:06:21 12:10:55+04:00
- DateTimeOriginal: 2008:06:21 12:10:55+04:00
- FlashFired: False
- FlashFunction: False
- FlashMode: Off
- FlashRedEyeMode: False
- FlashReturn: No return detection
- XMP-tiff
- XMP-xmp
- CreateDate: 2008:06:21 12:10:55+04:00
- CreatorTool: Digital Camera FinePix S5Pro Ver1.09
- ModifyDate: 2009:03:01 00:13:17+03:00
- Rating: 0
- XMP-xmpMM
Получить код для блога
| Вставка фотографии в текущем разрешении |
Вставка миниатюры |
HTML (для вставки в блог):
BBCode (для вставки в форум):
Ссылка на фото:
Ссылка на миниатюру:
- Послать ссылку другу
| Комментарии к фотографии |