- Раздел: Другое, разное
- Дата съёмки: 23.02.2009 18:09
- Дата загрузки фото: 03.03.2009 02:06
- Оригинальная фотография: 2592 x 3872 (3,2 Мб)
- Технические характеристики:
- Фотоаппарат: Samsung GX10
- Выдержка: 1/2000
- Гиперфокальное расстояние: 101,93 m
- Диафрагма: 2,4
- Светочувствительность: 100
- Фокусное расстояние: 70,0 mm (35 mm equivalent: 105,0 mm)
- Полный EXIF
- Adobe
- ColorTransform: YCbCr
- Composite
- Aperture: 2,4
- CircleOfConfusion: 0,020 mm
- FOV: 19,0 deg
- FocalLength35efl: 70,0 mm (35 mm equivalent: 105,0 mm)
- HyperfocalDistance: 101,93 m
- ScaleFactor35efl: 1,5
- ShutterSpeed: 1/2000
- ExifIFD
- ApertureValue: 2,4
- Contrast: Normal
- CreateDate: 2009:02:23 18:09:55
- CustomRendered: Normal
- DateTimeOriginal: 2009:02:23 18:09:55
- ExposureCompensation: 0
- ExposureMode: Auto
- ExposureProgram: Aperture-priority AE
- ExposureTime: 1/2000
- FNumber: 2,4
- Flash: Off
- FocalLength: 70,0 mm
- FocalLengthIn35mmFormat: 105 mm
- ISO: 100
- MeteringMode: Multi-segment
- Saturation: Normal
- SceneCaptureType: Standard
- SensingMethod: One-chip color area
- Sharpness: Normal
- ShutterSpeedValue: 1/2000
- SubjectDistanceRange: Distant
- WhiteBalance: Auto
- ICC-header
- ICC-meas
- ICC-view
- IFD0
- Make: SAMSUNG TECHWIN Co.
- Model: SAMSUNG GX10
- ModifyDate: 2009:02:28 11:22:03
- Software: GX10 Ver 1.30
- XMP-aux
- Lens: smc PENTAX-DA 70mm F2.4 Limited
- LensID: 7 243
- LensInfo: 700/10 700/10 24/10 24/10
- XMP-crs
- AlreadyApplied: True
- BlueHue: 0
- BlueSaturation: 0
- Brightness: +150
- CameraProfile: ACR 4.4
- ChromaticAberrationB: 0
- ChromaticAberrationR: 0
- Clarity: 0
- ColorNoiseReduction: 25
- Contrast: +82
- ConvertToGrayscale: True
- Defringe: 0
- Exposure: 0.00
- FillLight: 17
- GrayMixerAqua: -19
- GrayMixerBlue: +9
- GrayMixerGreen: -27
- GrayMixerMagenta: +4
- GrayMixerOrange: -18
- GrayMixerPurple: +15
- GrayMixerRed: -9
- GrayMixerYellow: -22
- GreenHue: 0
- GreenSaturation: 0
- HasCrop: False
- HasSettings: True
- HighlightRecovery: 0
- LuminanceSmoothing: 0
- ParametricDarks: -45
- ParametricHighlightSplit: 75
- ParametricHighlights: -24
- ParametricLights: -26
- ParametricMidtoneSplit: 50
- ParametricShadowSplit: 25
- ParametricShadows: +42
- PostCropVignetteAmount: -29
- PostCropVignetteFeather: 50
- PostCropVignetteMidpoint: 50
- PostCropVignetteRoundness: 0
- RedHue: 0
- RedSaturation: 0
- ShadowTint: 0
- Shadows: 24
- SharpenDetail: 25
- SharpenEdgeMasking: 0
- SharpenRadius: +1.0
- Sharpness: 25
- SplitToningBalance: 0
- SplitToningHighlightHue: 53
- SplitToningHighlightSaturation: 8
- SplitToningShadowHue: 46
- SplitToningShadowSaturation: 5
- Temperature: 6881
- Tint: -18
- ToneCurve: 0, 0, 32, 22, 64, 56, 128, 128, 192, 196, 255, 255
- ToneCurveName: Medium Contrast
- Version: 5.2
- VignetteAmount: -100
- VignetteMidpoint: 17
- WhiteBalance: Custom
- XMP-exif
- DateTimeDigitized: 2009:02:23 18:09:55+03:00
- DateTimeOriginal: 2009:02:23 18:09:55+03:00
- ExifImageHeight: 3872
- ExifImageWidth: 2592
- FlashFired: False
- FlashFunction: False
- FlashMode: Off
- FlashRedEyeMode: False
- FlashReturn: No return detection
- XMP-tiff
- ImageHeight: 3872
- ImageWidth: 2592
- XMP-xmp
- CreateDate: 2009:02:23 18:09:55+03:00
- ModifyDate: 2009:02:28 11:22:03+03:00
- Просмотров: 143
- Рейтинг: голосов еще нет
- Отзывов: 0