- Раздел: Другое, разное
- Дата съёмки: 23.02.2009 17:49
- Дата загрузки фото: 03.03.2009 02:07
- Оригинальная фотография: 2592 x 3872 (2,8 Мб)
- Технические характеристики:
- Фотоаппарат: Samsung GX10
- Выдержка: 1/4000
- Гиперфокальное расстояние: 97,85 m
- Диафрагма: 2,5
- Светочувствительность: 100
- Фокусное расстояние: 70,0 mm (35 mm equivalent: 105,0 mm)
- Полный EXIF
- Adobe
- ColorTransform: YCbCr
- Composite
- Aperture: 2,5
- CircleOfConfusion: 0,020 mm
- FOV: 19,0 deg
- FocalLength35efl: 70,0 mm (35 mm equivalent: 105,0 mm)
- HyperfocalDistance: 97,85 m
- ScaleFactor35efl: 1,5
- ShutterSpeed: 1/4000
- ExifIFD
- ApertureValue: 2,5
- Contrast: Normal
- CreateDate: 2009:02:23 17:49:21
- CustomRendered: Normal
- DateTimeOriginal: 2009:02:23 17:49:21
- ExposureCompensation: 0
- ExposureMode: Auto
- ExposureProgram: Aperture-priority AE
- ExposureTime: 1/4000
- FNumber: 2,5
- Flash: Off
- FocalLength: 70,0 mm
- FocalLengthIn35mmFormat: 105 mm
- ISO: 100
- MeteringMode: Multi-segment
- Saturation: Normal
- SceneCaptureType: Standard
- SensingMethod: One-chip color area
- Sharpness: Normal
- ShutterSpeedValue: 1/4000
- SubjectDistanceRange: Distant
- WhiteBalance: Auto
- ICC-header
- ICC-meas
- ICC-view
- IFD0
- Make: SAMSUNG TECHWIN Co.
- Model: SAMSUNG GX10
- ModifyDate: 2009:02:28 11:26:56
- Software: GX10 Ver 1.30
- XMP-aux
- Lens: smc PENTAX-DA 70mm F2.4 Limited
- LensID: 7 243
- LensInfo: 700/10 700/10 24/10 24/10
- XMP-crs
- AlreadyApplied: True
- BlueHue: 0
- BlueSaturation: 0
- Brightness: +6
- CameraProfile: ACR 4.4
- ChromaticAberrationB: 0
- ChromaticAberrationR: 0
- Clarity: +62
- ColorNoiseReduction: 25
- Contrast: +100
- ConvertToGrayscale: True
- Defringe: 0
- Exposure: +2.04
- FillLight: 52
- GrayMixerAqua: -16
- GrayMixerBlue: +15
- GrayMixerGreen: -27
- GrayMixerMagenta: +5
- GrayMixerOrange: -20
- GrayMixerPurple: +19
- GrayMixerRed: -6
- GrayMixerYellow: -24
- GreenHue: 0
- GreenSaturation: 0
- HasCrop: False
- HasSettings: True
- HighlightRecovery: 90
- LuminanceSmoothing: 0
- ParametricDarks: -72
- ParametricHighlightSplit: 75
- ParametricHighlights: +96
- ParametricLights: +17
- ParametricMidtoneSplit: 50
- ParametricShadowSplit: 25
- ParametricShadows: -100
- PostCropVignetteAmount: 0
- RedHue: 0
- RedSaturation: 0
- ShadowTint: 0
- Shadows: 71
- SharpenDetail: 43
- SharpenEdgeMasking: 0
- SharpenRadius: +1.1
- Sharpness: 37
- SplitToningBalance: 0
- SplitToningHighlightHue: 46
- SplitToningHighlightSaturation: 0
- SplitToningShadowHue: 237
- SplitToningShadowSaturation: 0
- Temperature: 5617
- Tint: +1
- ToneCurve: 0, 0, 32, 16, 64, 50, 128, 128, 192, 202, 255, 255
- ToneCurveName: Strong Contrast
- Version: 5.2
- VignetteAmount: 0
- WhiteBalance: Custom
- XMP-exif
- DateTimeDigitized: 2009:02:23 17:49:21+03:00
- DateTimeOriginal: 2009:02:23 17:49:21+03:00
- ExifImageHeight: 3872
- ExifImageWidth: 2592
- FlashFired: False
- FlashFunction: False
- FlashMode: Off
- FlashRedEyeMode: False
- FlashReturn: No return detection
- XMP-tiff
- ImageHeight: 3872
- ImageWidth: 2592
- XMP-xmp
- CreateDate: 2009:02:23 17:49:21+03:00
- ModifyDate: 2009:02:28 11:26:56+03:00
- Просмотров: 162
- Рейтинг: голосов еще нет
- Отзывов: 0