- Раздел: Тесты фототехники
- Дата съёмки: 21.03.2009 12:25
- Дата загрузки фото: 21.03.2009 20:04
- Оригинальная фотография: 3070 x 2263 (2,9 Мб)
- Технические характеристики:
- Фотоаппарат: Olympus E-3
- Выдержка: 1/1250
- Диафрагма: 4,5
- Светочувствительность: 400
- Фокусное расстояние: 50,0 mm
- Полный EXIF
- Adobe
- ColorTransform: YCbCr
- Composite
- Aperture: 4,5
- FocalLength35efl: 50,0 mm
- ShutterSpeed: 1/1250
- ExifIFD
- ApertureValue: 4,5
- CFAPattern: [Red,Green][Green,Blue]
- Contrast: Normal
- CreateDate: 2009:03:21 12:25:55
- CustomRendered: Normal
- DateTimeOriginal: 2009:03:21 12:25:55
- DigitalZoomRatio: 1
- ExposureCompensation: 0
- ExposureMode: Manual
- ExposureProgram: Manual
- ExposureTime: 1/1250
- FNumber: 4,5
- Flash: On, Did not fire
- FocalLength: 50,0 mm
- GainControl: High gain up
- ISO: 400
- LightSource: Unknown
- MaxApertureValue: 1,4
- MeteringMode: Multi-segment
- Saturation: Normal
- SceneCaptureType: Standard
- Sharpness: Normal
- ShutterSpeedValue: 1/1250
- WhiteBalance: Auto
- ICC-header
- ICC-meas
- ICC-view
- IFD0
- ImageDescription: OLYMPUS DIGITAL CAMERA
- Make: OLYMPUS IMAGING CORP.
- Model: E-3
- ModifyDate: 2009:03:21 15:56:45
- Software: Version 1.2
- IPTC
- Caption-Abstract: OLYMPUS DIGITAL CAMERA
- XMP-aux
- FlashCompensation: 0
- Lens: 50.0 mm f/1.4
- LensInfo: 50/1 50/1 14/10 14/10
- LensSerialNumber: ODUVAN3.0
- SerialNumber: D70515771
- XMP-crs
- AlreadyApplied: True
- BlueHue: 0
- BlueSaturation: 0
- Brightness: +68
- CameraProfile: ACR 4.4
- ChromaticAberrationB: 0
- ChromaticAberrationR: 0
- Clarity: +12
- ColorNoiseReduction: 17
- Contrast: +64
- ConvertToGrayscale: False
- CropAngle: 0
- CropBottom: 1
- CropHeight: 2263
- CropLeft: 0.093638
- CropRight: 0.935174
- CropTop: 0.1728
- CropUnit: 0
- CropWidth: 3070
- Defringe: 2
- Exposure: 0.00
- FillLight: 12
- GreenHue: 0
- GreenSaturation: 0
- HasCrop: True
- HasSettings: True
- HighlightRecovery: 75
- HueAdjustmentAqua: 0
- HueAdjustmentBlue: 0
- HueAdjustmentGreen: 0
- HueAdjustmentMagenta: 0
- HueAdjustmentOrange: 0
- HueAdjustmentPurple: 0
- HueAdjustmentRed: 0
- HueAdjustmentYellow: 0
- LuminanceAdjustmentAqua: 0
- LuminanceAdjustmentBlue: 0
- LuminanceAdjustmentGreen: 0
- LuminanceAdjustmentMagenta: 0
- LuminanceAdjustmentOrange: 0
- LuminanceAdjustmentPurple: 0
- LuminanceAdjustmentRed: 0
- LuminanceAdjustmentYellow: 0
- LuminanceSmoothing: 23
- ParametricDarks: 0
- ParametricHighlightSplit: 75
- ParametricHighlights: 0
- ParametricLights: -26
- ParametricMidtoneSplit: 50
- ParametricShadowSplit: 25
- ParametricShadows: -7
- PostCropVignetteAmount: 0
- RedHue: 0
- RedSaturation: 0
- Saturation: 0
- SaturationAdjustmentAqua: 0
- SaturationAdjustmentBlue: 0
- SaturationAdjustmentGreen: 0
- SaturationAdjustmentMagenta: 0
- SaturationAdjustmentOrange: 0
- SaturationAdjustmentPurple: 0
- SaturationAdjustmentRed: 0
- SaturationAdjustmentYellow: 0
- ShadowTint: 0
- Shadows: 45
- SharpenDetail: 100
- SharpenEdgeMasking: 5
- SharpenRadius: +1.0
- Sharpness: 25
- SplitToningBalance: 0
- SplitToningHighlightHue: 0
- SplitToningHighlightSaturation: 0
- SplitToningShadowHue: 0
- SplitToningShadowSaturation: 0
- Temperature: 5400
- Tint: +11
- ToneCurve: 0, 0, 32, 22, 64, 56, 128, 128, 192, 196, 255, 255
- ToneCurveName: Medium Contrast
- Version: 4.6
- Vibrance: +5
- VignetteAmount: 0
- WhiteBalance: Custom
- XMP-dc
- Description: OLYMPUS DIGITAL CAMERA
- XMP-exif
- DateTimeDigitized: 2009:03:21 12:25:55+03:00
- DateTimeOriginal: 2009:03:21 12:25:55+03:00
- ExifImageHeight: 2263
- ExifImageWidth: 3070
- FlashFired: False
- FlashFunction: False
- FlashMode: On
- FlashRedEyeMode: False
- FlashReturn: No return detection
- XMP-tiff
- ImageHeight: 2263
- ImageWidth: 3070
- XMP-xmp
- CreateDate: 2009:03:21 12:25:55+03:00
- ModifyDate: 2009:03:21 15:56:45+03:00
- Просмотров: 1554
- Рейтинг: голосов еще нет
- Отзывов: 0