- Раздел: Пейзаж
- Дата съёмки: 28.12.2008 20:50
- Дата загрузки фото: 23.03.2009 22:40
- Оригинальная фотография: 800 x 528 (271 Кб)
- Технические характеристики:
- Фотоаппарат: Nikon D60
- Выдержка: 1/15
- Гиперфокальное расстояние: 97,97 m
- Диафрагма: 5,6
- Светочувствительность: 800
- Фокусное расстояние: 105,0 mm (35 mm equivalent: 157,0 mm)
- Полный EXIF
- Adobe
- ColorTransform: YCbCr
- Composite
- Aperture: 5,6
- CircleOfConfusion: 0,020 mm
- FOV: 13,0 deg
- FocalLength35efl: 105,0 mm (35 mm equivalent: 157,0 mm)
- HyperfocalDistance: 97,97 m
- ScaleFactor35efl: 1,5
- ShutterSpeed: 1/15
- ExifIFD
- ApertureValue: 5,6
- CFAPattern: [Green,Blue][Red,Green]
- ColorSpace: sRGB
- Contrast: Normal
- CreateDate: 2008:12:28 16:31:35
- CustomRendered: Normal
- DateTimeOriginal: 2008:12:28 16:31:35
- DigitalZoomRatio: 1
- ExifImageHeight: 528
- ExifImageWidth: 800
- ExposureCompensation: 0
- ExposureMode: Auto
- ExposureProgram: Program AE
- ExposureTime: 1/15
- FNumber: 5,6
- Flash: No Flash
- FocalLength: 105,0 mm
- FocalLengthIn35mmFormat: 157 mm
- GainControl: Low gain up
- ISO: 800
- LightSource: Unknown
- MaxApertureValue: 5,7
- MeteringMode: Multi-segment
- Saturation: Normal
- SceneCaptureType: Standard
- SceneType: Directly photographed
- SensingMethod: One-chip color area
- Sharpness: Normal
- ShutterSpeedValue: 1/15
- SubjectDistanceRange: Unknown
- WhiteBalance: Auto
- ICC-header
- ICC-meas
- ICC-view
- IFD0
- Make: NIKON CORPORATION
- Model: NIKON D60
- ModifyDate: 2008:12:28 20:50:02
- Orientation: Horizontal (normal)
- IFD1
- IPTC
- XMP-aux
- ImageNumber: 443
- Lens: 18.0-105.0 mm f/3.5-5.6
- LensInfo: 180/10 1050/10 35/10 56/10
- SerialNumber: 6130422
- XMP-crs
- AlreadyApplied: True
- BlueHue: 0
- BlueSaturation: 0
- Brightness: +31
- CameraProfile: ACR 4.4
- ChromaticAberrationB: 0
- ChromaticAberrationR: 0
- Clarity: 37
- ColorNoiseReduction: 25
- Contrast: 0
- ConvertToGrayscale: False
- Defringe: 0
- Exposure: 0.00
- FillLight: 0
- GreenHue: 0
- GreenSaturation: 0
- HasCrop: False
- HasSettings: True
- HighlightRecovery: 19
- HueAdjustmentAqua: 0
- HueAdjustmentBlue: 0
- HueAdjustmentGreen: 0
- HueAdjustmentMagenta: 0
- HueAdjustmentOrange: 0
- HueAdjustmentPurple: 0
- HueAdjustmentRed: 0
- HueAdjustmentYellow: 0
- LuminanceAdjustmentAqua: 0
- LuminanceAdjustmentBlue: 0
- LuminanceAdjustmentGreen: 0
- LuminanceAdjustmentMagenta: 0
- LuminanceAdjustmentOrange: 0
- LuminanceAdjustmentPurple: 0
- LuminanceAdjustmentRed: 0
- LuminanceAdjustmentYellow: 0
- LuminanceSmoothing: 0
- ParametricDarks: 0
- ParametricHighlightSplit: 75
- ParametricHighlights: 0
- ParametricLights: 0
- ParametricMidtoneSplit: 50
- ParametricShadowSplit: 25
- ParametricShadows: 0
- RawFileName: DSC_0359.NEF
- RedHue: 0
- RedSaturation: 0
- Saturation: 0
- SaturationAdjustmentAqua: 0
- SaturationAdjustmentBlue: 0
- SaturationAdjustmentGreen: 0
- SaturationAdjustmentMagenta: 0
- SaturationAdjustmentOrange: 0
- SaturationAdjustmentPurple: 0
- SaturationAdjustmentRed: 0
- SaturationAdjustmentYellow: 0
- ShadowTint: 0
- Shadows: 5
- SharpenDetail: 25
- SharpenEdgeMasking: 0
- SharpenRadius: +1.0
- Sharpness: 25
- SplitToningBalance: 0
- SplitToningHighlightHue: 0
- SplitToningHighlightSaturation: 0
- SplitToningShadowHue: 0
- SplitToningShadowSaturation: 0
- Temperature: 3550
- Tint: -27
- ToneCurve: 0, 0, 32, 22, 64, 56, 128, 128, 192, 196, 255, 255
- ToneCurveName: Medium Contrast
- Version: 4.4.1
- Vibrance: 0
- VignetteAmount: 0
- WhiteBalance: Custom
- XMP-dc
- XMP-exif
- DateTimeDigitized: 2008:12:28 16:31:35.20+03:00
- DateTimeOriginal: 2008:12:28 16:31:35.20+03:00
- FlashFired: False
- FlashFunction: False
- FlashMode: Unknown
- FlashRedEyeMode: False
- FlashReturn: No return detection
- XMP-tiff
- XMP-xmp
- CreateDate: 2008:12:28 20:50:02+03:00
- ModifyDate: 2008:12:28 20:50:02+03:00
- Rating: 0
- XMP-xmpMM
- DerivedFrom:
- Просмотров: 110
- Рейтинг: голосов еще нет
- Отзывов: 0