Портрет ушастой совы II
пришлось убедить что я тучка, тучка, тучка, и вовсе не медведь... :)
- Раздел: Животные
- Дата съёмки: 29.03.2009 19:40
- Дата загрузки фото: 31.03.2009 13:19
- Оригинальная фотография: 996 x 1024 (209 Кб)
- Технические характеристики:
- Фотоаппарат: Canon EOS 40D
- Выдержка: 1/160
- Гиперфокальное расстояние: 5509,41 m
- Диафрагма: 8,0
- Светочувствительность: 800
- Фокусное расстояние: 500,0 mm (35 mm equivalent: 2648,6 mm)
- Полный EXIF
- Adobe
- ColorTransform: YCbCr
- Composite
- Aperture: 8,0
- CircleOfConfusion: 0,006 mm
- FOV: 0,0 deg
- FocalLength35efl: 500,0 mm (35 mm equivalent: 2648,6 mm)
- HyperfocalDistance: 5509,41 m
- ScaleFactor35efl: 5,3
- ShutterSpeed: 1/160
- ExifIFD
- ApertureValue: 8,0
- ColorSpace: sRGB
- CreateDate: 2009:03:29 12:25:57
- CustomRendered: Normal
- DateTimeOriginal: 2009:03:29 12:25:57
- ExifImageHeight: 1024
- ExifImageWidth: 996
- ExposureCompensation: 0
- ExposureMode: Auto
- ExposureProgram: Aperture-priority AE
- ExposureTime: 1/160
- FNumber: 8,0
- Flash: Off
- FocalLength: 500,0 mm
- ISO: 800
- MaxApertureValue: 6,2
- MeteringMode: Spot
- SceneCaptureType: Standard
- ShutterSpeedValue: 1/160
- WhiteBalance: Auto
- ICC-header
- ICC-meas
- ICC-view
- IFD0
- Make: Canon
- Model: Canon EOS 40D
- ModifyDate: 2009:03:29 19:40:20
- Orientation: Horizontal (normal)
- IFD1
- IPTC
- XMP-aux
- Firmware: 1.0.3
- FlashCompensation: 0
- ImageNumber: 0
- Lens: 150-500mm
- LensInfo: 150/1 500/1 0/0 0/0
- SerialNumber: 610202560
- XMP-crs
- AlreadyApplied: True
- BlueHue: 0
- BlueSaturation: 0
- Brightness: +50
- CameraProfile: ACR 4.2
- ChromaticAberrationB: 0
- ChromaticAberrationR: 0
- Clarity: 10
- ColorNoiseReduction: 25
- Contrast: +25
- ConvertToGrayscale: False
- Defringe: 0
- Exposure: -0.10
- FillLight: 2
- GreenHue: 0
- GreenSaturation: 0
- HasCrop: False
- HasSettings: True
- HighlightRecovery: 5
- HueAdjustmentAqua: 0
- HueAdjustmentBlue: 0
- HueAdjustmentGreen: 0
- HueAdjustmentMagenta: 0
- HueAdjustmentOrange: 0
- HueAdjustmentPurple: 0
- HueAdjustmentRed: 0
- HueAdjustmentYellow: 0
- LuminanceAdjustmentAqua: 0
- LuminanceAdjustmentBlue: 0
- LuminanceAdjustmentGreen: 0
- LuminanceAdjustmentMagenta: 0
- LuminanceAdjustmentOrange: 0
- LuminanceAdjustmentPurple: 0
- LuminanceAdjustmentRed: 0
- LuminanceAdjustmentYellow: 0
- LuminanceSmoothing: 0
- ParametricDarks: 0
- ParametricHighlightSplit: 75
- ParametricHighlights: 0
- ParametricLights: 0
- ParametricMidtoneSplit: 50
- ParametricShadowSplit: 25
- ParametricShadows: 0
- RawFileName: IMG_2072.CR2
- RedHue: 0
- RedSaturation: 0
- Saturation: +5
- SaturationAdjustmentAqua: 0
- SaturationAdjustmentBlue: 0
- SaturationAdjustmentGreen: 0
- SaturationAdjustmentMagenta: 0
- SaturationAdjustmentOrange: 0
- SaturationAdjustmentPurple: 0
- SaturationAdjustmentRed: 0
- SaturationAdjustmentYellow: 0
- ShadowTint: 0
- Shadows: 8
- SharpenDetail: 40
- SharpenEdgeMasking: 0
- SharpenRadius: +1.5
- Sharpness: 40
- SplitToningBalance: 0
- SplitToningHighlightHue: 0
- SplitToningHighlightSaturation: 0
- SplitToningShadowHue: 0
- SplitToningShadowSaturation: 0
- Temperature: 4750
- Tint: 0
- ToneCurve: 0, 0, 32, 22, 64, 56, 128, 128, 192, 196, 255, 255
- ToneCurveName: Medium Contrast
- Version: 4.2
- Vibrance: 0
- VignetteAmount: 0
- WhiteBalance: As Shot
- XMP-dc
- XMP-exif
- DateTimeDigitized: 2009:03:29 12:25:57.86+03:00
- DateTimeOriginal: 2009:03:29 12:25:57.86+03:00
- FlashFired: False
- FlashFunction: False
- FlashMode: Off
- FlashRedEyeMode: False
- FlashReturn: No return detection
- XMP-tiff
- XMP-xmp
- CreateDate: 2009:03:29 19:40:20+03:00
- ModifyDate: 2009:03:29 19:40:20+03:00
- Rating: 0
- XMP-xmpMM
- DerivedFrom:
Получить код для блога
Вставка фотографии в текущем разрешении |
Вставка миниатюры |
HTML (для вставки в блог):
BBCode (для вставки в форум):
Ссылка на фото:
Ссылка на миниатюру:
- Послать ссылку другу
Комментарии к фотографии |