» Участники » drunk_pencil » FujiFilm FinePix S5600 » Intel Core 2 duo — Conroe — чистка вентилятора (после) |
Intel Core 2 duo — Conroe — чистка вентилятора (после) |
Intel Core 2 duo — Conroe — чистка вентилятора (после)
- Раздел: Другое, разное
- Дата съёмки: 29.08.2008 15:17
- Дата загрузки фото: 01.04.2009 21:33
- Оригинальная фотография: 1516 x 1582 (999 Кб)
- Технические характеристики:
- Фотоаппарат: FujiFilm FinePix S5600
- Выдержка: 1/13
- Гиперфокальное расстояние: 1,99 m
- Диафрагма: 3,6
- Светочувствительность: 64
- Фокусное расстояние: 6,3 mm (35 mm equivalent: 34,1 mm)
- Полный EXIF
- Adobe
- ColorTransform: YCbCr
- Composite
- Aperture: 3,6
- CircleOfConfusion: 0,006 mm
- FOV: 55,0 deg
- FocalLength35efl: 6,3 mm (35 mm equivalent: 34,1 mm)
- HyperfocalDistance: 1,99 m
- ScaleFactor35efl: 5,4
- ShutterSpeed: 1/13
- ExifIFD
- ApertureValue: 3,6
- BrightnessValue: 3,04
- CreateDate: 2008:08:29 15:17:30
- CustomRendered: Normal
- DateTimeOriginal: 2008:08:29 15:17:30
- ExposureCompensation: 0
- ExposureMode: Auto
- ExposureProgram: Aperture-priority AE
- ExposureTime: 1/13
- FNumber: 3,6
- Flash: Off
- FocalLength: 6,3 mm
- ISO: 64
- LightSource: Shade
- MaxApertureValue: 3,2
- MeteringMode: Multi-segment
- SceneCaptureType: Standard
- SceneType: Directly photographed
- SensingMethod: One-chip color area
- Sharpness: Normal
- ShutterSpeedValue: 1/13
- SubjectDistanceRange: Unknown
- WhiteBalance: Manual
- ICC-header
- IFD0
- Make: FUJIFILM
- Model: FinePix S5600
- ModifyDate: 2008:08:29 23:21:01
- Software: Digital Camera FinePix S5600 Ver1.00
- XMP-crs
- AlreadyApplied: True
- BlueHue: 0
- BlueSaturation: 0
- Brightness: 0
- CameraProfile: ACR 3.6
- ChromaticAberrationB: 0
- ChromaticAberrationR: 0
- Clarity: 0
- ColorNoiseReduction: 100
- Contrast: 0
- ConvertToGrayscale: False
- CropAngle: -0
- CropBottom: 0.755975
- CropLeft: 0.087248
- CropRight: 0.901007
- CropTop: 0.171069
- Defringe: 0
- Exposure: 0.00
- FillLight: 0
- GreenHue: 0
- GreenSaturation: 0
- HasCrop: True
- HasSettings: True
- HighlightRecovery: 19
- HueAdjustmentAqua: 0
- HueAdjustmentBlue: 0
- HueAdjustmentGreen: 0
- HueAdjustmentMagenta: 0
- HueAdjustmentOrange: 0
- HueAdjustmentPurple: 0
- HueAdjustmentRed: 0
- HueAdjustmentYellow: 0
- LuminanceAdjustmentAqua: 0
- LuminanceAdjustmentBlue: 0
- LuminanceAdjustmentGreen: 0
- LuminanceAdjustmentMagenta: 0
- LuminanceAdjustmentOrange: 0
- LuminanceAdjustmentPurple: 0
- LuminanceAdjustmentRed: 0
- LuminanceAdjustmentYellow: 0
- LuminanceSmoothing: 100
- ParametricDarks: 0
- ParametricHighlightSplit: 75
- ParametricHighlights: 0
- ParametricLights: 0
- ParametricMidtoneSplit: 50
- ParametricShadowSplit: 25
- ParametricShadows: 0
- RawFileName: DSCF4064.RAF
- RedHue: 0
- RedSaturation: 0
- Saturation: 0
- SaturationAdjustmentAqua: 0
- SaturationAdjustmentBlue: 0
- SaturationAdjustmentGreen: 0
- SaturationAdjustmentMagenta: 0
- SaturationAdjustmentOrange: 0
- SaturationAdjustmentPurple: 0
- SaturationAdjustmentRed: 0
- SaturationAdjustmentYellow: 0
- ShadowTint: 0
- Shadows: 0
- SharpenDetail: 100
- SharpenEdgeMasking: 0
- SharpenRadius: +0.5
- Sharpness: 0
- SplitToningBalance: 0
- SplitToningHighlightHue: 0
- SplitToningHighlightSaturation: 0
- SplitToningShadowHue: 0
- SplitToningShadowSaturation: 0
- Temperature: 5550
- Tint: 0
- ToneCurve: 0, 0, 255, 255
- ToneCurveName: Linear
- Version: 4.3.1
- Vibrance: 0
- VignetteAmount: 0
- WhiteBalance: Custom
- XMP-exif
- DateTimeDigitized: 2008:08:29 15:17:30+03:00
- DateTimeOriginal: 2008:08:29 15:17:30+03:00
- FlashFired: False
- FlashFunction: False
- FlashMode: Off
- FlashRedEyeMode: False
- FlashReturn: No return detection
- XMP-tiff
- ImageHeight: 1582
- ImageWidth: 1516
- XMP-xmp
- CreatorTool: Digital Camera FinePix S5600 Ver1.00
- ModifyDate: 2008:08:29 23:21:01+03:00
- Просмотров: 1164
- Рейтинг: голосов еще нет
- Отзывов: 0
Получить код для блога
Вставка фотографии в текущем разрешении |
Вставка миниатюры |
HTML (для вставки в блог):
BBCode (для вставки в форум):
Ссылка на фото:
Ссылка на миниатюру:
- Послать ссылку другу
Комментарии к фотографии |